{"text_format":"1","workbook":"xlsx","n_sheets":8,"sheets":["Cover sheet","Report","1) Select data","2) Check for series resistance","3) Built-in voltage compensatio","4) Select data for fitting","Validation","Version control, testing"],"not_rendered":{"charts":6,"images":0,"macros":1,"external_links":0,"defined_names":47,"comments":0,"pivot_tables":0},"unopened":[],"bounds":{"document_bytes":16777216,"sheet_cells":100000,"rows_first":2000,"rows_last":500,"rows_between":2000,"halvings":0,"cell_chars":16384,"cell_head_chars":4096},"cells_cut":0,"cells_raw":0,"read":"whole","date_system":"1900"}

{"sheet":"Cover sheet","index":0,"n_rows":23,"n_cols":2,"rows_kept":23,"cut":false,"hidden":false,"merged":[]}
[null,"Spreadsheet for extracting a space-charge limited mobility benchmark from a single hole-only or electron-only current-voltage curve"]
[null,"NPL Management ltd."]
[]
[]
[null,"Introduction"]
[null,"This spreadsheet is a tool developed by NPL to assist in extracting mobility benchmark values from single current-voltage curves according to the accompanying protocol. "]
[null,"This version is designed for version 2 of the protocol entitled \"Protocol for extracting a space-charge limited mobility benchmark from a single hole-only or electron-only current-voltage curve\"."]
[null,"Please read the protocol before using."]
[null,"This tool is provided free of charge. The authors and NPL management Ltd. accept no liability for loss, injury or harm caused by the use of this spreadsheet."]
[]
[null,"Instructions"]
[null,"It is recommended that you reload the orginal empty workbook for each set of data and immediately select 'Save As' to create one copy per I-V curve."]
[]
[null,"Yellow boxes indicate data entry required"]
[null,"Start by entering data into sheet 1). When each sheet is complete, move onto the next one."]
[null,"The report sheet will be filled in automatically as the procedure is completed."]
[null,"Each sheet contains space for notes and comments that will be reproduced on the report page."]
[null,"Ignore the warnings about negative or zero values not displaying on log plots."]
[]
[null,"Manual fitting can be performed on page 4) by adjusting the 'Fit γ' and 'Fit log10(μ0)' parameters in case the automatic fitting fails."]
[]
[]
[null,"Please report bugs to james.blakesley@npl.co.uk"]

{"sheet":"Report","index":1,"n_rows":35,"n_cols":9,"rows_kept":35,"cut":false,"hidden":false,"merged":[[13,7,15,9],[17,7,19,9],[3,2,3,5],[4,3,4,5],[3,7,3,10],[4,8,4,10],[9,7,11,9]]}
[null,null,"Status:",{"$f":"Validation!E16","v":"Step 1 incomplete"}]
[]
[]
["1)",null,"Raw data",null,null,null,null,"Selected data"]
[null,null,"Filename:",{"$f":"IF(Validation!E6=TRUE,'1) Select data'!C12,\"\")","v":""},null,null,null,"Description of selected data:",{"$f":"IF(Validation!E6=TRUE,'1) Select data'!I12,\"\")","v":""}]
[]
[null,null,null,"Film thickness, d",{"$f":"d_cm*10000000","v":0},"nm"]
[null,null,null,"Device area, A",{"$f":"A","v":0},"cm2"]
[null,null,null,null,null,null,null,"Notes:"]
["2)",null,null,"Series resistance compensation?",{"$f":"'2) Check for series resistance'!C31","v":false},null,null,{"$f":"IF('2) Check for series resistance'!B25=\"Record notes /  comments here\",\"\",'2) Check for series resistance'!B25)","v":""}]
[null,null,null,"Series resistance, Rs",{"$f":"IF(E10=TRUE,R_s,\"N/A\")","v":"N/A"},"Ω"]
[null,null,null,"Excluded voltages V_int >",{"$f":"V_ex1","v":1000000},"V"]
[null,null,null,null,null,null,null,"Notes:"]
["3)",null,null,"Built in voltage compensation?",{"$f":"'3) Built-in voltage compensatio'!C26","v":false},null,null,{"$f":"IF('3) Built-in voltage compensatio'!B21=\"Record notes /  comments here\",\"\",'3) Built-in voltage compensatio'!B21)","v":""}]
[null,null,null,"V_BI value",{"$f":"IF(E14=TRUE,V_bi,\"N/A\")","v":"N/A"},"V"]
[null,null,null,"Exclude V_int <",{"$f":"IF(E14=TRUE,V_ex2,\"none\")","v":"none"},"V"]
[null,null,null,null,null,null,null,"Notes:"]
["4)",null,null,"Relative dielectric constant, εr",3.5,null,null,{"$f":"IF('4) Select data for fitting'!C23=\"Record notes /  comments here\",\"\",'4) Select data for fitting'!C23)","v":""}]
[null,null,null,"Internal voltage range selected for fitting"]
[null,null,null,"min",{"$f":"'4) Select data for fitting'!E27","v":0}]
[null,null,null,"max",{"$f":"'4) Select data for fitting'!E28","v":1000000}]
[]
["5)",null,null,"Fitted?",{"$f":"Validation!I12","v":true}]
[]
[null,null,null,"Fit results:"]
[null,null,null,"μ0 =",{"$f":"IF(E23=TRUE,mu0,\"\")","v":1.6461462206448568E-5},"cm2/Vs"]
[null,null,null,"γ =",{"$f":"IF(E23=TRUE,gamma,\"\")","v":2.9197742776603821E-3},"cm1/2/V1/2"]
[]
[null,null,null,"Field range of good fit:"]
[null,null,null,"min",{"$f":"MIN('4) Select data for fitting'!M39:M756)/d_cm","v":{"$error":"#DIV/0!"}},"V/cm"]
[null,null,null,"max",{"$f":"MAX('4) Select data for fitting'!M39:M756)/d_cm","v":{"$error":"#DIV/0!"}},"V/cm"]
[]
[null,null,null,"Mobility at selected electric field =",{"$f":"IF(E23=TRUE,E26*EXP(E27*SQRT(E34)),\"\")","v":7.0874390620313452E-5},"cm2/Vs"]
[null,null,null,"at F = ",250000,"V/cm"]
[null,null,null,{"$f":"IF(OR(E34<E30,E34>E31),\"Selected field is out of good fit range\",\"Good fit at this electric field\")","v":{"$error":"#DIV/0!"}}]

{"sheet":"1) Select data","index":2,"n_rows":788,"n_cols":27,"rows_kept":788,"cut":false,"hidden":false,"merged":[[0,1,0,17],[4,1,4,17],[5,1,5,17],[6,1,6,17],[2,1,2,10],[3,1,3,10],[12,1,12,4],[11,2,11,4],[12,7,12,10],[10,1,10,4],[10,7,10,10],[11,8,11,10]]}
[null,"1)                  Select the data to be used for analysis:"]
[]
[null,"·         If positive and negative voltages are available, select either the positive voltage or negative voltage range, whichever gives the highest current. If negative voltages are selected, the voltage and current values will be inverted so that the data can be plotted in the first quadrant of a graph."]
[null,"·         If the data contains voltage sweeps in two directions (increasing voltage and decreasing voltage), select data where the voltage is swept away from zero volts. Voltage should rise or fall monotnically in selected data."]
[null,"·         If the voltage sweeps were repeated, choose data from the last sweep in the sequence."]
[null,"·         Reject any data that is clearly unstable."]
[null,"·         Record which data is selected."]
[]
[null,{"$f":"COUNT(H16:H701)","v":0},"data points selected"]
[]
[null,"Raw data",null,null,null,null,null,"Selected data"]
[null,"Filename:","Insert filename here",null,null,null,null,"Description of selected data:","Descrbe selected data here"]
[null,"Paste complete raw data below",null,null,null,null,null,"Select data according to above rules and paste selected data below"]
[]
[null,"Voltage (V)","Current (A)",null,null,null,null,"Voltage (V)","Current (A)",null,null,null,null,null,null,null,null,null,null,null,null,null,null,null,"Abs raw current (A)","Abs selected voltage (V)","Abs selected current (A)"]
[null,"paste here","paste here",null,null,null,null,"paste here","paste here",null,null,null,null,null,null,null,null,null,null,null,null,null,null,null,{"$f":"ABS(C16)","v":{"$error":"#VALUE!"}},{"$f":"ABS(H16)","v":{"$error":"#VALUE!"}},{"$f":"ABS(I16)","v":{"$error":"#VALUE!"}}]
[null,null,null,null,null,null,null,null,null,null,null,null,null,null,null,null,null,null,null,null,null,null,null,null,0,{"$f":"ABS(H17)","v":0},{"$f":"ABS(I17)","v":0}]
[null,null,null,null,null,null,null,null,null,null,null,null,null,null,null,null,null,null,null,null,null,null,null,null,0,0,0]
[null,null,null,null,null,null,null,null,null,null,null,null,null,null,null,null,null,null,null,null,null,null,null,null,0,0,0]
[null,null,null,null,null,null,null,null,null,null,null,null,null,null,null,null,null,null,null,null,null,null,null,null,0,0,0]
[null,null,null,null,null,null,null,null,null,null,null,null,null,null,null,null,null,null,null,null,null,null,null,null,0,0,0]
[null,null,null,null,null,null,null,null,null,null,null,null,null,null,null,null,null,null,null,null,null,null,null,null,0,0,0]
[null,null,null,null,null,null,null,null,null,null,null,null,null,null,null,null,null,null,null,null,null,null,null,null,0,0,0]
[null,null,null,null,null,null,null,null,null,null,null,null,null,null,null,null,null,null,null,null,null,null,null,null,0,0,0]
[null,null,null,null,null,null,null,null,null,null,null,null,null,null,null,null,null,null,null,null,null,null,null,null,0,0,0]
[null,null,null,null,null,null,null,null,null,null,null,null,null,null,null,null,null,null,null,null,null,null,null,null,0,0,0]
[null,null,null,null,null,null,null,null,null,null,null,null,null,null,null,null,null,null,null,null,null,null,null,null,0,0,0]
[null,null,null,null,null,null,null,null,null,null,null,null,null,null,null,null,null,null,null,null,null,null,null,null,0,0,0]
[null,null,null,null,null,null,null,null,null,null,null,null,null,null,null,null,null,null,null,null,null,null,null,null,0,0,0]
[null,null,null,null,null,null,null,null,null,null,null,null,null,null,null,null,null,null,null,null,null,null,null,null,0,0,0]
[null,null,null,null,null,null,null,null,null,null,null,null,null,null,null,null,null,null,null,null,null,null,null,null,0,0,0]
[null,null,null,null,null,null,null,null,null,null,null,null,null,null,null,null,null,null,null,null,null,null,null,null,0,0,0]
[null,null,null,null,null,null,null,null,null,null,null,null,null,null,null,null,null,null,null,null,null,null,null,null,0,0,0]
[null,null,null,null,null,null,null,null,null,null,null,null,null,null,null,null,null,null,null,null,null,null,null,null,0,0,0]
[null,null,null,null,null,null,null,null,null,null,null,null,null,null,null,null,null,null,null,null,null,null,null,null,0,0,0]
[null,null,null,null,null,null,null,null,null,null,null,null,null,null,null,null,null,null,null,null,null,null,null,null,0,0,0]
[null,null,null,null,null,null,null,null,null,null,null,null,null,null,null,null,null,null,null,null,null,null,null,null,0,0,0]
[null,null,null,null,null,null,null,null,null,null,null,null,null,null,null,null,null,null,null,null,null,null,null,null,0,0,0]
[null,null,null,null,null,null,null,null,null,null,null,null,null,null,null,null,null,null,null,null,null,null,null,null,0,0,0]
[null,null,null,null,null,null,null,null,null,null,null,null,null,null,null,null,null,null,null,null,null,null,null,null,0,0,0]
[null,null,null,null,null,null,null,null,null,null,null,null,null,null,null,null,null,null,null,null,null,null,null,null,0,0,0]
[null,null,null,null,null,null,null,null,null,null,null,null,null,null,null,null,null,null,null,null,null,null,null,null,0,0,0]
[null,null,null,null,null,null,null,null,null,null,null,null,null,null,null,null,null,null,null,null,null,null,null,null,0,0,0]
[null,null,null,null,null,null,null,null,null,null,null,null,null,null,null,null,null,null,null,null,null,null,null,null,0,0,0]
[null,null,null,null,null,null,null,null,null,null,null,null,null,null,null,null,null,null,null,null,null,null,null,null,0,0,0]
[null,null,null,null,null,null,null,null,null,null,null,null,null,null,null,null,null,null,null,null,null,null,null,null,0,0,0]
[null,null,null,null,null,null,null,null,null,null,null,null,null,null,null,null,null,null,null,null,null,null,null,null,0,0,0]
[null,null,null,null,null,null,null,null,null,null,null,null,null,null,null,null,null,null,null,null,null,null,null,null,0,0,0]
[null,null,null,null,null,null,null,null,null,null,null,null,null,null,null,null,null,null,null,null,null,null,null,null,0,0,0]
[null,null,null,null,null,null,null,null,null,null,null,null,null,null,null,null,null,null,null,null,null,null,null,null,0,0,0]
[null,null,null,null,null,null,null,null,null,null,null,null,null,null,null,null,null,null,null,null,null,null,null,null,0,0,0]
[null,null,null,null,null,null,null,null,null,null,null,null,null,null,null,null,null,null,null,null,null,null,null,null,0,0,0]
[null,null,null,null,null,null,null,null,null,null,null,null,null,null,null,null,null,null,null,null,null,null,null,null,0,0,0]
[null,null,null,null,null,null,null,null,null,null,null,null,null,null,null,null,null,null,null,null,null,null,null,null,0,0,0]
[null,null,null,null,null,null,null,null,null,null,null,null,null,null,null,null,null,null,null,null,null,null,null,null,0,0,0]
[null,null,null,null,null,null,null,null,null,null,null,null,null,null,null,null,null,null,null,null,null,null,null,null,0,0,0]
[null,null,null,null,null,null,null,null,null,null,null,null,null,null,null,null,null,null,null,null,null,null,null,null,0,0,0]
[null,null,null,null,null,null,null,null,null,null,null,null,null,null,null,null,null,null,null,null,null,null,null,null,0,0,0]
[null,null,null,null,null,null,null,null,null,null,null,null,null,null,null,null,null,null,null,null,null,null,null,null,0,0,0]
[null,null,null,null,null,null,null,null,null,null,null,null,null,null,null,null,null,null,null,null,null,null,null,null,0,0,0]
[null,null,null,null,null,null,null,null,null,null,null,null,null,null,null,null,null,null,null,null,null,null,null,null,0,0,0]
[null,null,null,null,null,null,null,null,null,null,null,null,null,null,null,null,null,null,null,null,null,null,null,null,0,0,0]
[null,null,null,null,null,null,null,null,null,null,null,null,null,null,null,null,null,null,null,null,null,null,null,null,0,0,0]
[null,null,null,null,null,null,null,null,null,null,null,null,null,null,null,null,null,null,null,null,null,null,null,null,0,0,0]
[null,null,null,null,null,null,null,null,null,null,null,null,null,null,null,null,null,null,null,null,null,null,null,null,0,0,0]
[null,null,null,null,null,null,null,null,null,null,null,null,null,null,null,null,null,null,null,null,null,null,null,null,0,0,0]
[null,null,null,null,null,null,null,null,null,null,null,null,null,null,null,null,null,null,null,null,null,null,null,null,0,0,0]
[null,null,null,null,null,null,null,null,null,null,null,null,null,null,null,null,null,null,null,null,null,null,null,null,0,0,0]
[null,null,null,null,null,null,null,null,null,null,null,null,null,null,null,null,null,null,null,null,null,null,null,null,0,0,0]
[null,null,null,null,null,null,null,null,null,null,null,null,null,null,null,null,null,null,null,null,null,null,null,null,0,0,0]
[null,null,null,null,null,null,null,null,null,null,null,null,null,null,null,null,null,null,null,null,null,null,null,null,0,0,0]
[null,null,null,null,null,null,null,null,null,null,null,null,null,null,null,null,null,null,null,null,null,null,null,null,0,0,0]
[null,null,null,null,null,null,null,null,null,null,null,null,null,null,null,null,null,null,null,null,null,null,null,null,0,0,0]
[null,null,null,null,null,null,null,null,null,null,null,null,null,null,null,null,null,null,null,null,null,null,null,null,0,0,0]
[null,null,null,null,null,null,null,null,null,null,null,null,null,null,null,null,null,null,null,null,null,null,null,null,0,0,0]
[null,null,null,null,null,null,null,null,null,null,null,null,null,null,null,null,null,null,null,null,null,null,null,null,0,0,0]
[null,null,null,null,null,null,null,null,null,null,null,null,null,null,null,null,null,null,null,null,null,null,null,null,0,0,0]
[null,null,null,null,null,null,null,null,null,null,null,null,null,null,null,null,null,null,null,null,null,null,null,null,0,0,0]
[null,null,null,null,null,null,null,null,null,null,null,null,null,null,null,null,null,null,null,null,null,null,null,null,0,0,0]
[null,null,null,null,null,null,null,null,null,null,null,null,null,null,null,null,null,null,null,null,null,null,null,null,{"$f":"ABS(C80)","v":0},0,0]
[null,null,null,null,null,null,null,null,null,null,null,null,null,null,null,null,null,null,null,null,null,null,null,null,0,{"$f":"ABS(H81)","v":0},{"$f":"ABS(I81)","v":0}]
[null,null,null,null,null,null,null,null,null,null,null,null,null,null,null,null,null,null,null,null,null,null,null,null,0,0,0]
[null,null,null,null,null,null,null,null,null,null,null,null,null,null,null,null,null,null,null,null,null,null,null,null,0,0,0]
[null,null,null,null,null,null,null,null,null,null,null,null,null,null,null,null,null,null,null,null,null,null,null,null,0,0,0]
[null,null,null,null,null,null,null,null,null,null,null,null,null,null,null,null,null,null,null,null,null,null,null,null,0,0,0]
[null,null,null,null,null,null,null,null,null,null,null,null,null,null,null,null,null,null,null,null,null,null,null,null,0,0,0]
[null,null,null,null,null,null,null,null,null,null,null,null,null,null,null,null,null,null,null,null,null,null,null,null,0,0,0]
[null,null,null,null,null,null,null,null,null,null,null,null,null,null,null,null,null,null,null,null,null,null,null,null,0,0,0]
[null,null,null,null,null,null,null,null,null,null,null,null,null,null,null,null,null,null,null,null,null,null,null,null,0,0,0]
[null,null,null,null,null,null,null,null,null,null,null,null,null,null,null,null,null,null,null,null,null,null,null,null,0,0,0]
[null,null,null,null,null,null,null,null,null,null,null,null,null,null,null,null,null,null,null,null,null,null,null,null,0,0,0]
[null,null,null,null,null,null,null,null,null,null,null,null,null,null,null,null,null,null,null,null,null,null,null,null,0,0,0]
[null,null,null,null,null,null,null,null,null,null,null,null,null,null,null,null,null,null,null,null,null,null,null,null,0,0,0]
[null,null,null,null,null,null,null,null,null,null,null,null,null,null,null,null,null,null,null,null,null,null,null,null,0,0,0]
[null,null,null,null,null,null,null,null,null,null,null,null,null,null,null,null,null,null,null,null,null,null,null,null,0,0,0]
[null,null,null,null,null,null,null,null,null,null,null,null,null,null,null,null,null,null,null,null,null,null,null,null,0,0,0]
[null,null,null,null,null,null,null,null,null,null,null,null,null,null,null,null,null,null,null,null,null,null,null,null,0,0,0]
[null,null,null,null,null,null,null,null,null,null,null,null,null,null,null,null,null,null,null,null,null,null,null,null,0,0,0]
[null,null,null,null,null,null,null,null,null,null,null,null,null,null,null,null,null,null,null,null,null,null,null,null,0,0,0]
[null,null,null,null,null,null,null,null,null,null,null,null,null,null,null,null,null,null,null,null,null,null,null,null,0,0,0]
[null,null,null,null,null,null,null,null,null,null,null,null,null,null,null,null,null,null,null,null,null,null,null,null,0,0,0]
[null,null,null,null,null,null,null,null,null,null,null,null,null,null,null,null,null,null,null,null,null,null,null,null,0,0,0]
[null,null,null,null,null,null,null,null,null,null,null,null,null,null,null,null,null,null,null,null,null,null,null,null,0,0,0]
[null,null,null,null,null,null,null,null,null,null,null,null,null,null,null,null,null,null,null,null,null,null,null,null,0,0,0]
[null,null,null,null,null,null,null,null,null,null,null,null,null,null,null,null,null,null,null,null,null,null,null,null,0,0,0]
[null,null,null,null,null,null,null,null,null,null,null,null,null,null,null,null,null,null,null,null,null,null,null,null,0,0,0]
[null,null,null,null,null,null,null,null,null,null,null,null,null,null,null,null,null,null,null,null,null,null,null,null,0,0,0]
[null,null,null,null,null,null,null,null,null,null,null,null,null,null,null,null,null,null,null,null,null,null,null,null,0,0,0]
[null,null,null,null,null,null,null,null,null,null,null,null,null,null,null,null,null,null,null,null,null,null,null,null,0,0,0]
[null,null,null,null,null,null,null,null,null,null,null,null,null,null,null,null,null,null,null,null,null,null,null,null,0,0,0]
[null,null,null,null,null,null,null,null,null,null,null,null,null,null,null,null,null,null,null,null,null,null,null,null,0,0,0]
[null,null,null,null,null,null,null,null,null,null,null,null,null,null,null,null,null,null,null,null,null,null,null,null,0,0,0]
[null,null,null,null,null,null,null,null,null,null,null,null,null,null,null,null,null,null,null,null,null,null,null,null,0,0,0]
[null,null,null,null,null,null,null,null,null,null,null,null,null,null,null,null,null,null,null,null,null,null,null,null,0,0,0]
[null,null,null,null,null,null,null,null,null,null,null,null,null,null,null,null,null,null,null,null,null,null,null,null,0,0,0]
[null,null,null,null,null,null,null,null,null,null,null,null,null,null,null,null,null,null,null,null,null,null,null,null,0,0,0]
[null,null,null,null,null,null,null,null,null,null,null,null,null,null,null,null,null,null,null,null,null,null,null,null,0,0,0]
[null,null,null,null,null,null,null,null,null,null,null,null,null,null,null,null,null,null,null,null,null,null,null,null,0,0,0]
[null,null,null,null,null,null,null,null,null,null,null,null,null,null,null,null,null,null,null,null,null,null,null,null,0,0,0]
[null,null,null,null,null,null,null,null,null,null,null,null,null,null,null,null,null,null,null,null,null,null,null,null,0,0,0]
[null,null,null,null,null,null,null,null,null,null,null,null,null,null,null,null,null,null,null,null,null,null,null,null,0,0,0]
[null,null,null,null,null,null,null,null,null,null,null,null,null,null,null,null,null,null,null,null,null,null,null,null,0,0,0]
[null,null,null,null,null,null,null,null,null,null,null,null,null,null,null,null,null,null,null,null,null,null,null,null,0,0,0]
[null,null,null,null,null,null,null,null,null,null,null,null,null,null,null,null,null,null,null,null,null,null,null,null,0,0,0]
[null,null,null,null,null,null,null,null,null,null,null,null,null,null,null,null,null,null,null,null,null,null,null,null,0,0,0]
[null,null,null,null,null,null,null,null,null,null,null,null,null,null,null,null,null,null,null,null,null,null,null,null,0,0,0]
[null,null,null,null,null,null,null,null,null,null,null,null,null,null,null,null,null,null,null,null,null,null,null,null,0,0,0]
[null,null,null,null,null,null,null,null,null,null,null,null,null,null,null,null,null,null,null,null,null,null,null,null,0,0,0]
[null,null,null,null,null,null,null,null,null,null,null,null,null,null,null,null,null,null,null,null,null,null,null,null,0,0,0]
[null,null,null,null,null,null,null,null,null,null,null,null,null,null,null,null,null,null,null,null,null,null,null,null,0,0,0]
[null,null,null,null,null,null,null,null,null,null,null,null,null,null,null,null,null,null,null,null,null,null,null,null,0,0,0]
[null,null,null,null,null,null,null,null,null,null,null,null,null,null,null,null,null,null,null,null,null,null,null,null,0,0,0]
[null,null,null,null,null,null,null,null,null,null,null,null,null,null,null,null,null,null,null,null,null,null,null,null,0,0,0]
[null,null,null,null,null,null,null,null,null,null,null,null,null,null,null,null,null,null,null,null,null,null,null,null,0,0,0]
[null,null,null,null,null,null,null,null,null,null,null,null,null,null,null,null,null,null,null,null,null,null,null,null,0,0,0]
[null,null,null,null,null,null,null,null,null,null,null,null,null,null,null,null,null,null,null,null,null,null,null,null,0,0,0]
[null,null,null,null,null,null,null,null,null,null,null,null,null,null,null,null,null,null,null,null,null,null,null,null,0,0,0]
[null,null,null,null,null,null,null,null,null,null,null,null,null,null,null,null,null,null,null,null,null,null,null,null,0,0,0]
[null,null,null,null,null,null,null,null,null,null,null,null,null,null,null,null,null,null,null,null,null,null,null,null,0,0,0]
[null,null,null,null,null,null,null,null,null,null,null,null,null,null,null,null,null,null,null,null,null,null,null,null,0,0,0]
[null,null,null,null,null,null,null,null,null,null,null,null,null,null,null,null,null,null,null,null,null,null,null,null,0,0,0]
[null,null,null,null,null,null,null,null,null,null,null,null,null,null,null,null,null,null,null,null,null,null,null,null,0,0,0]
[null,null,null,null,null,null,null,null,null,null,null,null,null,null,null,null,null,null,null,null,null,null,null,null,0,0,0]
[null,null,null,null,null,null,null,null,null,null,null,null,null,null,null,null,null,null,null,null,null,null,null,null,{"$f":"ABS(C144)","v":0},0,0]
[null,null,null,null,null,null,null,null,null,null,null,null,null,null,null,null,null,null,null,null,null,null,null,null,0,{"$f":"ABS(H145)","v":0},{"$f":"ABS(I145)","v":0}]
[null,null,null,null,null,null,null,null,null,null,null,null,null,null,null,null,null,null,null,null,null,null,null,null,0,0,0]
[null,null,null,null,null,null,null,null,null,null,null,null,null,null,null,null,null,null,null,null,null,null,null,null,0,0,0]
[null,null,null,null,null,null,null,null,null,null,null,null,null,null,null,null,null,null,null,null,null,null,null,null,0,0,0]
[null,null,null,null,null,null,null,null,null,null,null,null,null,null,null,null,null,null,null,null,null,null,null,null,0,0,0]
[null,null,null,null,null,null,null,null,null,null,null,null,null,null,null,null,null,null,null,null,null,null,null,null,0,0,0]
[null,null,null,null,null,null,null,null,null,null,null,null,null,null,null,null,null,null,null,null,null,null,null,null,0,0,0]
[null,null,null,null,null,null,null,null,null,null,null,null,null,null,null,null,null,null,null,null,null,null,null,null,0,0,0]
[null,null,null,null,null,null,null,null,null,null,null,null,null,null,null,null,null,null,null,null,null,null,null,null,0,0,0]
[null,null,null,null,null,null,null,null,null,null,null,null,null,null,null,null,null,null,null,null,null,null,null,null,0,0,0]
[null,null,null,null,null,null,null,null,null,null,null,null,null,null,null,null,null,null,null,null,null,null,null,null,0,0,0]
[null,null,null,null,null,null,null,null,null,null,null,null,null,null,null,null,null,null,null,null,null,null,null,null,0,0,0]
[null,null,null,null,null,null,null,null,null,null,null,null,null,null,null,null,null,null,null,null,null,null,null,null,0,0,0]
[null,null,null,null,null,null,null,null,null,null,null,null,null,null,null,null,null,null,null,null,null,null,null,null,0,0,0]
[null,null,null,null,null,null,null,null,null,null,null,null,null,null,null,null,null,null,null,null,null,null,null,null,0,0,0]
[null,null,null,null,null,null,null,null,null,null,null,null,null,null,null,null,null,null,null,null,null,null,null,null,0,0,0]
[null,null,null,null,null,null,null,null,null,null,null,null,null,null,null,null,null,null,null,null,null,null,null,null,0,0,0]
[null,null,null,null,null,null,null,null,null,null,null,null,null,null,null,null,null,null,null,null,null,null,null,null,0,0,0]
[null,null,null,null,null,null,null,null,null,null,null,null,null,null,null,null,null,null,null,null,null,null,null,null,0,0,0]
[null,null,null,null,null,null,null,null,null,null,null,null,null,null,null,null,null,null,null,null,null,null,null,null,0,0,0]
[null,null,null,null,null,null,null,null,null,null,null,null,null,null,null,null,null,null,null,null,null,null,null,null,0,0,0]
[null,null,null,null,null,null,null,null,null,null,null,null,null,null,null,null,null,null,null,null,null,null,null,null,0,0,0]
[null,null,null,null,null,null,null,null,null,null,null,null,null,null,null,null,null,null,null,null,null,null,null,null,0,0,0]
[null,null,null,null,null,null,null,null,null,null,null,null,null,null,null,null,null,null,null,null,null,null,null,null,0,0,0]
[null,null,null,null,null,null,null,null,null,null,null,null,null,null,null,null,null,null,null,null,null,null,null,null,0,0,0]
[null,null,null,null,null,null,null,null,null,null,null,null,null,null,null,null,null,null,null,null,null,null,null,null,0,0,0]
[null,null,null,null,null,null,null,null,null,null,null,null,null,null,null,null,null,null,null,null,null,null,null,null,0,0,0]
[null,null,null,null,null,null,null,null,null,null,null,null,null,null,null,null,null,null,null,null,null,null,null,null,0,0,0]
[null,null,null,null,null,null,null,null,null,null,null,null,null,null,null,null,null,null,null,null,null,null,null,null,0,0,0]
[null,null,null,null,null,null,null,null,null,null,null,null,null,null,null,null,null,null,null,null,null,null,null,null,0,0,0]
[null,null,null,null,null,null,null,null,null,null,null,null,null,null,null,null,null,null,null,null,null,null,null,null,0,0,0]
[null,null,null,null,null,null,null,null,null,null,null,null,null,null,null,null,null,null,null,null,null,null,null,null,0,0,0]
[null,null,null,null,null,null,null,null,null,null,null,null,null,null,null,null,null,null,null,null,null,null,null,null,0,0,0]
[null,null,null,null,null,null,null,null,null,null,null,null,null,null,null,null,null,null,null,null,null,null,null,null,0,0,0]
[null,null,null,null,null,null,null,null,null,null,null,null,null,null,null,null,null,null,null,null,null,null,null,null,0,0,0]
[null,null,null,null,null,null,null,null,null,null,null,null,null,null,null,null,null,null,null,null,null,null,null,null,0,0,0]
[null,null,null,null,null,null,null,null,null,null,null,null,null,null,null,null,null,null,null,null,null,null,null,null,0,0,0]
[null,null,null,null,null,null,null,null,null,null,null,null,null,null,null,null,null,null,null,null,null,null,null,null,0,0,0]
[null,null,null,null,null,null,null,null,null,null,null,null,null,null,null,null,null,null,null,null,null,null,null,null,0,0,0]
[null,null,null,null,null,null,null,null,null,null,null,null,null,null,null,null,null,null,null,null,null,null,null,null,0,0,0]
[null,null,null,null,null,null,null,null,null,null,null,null,null,null,null,null,null,null,null,null,null,null,null,null,0,0,0]
[null,null,null,null,null,null,null,null,null,null,null,null,null,null,null,null,null,null,null,null,null,null,null,null,0,0,0]
[null,null,null,null,null,null,null,null,null,null,null,null,null,null,null,null,null,null,null,null,null,null,null,null,0,0,0]
[null,null,null,null,null,null,null,null,null,null,null,null,null,null,null,null,null,null,null,null,null,null,null,null,0,0,0]
[null,null,null,null,null,null,null,null,null,null,null,null,null,null,null,null,null,null,null,null,null,null,null,null,0,0,0]
[null,null,null,null,null,null,null,null,null,null,null,null,null,null,null,null,null,null,null,null,null,null,null,null,0,0,0]
[null,null,null,null,null,null,null,null,null,null,null,null,null,null,null,null,null,null,null,null,null,null,null,null,0,0,0]
[null,null,null,null,null,null,null,null,null,null,null,null,null,null,null,null,null,null,null,null,null,null,null,null,0,0,0]
[null,null,null,null,null,null,null,null,null,null,null,null,null,null,null,null,null,null,null,null,null,null,null,null,0,0,0]
[null,null,null,null,null,null,null,null,null,null,null,null,null,null,null,null,null,null,null,null,null,null,null,null,0,0,0]
[null,null,null,null,null,null,null,null,null,null,null,null,null,null,null,null,null,null,null,null,null,null,null,null,0,0,0]
[null,null,null,null,null,null,null,null,null,null,null,null,null,null,null,null,null,null,null,null,null,null,null,null,0,0,0]
[null,null,null,null,null,null,null,null,null,null,null,null,null,null,null,null,null,null,null,null,null,null,null,null,0,0,0]
[null,null,null,null,null,null,null,null,null,null,null,null,null,null,null,null,null,null,null,null,null,null,null,null,0,0,0]
[null,null,null,null,null,null,null,null,null,null,null,null,null,null,null,null,null,null,null,null,null,null,null,null,0,0,0]
[null,null,null,null,null,null,null,null,null,null,null,null,null,null,null,null,null,null,null,null,null,null,null,null,0,0,0]
[null,null,null,null,null,null,null,null,null,null,null,null,null,null,null,null,null,null,null,null,null,null,null,null,0,0,0]
[null,null,null,null,null,null,null,null,null,null,null,null,null,null,null,null,null,null,null,null,null,null,null,null,0,0,0]
[null,null,null,null,null,null,null,null,null,null,null,null,null,null,null,null,null,null,null,null,null,null,null,null,0,0,0]
[null,null,null,null,null,null,null,null,null,null,null,null,null,null,null,null,null,null,null,null,null,null,null,null,0,0,0]
[null,null,null,null,null,null,null,null,null,null,null,null,null,null,null,null,null,null,null,null,null,null,null,null,0,0,0]
[null,null,null,null,null,null,null,null,null,null,null,null,null,null,null,null,null,null,null,null,null,null,null,null,0,0,0]
[null,null,null,null,null,null,null,null,null,null,null,null,null,null,null,null,null,null,null,null,null,null,null,null,0,0,0]
[null,null,null,null,null,null,null,null,null,null,null,null,null,null,null,null,null,null,null,null,null,null,null,null,{"$f":"ABS(C208)","v":0},0,0]
[null,null,null,null,null,null,null,null,null,null,null,null,null,null,null,null,null,null,null,null,null,null,null,null,0,{"$f":"ABS(H209)","v":0},{"$f":"ABS(I209)","v":0}]
[null,null,null,null,null,null,null,null,null,null,null,null,null,null,null,null,null,null,null,null,null,null,null,null,0,0,0]
[null,null,null,null,null,null,null,null,null,null,null,null,null,null,null,null,null,null,null,null,null,null,null,null,0,0,0]
[null,null,null,null,null,null,null,null,null,null,null,null,null,null,null,null,null,null,null,null,null,null,null,null,0,0,0]
[null,null,null,null,null,null,null,null,null,null,null,null,null,null,null,null,null,null,null,null,null,null,null,null,0,0,0]
[null,null,null,null,null,null,null,null,null,null,null,null,null,null,null,null,null,null,null,null,null,null,null,null,0,0,0]
[null,null,null,null,null,null,null,null,null,null,null,null,null,null,null,null,null,null,null,null,null,null,null,null,0,0,0]
[null,null,null,null,null,null,null,null,null,null,null,null,null,null,null,null,null,null,null,null,null,null,null,null,0,0,0]
[null,null,null,null,null,null,null,null,null,null,null,null,null,null,null,null,null,null,null,null,null,null,null,null,0,0,0]
[null,null,null,null,null,null,null,null,null,null,null,null,null,null,null,null,null,null,null,null,null,null,null,null,0,0,0]
[null,null,null,null,null,null,null,null,null,null,null,null,null,null,null,null,null,null,null,null,null,null,null,null,0,0,0]
[null,null,null,null,null,null,null,null,null,null,null,null,null,null,null,null,null,null,null,null,null,null,null,null,0,0,0]
[null,null,null,null,null,null,null,null,null,null,null,null,null,null,null,null,null,null,null,null,null,null,null,null,0,0,0]
[null,null,null,null,null,null,null,null,null,null,null,null,null,null,null,null,null,null,null,null,null,null,null,null,0,0,0]
[null,null,null,null,null,null,null,null,null,null,null,null,null,null,null,null,null,null,null,null,null,null,null,null,0,0,0]
[null,null,null,null,null,null,null,null,null,null,null,null,null,null,null,null,null,null,null,null,null,null,null,null,0,0,0]
[null,null,null,null,null,null,null,null,null,null,null,null,null,null,null,null,null,null,null,null,null,null,null,null,0,0,0]
[null,null,null,null,null,null,null,null,null,null,null,null,null,null,null,null,null,null,null,null,null,null,null,null,0,0,0]
[null,null,null,null,null,null,null,null,null,null,null,null,null,null,null,null,null,null,null,null,null,null,null,null,0,0,0]
[null,null,null,null,null,null,null,null,null,null,null,null,null,null,null,null,null,null,null,null,null,null,null,null,0,0,0]
[null,null,null,null,null,null,null,null,null,null,null,null,null,null,null,null,null,null,null,null,null,null,null,null,0,0,0]
[null,null,null,null,null,null,null,null,null,null,null,null,null,null,null,null,null,null,null,null,null,null,null,null,0,0,0]
[null,null,null,null,null,null,null,null,null,null,null,null,null,null,null,null,null,null,null,null,null,null,null,null,0,0,0]
[null,null,null,null,null,null,null,null,null,null,null,null,null,null,null,null,null,null,null,null,null,null,null,null,0,0,0]
[null,null,null,null,null,null,null,null,null,null,null,null,null,null,null,null,null,null,null,null,null,null,null,null,0,0,0]
[null,null,null,null,null,null,null,null,null,null,null,null,null,null,null,null,null,null,null,null,null,null,null,null,0,0,0]
[null,null,null,null,null,null,null,null,null,null,null,null,null,null,null,null,null,null,null,null,null,null,null,null,0,0,0]
[null,null,null,null,null,null,null,null,null,null,null,null,null,null,null,null,null,null,null,null,null,null,null,null,0,0,0]
[null,null,null,null,null,null,null,null,null,null,null,null,null,null,null,null,null,null,null,null,null,null,null,null,0,0,0]
[null,null,null,null,null,null,null,null,null,null,null,null,null,null,null,null,null,null,null,null,null,null,null,null,0,0,0]
[null,null,null,null,null,null,null,null,null,null,null,null,null,null,null,null,null,null,null,null,null,null,null,null,0,0,0]
[null,null,null,null,null,null,null,null,null,null,null,null,null,null,null,null,null,null,null,null,null,null,null,null,0,0,0]
[null,null,null,null,null,null,null,null,null,null,null,null,null,null,null,null,null,null,null,null,null,null,null,null,0,0,0]
[null,null,null,null,null,null,null,null,null,null,null,null,null,null,null,null,null,null,null,null,null,null,null,null,0,0,0]
[null,null,null,null,null,null,null,null,null,null,null,null,null,null,null,null,null,null,null,null,null,null,null,null,0,0,0]
[null,null,null,null,null,null,null,null,null,null,null,null,null,null,null,null,null,null,null,null,null,null,null,null,0,0,0]
[null,null,null,null,null,null,null,null,null,null,null,null,null,null,null,null,null,null,null,null,null,null,null,null,0,0,0]
[null,null,null,null,null,null,null,null,null,null,null,null,null,null,null,null,null,null,null,null,null,null,null,null,0,0,0]
[null,null,null,null,null,null,null,null,null,null,null,null,null,null,null,null,null,null,null,null,null,null,null,null,0,0,0]
[null,null,null,null,null,null,null,null,null,null,null,null,null,null,null,null,null,null,null,null,null,null,null,null,0,0,0]
[null,null,null,null,null,null,null,null,null,null,null,null,null,null,null,null,null,null,null,null,null,null,null,null,0,0,0]
[null,null,null,null,null,null,null,null,null,null,null,null,null,null,null,null,null,null,null,null,null,null,null,null,0,0,0]
[null,null,null,null,null,null,null,null,null,null,null,null,null,null,null,null,null,null,null,null,null,null,null,null,0,0,0]
[null,null,null,null,null,null,null,null,null,null,null,null,null,null,null,null,null,null,null,null,null,null,null,null,0,0,0]
[null,null,null,null,null,null,null,null,null,null,null,null,null,null,null,null,null,null,null,null,null,null,null,null,0,0,0]
[null,null,null,null,null,null,null,null,null,null,null,null,null,null,null,null,null,null,null,null,null,null,null,null,0,0,0]
[null,null,null,null,null,null,null,null,null,null,null,null,null,null,null,null,null,null,null,null,null,null,null,null,0,0,0]
[null,null,null,null,null,null,null,null,null,null,null,null,null,null,null,null,null,null,null,null,null,null,null,null,0,0,0]
[null,null,null,null,null,null,null,null,null,null,null,null,null,null,null,null,null,null,null,null,null,null,null,null,0,0,0]
[null,null,null,null,null,null,null,null,null,null,null,null,null,null,null,null,null,null,null,null,null,null,null,null,0,0,0]
[null,null,null,null,null,null,null,null,null,null,null,null,null,null,null,null,null,null,null,null,null,null,null,null,0,0,0]
[null,null,null,null,null,null,null,null,null,null,null,null,null,null,null,null,null,null,null,null,null,null,null,null,0,0,0]
[null,null,null,null,null,null,null,null,null,null,null,null,null,null,null,null,null,null,null,null,null,null,null,null,0,0,0]
[null,null,null,null,null,null,null,null,null,null,null,null,null,null,null,null,null,null,null,null,null,null,null,null,0,0,0]
[null,null,null,null,null,null,null,null,null,null,null,null,null,null,null,null,null,null,null,null,null,null,null,null,0,0,0]
[null,null,null,null,null,null,null,null,null,null,null,null,null,null,null,null,null,null,null,null,null,null,null,null,0,0,0]
[null,null,null,null,null,null,null,null,null,null,null,null,null,null,null,null,null,null,null,null,null,null,null,null,0,0,0]
[null,null,null,null,null,null,null,null,null,null,null,null,null,null,null,null,null,null,null,null,null,null,null,null,0,0,0]
[null,null,null,null,null,null,null,null,null,null,null,null,null,null,null,null,null,null,null,null,null,null,null,null,0,0,0]
[null,null,null,null,null,null,null,null,null,null,null,null,null,null,null,null,null,null,null,null,null,null,null,null,0,0,0]
[null,null,null,null,null,null,null,null,null,null,null,null,null,null,null,null,null,null,null,null,null,null,null,null,0,0,0]
[null,null,null,null,null,null,null,null,null,null,null,null,null,null,null,null,null,null,null,null,null,null,null,null,0,0,0]
[null,null,null,null,null,null,null,null,null,null,null,null,null,null,null,null,null,null,null,null,null,null,null,null,0,0,0]
[null,null,null,null,null,null,null,null,null,null,null,null,null,null,null,null,null,null,null,null,null,null,null,null,{"$f":"ABS(C272)","v":0},0,0]
[null,null,null,null,null,null,null,null,null,null,null,null,null,null,null,null,null,null,null,null,null,null,null,null,0,{"$f":"ABS(H273)","v":0},{"$f":"ABS(I273)","v":0}]
[null,null,null,null,null,null,null,null,null,null,null,null,null,null,null,null,null,null,null,null,null,null,null,null,0,0,0]
[null,null,null,null,null,null,null,null,null,null,null,null,null,null,null,null,null,null,null,null,null,null,null,null,0,0,0]
[null,null,null,null,null,null,null,null,null,null,null,null,null,null,null,null,null,null,null,null,null,null,null,null,0,0,0]
[null,null,null,null,null,null,null,null,null,null,null,null,null,null,null,null,null,null,null,null,null,null,null,null,0,0,0]
[null,null,null,null,null,null,null,null,null,null,null,null,null,null,null,null,null,null,null,null,null,null,null,null,0,0,0]
[null,null,null,null,null,null,null,null,null,null,null,null,null,null,null,null,null,null,null,null,null,null,null,null,0,0,0]
[null,null,null,null,null,null,null,null,null,null,null,null,null,null,null,null,null,null,null,null,null,null,null,null,0,0,0]
[null,null,null,null,null,null,null,null,null,null,null,null,null,null,null,null,null,null,null,null,null,null,null,null,0,0,0]
[null,null,null,null,null,null,null,null,null,null,null,null,null,null,null,null,null,null,null,null,null,null,null,null,0,0,0]
[null,null,null,null,null,null,null,null,null,null,null,null,null,null,null,null,null,null,null,null,null,null,null,null,0,0,0]
[null,null,null,null,null,null,null,null,null,null,null,null,null,null,null,null,null,null,null,null,null,null,null,null,0,0,0]
[null,null,null,null,null,null,null,null,null,null,null,null,null,null,null,null,null,null,null,null,null,null,null,null,0,0,0]
[null,null,null,null,null,null,null,null,null,null,null,null,null,null,null,null,null,null,null,null,null,null,null,null,0,0,0]
[null,null,null,null,null,null,null,null,null,null,null,null,null,null,null,null,null,null,null,null,null,null,null,null,0,0,0]
[null,null,null,null,null,null,null,null,null,null,null,null,null,null,null,null,null,null,null,null,null,null,null,null,0,0,0]
[null,null,null,null,null,null,null,null,null,null,null,null,null,null,null,null,null,null,null,null,null,null,null,null,0,0,0]
[null,null,null,null,null,null,null,null,null,null,null,null,null,null,null,null,null,null,null,null,null,null,null,null,0,0,0]
[null,null,null,null,null,null,null,null,null,null,null,null,null,null,null,null,null,null,null,null,null,null,null,null,0,0,0]
[null,null,null,null,null,null,null,null,null,null,null,null,null,null,null,null,null,null,null,null,null,null,null,null,0,0,0]
[null,null,null,null,null,null,null,null,null,null,null,null,null,null,null,null,null,null,null,null,null,null,null,null,0,0,0]
[null,null,null,null,null,null,null,null,null,null,null,null,null,null,null,null,null,null,null,null,null,null,null,null,0,0,0]
[null,null,null,null,null,null,null,null,null,null,null,null,null,null,null,null,null,null,null,null,null,null,null,null,0,0,0]
[null,null,null,null,null,null,null,null,null,null,null,null,null,null,null,null,null,null,null,null,null,null,null,null,0,0,0]
[null,null,null,null,null,null,null,null,null,null,null,null,null,null,null,null,null,null,null,null,null,null,null,null,0,0,0]
[null,null,null,null,null,null,null,null,null,null,null,null,null,null,null,null,null,null,null,null,null,null,null,null,0,0,0]
[null,null,null,null,null,null,null,null,null,null,null,null,null,null,null,null,null,null,null,null,null,null,null,null,0,0,0]
[null,null,null,null,null,null,null,null,null,null,null,null,null,null,null,null,null,null,null,null,null,null,null,null,0,0,0]
[null,null,null,null,null,null,null,null,null,null,null,null,null,null,null,null,null,null,null,null,null,null,null,null,0,0,0]
[null,null,null,null,null,null,null,null,null,null,null,null,null,null,null,null,null,null,null,null,null,null,null,null,0,0,0]
[null,null,null,null,null,null,null,null,null,null,null,null,null,null,null,null,null,null,null,null,null,null,null,null,0,0,0]
[null,null,null,null,null,null,null,null,null,null,null,null,null,null,null,null,null,null,null,null,null,null,null,null,0,0,0]
[null,null,null,null,null,null,null,null,null,null,null,null,null,null,null,null,null,null,null,null,null,null,null,null,0,0,0]
[null,null,null,null,null,null,null,null,null,null,null,null,null,null,null,null,null,null,null,null,null,null,null,null,0,0,0]
[null,null,null,null,null,null,null,null,null,null,null,null,null,null,null,null,null,null,null,null,null,null,null,null,0,0,0]
[null,null,null,null,null,null,null,null,null,null,null,null,null,null,null,null,null,null,null,null,null,null,null,null,0,0,0]
[null,null,null,null,null,null,null,null,null,null,null,null,null,null,null,null,null,null,null,null,null,null,null,null,0,0,0]
[null,null,null,null,null,null,null,null,null,null,null,null,null,null,null,null,null,null,null,null,null,null,null,null,0,0,0]
[null,null,null,null,null,null,null,null,null,null,null,null,null,null,null,null,null,null,null,null,null,null,null,null,0,0,0]
[null,null,null,null,null,null,null,null,null,null,null,null,null,null,null,null,null,null,null,null,null,null,null,null,0,0,0]
[null,null,null,null,null,null,null,null,null,null,null,null,null,null,null,null,null,null,null,null,null,null,null,null,0,0,0]
[null,null,null,null,null,null,null,null,null,null,null,null,null,null,null,null,null,null,null,null,null,null,null,null,0,0,0]
[null,null,null,null,null,null,null,null,null,null,null,null,null,null,null,null,null,null,null,null,null,null,null,null,0,0,0]
[null,null,null,null,null,null,null,null,null,null,null,null,null,null,null,null,null,null,null,null,null,null,null,null,0,0,0]
[null,null,null,null,null,null,null,null,null,null,null,null,null,null,null,null,null,null,null,null,null,null,null,null,0,0,0]
[null,null,null,null,null,null,null,null,null,null,null,null,null,null,null,null,null,null,null,null,null,null,null,null,0,0,0]
[null,null,null,null,null,null,null,null,null,null,null,null,null,null,null,null,null,null,null,null,null,null,null,null,0,0,0]
[null,null,null,null,null,null,null,null,null,null,null,null,null,null,null,null,null,null,null,null,null,null,null,null,0,0,0]
[null,null,null,null,null,null,null,null,null,null,null,null,null,null,null,null,null,null,null,null,null,null,null,null,0,0,0]
[null,null,null,null,null,null,null,null,null,null,null,null,null,null,null,null,null,null,null,null,null,null,null,null,0,0,0]
[null,null,null,null,null,null,null,null,null,null,null,null,null,null,null,null,null,null,null,null,null,null,null,null,0,0,0]
[null,null,null,null,null,null,null,null,null,null,null,null,null,null,null,null,null,null,null,null,null,null,null,null,0,0,0]
[null,null,null,null,null,null,null,null,null,null,null,null,null,null,null,null,null,null,null,null,null,null,null,null,0,0,0]
[null,null,null,null,null,null,null,null,null,null,null,null,null,null,null,null,null,null,null,null,null,null,null,null,0,0,0]
[null,null,null,null,null,null,null,null,null,null,null,null,null,null,null,null,null,null,null,null,null,null,null,null,0,0,0]
[null,null,null,null,null,null,null,null,null,null,null,null,null,null,null,null,null,null,null,null,null,null,null,null,0,0,0]
[null,null,null,null,null,null,null,null,null,null,null,null,null,null,null,null,null,null,null,null,null,null,null,null,0,0,0]
[null,null,null,null,null,null,null,null,null,null,null,null,null,null,null,null,null,null,null,null,null,null,null,null,0,0,0]
[null,null,null,null,null,null,null,null,null,null,null,null,null,null,null,null,null,null,null,null,null,null,null,null,0,0,0]
[null,null,null,null,null,null,null,null,null,null,null,null,null,null,null,null,null,null,null,null,null,null,null,null,0,0,0]
[null,null,null,null,null,null,null,null,null,null,null,null,null,null,null,null,null,null,null,null,null,null,null,null,0,0,0]
[null,null,null,null,null,null,null,null,null,null,null,null,null,null,null,null,null,null,null,null,null,null,null,null,0,0,0]
[null,null,null,null,null,null,null,null,null,null,null,null,null,null,null,null,null,null,null,null,null,null,null,null,0,0,0]
[null,null,null,null,null,null,null,null,null,null,null,null,null,null,null,null,null,null,null,null,null,null,null,null,{"$f":"ABS(C336)","v":0},0,0]
[null,null,null,null,null,null,null,null,null,null,null,null,null,null,null,null,null,null,null,null,null,null,null,null,0,{"$f":"ABS(H337)","v":0},{"$f":"ABS(I337)","v":0}]
[null,null,null,null,null,null,null,null,null,null,null,null,null,null,null,null,null,null,null,null,null,null,null,null,0,0,0]
[null,null,null,null,null,null,null,null,null,null,null,null,null,null,null,null,null,null,null,null,null,null,null,null,0,0,0]
[null,null,null,null,null,null,null,null,null,null,null,null,null,null,null,null,null,null,null,null,null,null,null,null,0,0,0]
[null,null,null,null,null,null,null,null,null,null,null,null,null,null,null,null,null,null,null,null,null,null,null,null,0,0,0]
[null,null,null,null,null,null,null,null,null,null,null,null,null,null,null,null,null,null,null,null,null,null,null,null,0,0,0]
[null,null,null,null,null,null,null,null,null,null,null,null,null,null,null,null,null,null,null,null,null,null,null,null,0,0,0]
[null,null,null,null,null,null,null,null,null,null,null,null,null,null,null,null,null,null,null,null,null,null,null,null,0,0,0]
[null,null,null,null,null,null,null,null,null,null,null,null,null,null,null,null,null,null,null,null,null,null,null,null,0,0,0]
[null,null,null,null,null,null,null,null,null,null,null,null,null,null,null,null,null,null,null,null,null,null,null,null,0,0,0]
[null,null,null,null,null,null,null,null,null,null,null,null,null,null,null,null,null,null,null,null,null,null,null,null,0,0,0]
[null,null,null,null,null,null,null,null,null,null,null,null,null,null,null,null,null,null,null,null,null,null,null,null,0,0,0]
[null,null,null,null,null,null,null,null,null,null,null,null,null,null,null,null,null,null,null,null,null,null,null,null,0,0,0]
[null,null,null,null,null,null,null,null,null,null,null,null,null,null,null,null,null,null,null,null,null,null,null,null,0,0,0]
[null,null,null,null,null,null,null,null,null,null,null,null,null,null,null,null,null,null,null,null,null,null,null,null,0,0,0]
[null,null,null,null,null,null,null,null,null,null,null,null,null,null,null,null,null,null,null,null,null,null,null,null,0,0,0]
[null,null,null,null,null,null,null,null,null,null,null,null,null,null,null,null,null,null,null,null,null,null,null,null,0,0,0]
[null,null,null,null,null,null,null,null,null,null,null,null,null,null,null,null,null,null,null,null,null,null,null,null,0,0,0]
[null,null,null,null,null,null,null,null,null,null,null,null,null,null,null,null,null,null,null,null,null,null,null,null,0,0,0]
[null,null,null,null,null,null,null,null,null,null,null,null,null,null,null,null,null,null,null,null,null,null,null,null,0,0,0]
[null,null,null,null,null,null,null,null,null,null,null,null,null,null,null,null,null,null,null,null,null,null,null,null,0,0,0]
[null,null,null,null,null,null,null,null,null,null,null,null,null,null,null,null,null,null,null,null,null,null,null,null,0,0,0]
[null,null,null,null,null,null,null,null,null,null,null,null,null,null,null,null,null,null,null,null,null,null,null,null,0,0,0]
[null,null,null,null,null,null,null,null,null,null,null,null,null,null,null,null,null,null,null,null,null,null,null,null,0,0,0]
[null,null,null,null,null,null,null,null,null,null,null,null,null,null,null,null,null,null,null,null,null,null,null,null,0,0,0]
[null,null,null,null,null,null,null,null,null,null,null,null,null,null,null,null,null,null,null,null,null,null,null,null,0,0,0]
[null,null,null,null,null,null,null,null,null,null,null,null,null,null,null,null,null,null,null,null,null,null,null,null,0,0,0]
[null,null,null,null,null,null,null,null,null,null,null,null,null,null,null,null,null,null,null,null,null,null,null,null,0,0,0]
[null,null,null,null,null,null,null,null,null,null,null,null,null,null,null,null,null,null,null,null,null,null,null,null,0,0,0]
[null,null,null,null,null,null,null,null,null,null,null,null,null,null,null,null,null,null,null,null,null,null,null,null,0,0,0]
[null,null,null,null,null,null,null,null,null,null,null,null,null,null,null,null,null,null,null,null,null,null,null,null,0,0,0]
[null,null,null,null,null,null,null,null,null,null,null,null,null,null,null,null,null,null,null,null,null,null,null,null,0,0,0]
[null,null,null,null,null,null,null,null,null,null,null,null,null,null,null,null,null,null,null,null,null,null,null,null,0,0,0]
[null,null,null,null,null,null,null,null,null,null,null,null,null,null,null,null,null,null,null,null,null,null,null,null,0,0,0]
[null,null,null,null,null,null,null,null,null,null,null,null,null,null,null,null,null,null,null,null,null,null,null,null,0,0,0]
[null,null,null,null,null,null,null,null,null,null,null,null,null,null,null,null,null,null,null,null,null,null,null,null,0,0,0]
[null,null,null,null,null,null,null,null,null,null,null,null,null,null,null,null,null,null,null,null,null,null,null,null,0,0,0]
[null,null,null,null,null,null,null,null,null,null,null,null,null,null,null,null,null,null,null,null,null,null,null,null,0,0,0]
[null,null,null,null,null,null,null,null,null,null,null,null,null,null,null,null,null,null,null,null,null,null,null,null,0,0,0]
[null,null,null,null,null,null,null,null,null,null,null,null,null,null,null,null,null,null,null,null,null,null,null,null,0,0,0]
[null,null,null,null,null,null,null,null,null,null,null,null,null,null,null,null,null,null,null,null,null,null,null,null,0,0,0]
[null,null,null,null,null,null,null,null,null,null,null,null,null,null,null,null,null,null,null,null,null,null,null,null,0,0,0]
[null,null,null,null,null,null,null,null,null,null,null,null,null,null,null,null,null,null,null,null,null,null,null,null,0,0,0]
[null,null,null,null,null,null,null,null,null,null,null,null,null,null,null,null,null,null,null,null,null,null,null,null,0,0,0]
[null,null,null,null,null,null,null,null,null,null,null,null,null,null,null,null,null,null,null,null,null,null,null,null,0,0,0]
[null,null,null,null,null,null,null,null,null,null,null,null,null,null,null,null,null,null,null,null,null,null,null,null,0,0,0]
[null,null,null,null,null,null,null,null,null,null,null,null,null,null,null,null,null,null,null,null,null,null,null,null,0,0,0]
[null,null,null,null,null,null,null,null,null,null,null,null,null,null,null,null,null,null,null,null,null,null,null,null,0,0,0]
[null,null,null,null,null,null,null,null,null,null,null,null,null,null,null,null,null,null,null,null,null,null,null,null,0,0,0]
[null,null,null,null,null,null,null,null,null,null,null,null,null,null,null,null,null,null,null,null,null,null,null,null,0,0,0]
[null,null,null,null,null,null,null,null,null,null,null,null,null,null,null,null,null,null,null,null,null,null,null,null,0,0,0]
[null,null,null,null,null,null,null,null,null,null,null,null,null,null,null,null,null,null,null,null,null,null,null,null,0,0,0]
[null,null,null,null,null,null,null,null,null,null,null,null,null,null,null,null,null,null,null,null,null,null,null,null,0,0,0]
[null,null,null,null,null,null,null,null,null,null,null,null,null,null,null,null,null,null,null,null,null,null,null,null,0,0,0]
[null,null,null,null,null,null,null,null,null,null,null,null,null,null,null,null,null,null,null,null,null,null,null,null,0,0,0]
[null,null,null,null,null,null,null,null,null,null,null,null,null,null,null,null,null,null,null,null,null,null,null,null,0,0,0]
[null,null,null,null,null,null,null,null,null,null,null,null,null,null,null,null,null,null,null,null,null,null,null,null,0,0,0]
[null,null,null,null,null,null,null,null,null,null,null,null,null,null,null,null,null,null,null,null,null,null,null,null,0,0,0]
[null,null,null,null,null,null,null,null,null,null,null,null,null,null,null,null,null,null,null,null,null,null,null,null,0,0,0]
[null,null,null,null,null,null,null,null,null,null,null,null,null,null,null,null,null,null,null,null,null,null,null,null,0,0,0]
[null,null,null,null,null,null,null,null,null,null,null,null,null,null,null,null,null,null,null,null,null,null,null,null,0,0,0]
[null,null,null,null,null,null,null,null,null,null,null,null,null,null,null,null,null,null,null,null,null,null,null,null,0,0,0]
[null,null,null,null,null,null,null,null,null,null,null,null,null,null,null,null,null,null,null,null,null,null,null,null,0,0,0]
[null,null,null,null,null,null,null,null,null,null,null,null,null,null,null,null,null,null,null,null,null,null,null,null,{"$f":"ABS(C400)","v":0},0,0]
[null,null,null,null,null,null,null,null,null,null,null,null,null,null,null,null,null,null,null,null,null,null,null,null,0,{"$f":"ABS(H401)","v":0},{"$f":"ABS(I401)","v":0}]
[null,null,null,null,null,null,null,null,null,null,null,null,null,null,null,null,null,null,null,null,null,null,null,null,0,0,0]
[null,null,null,null,null,null,null,null,null,null,null,null,null,null,null,null,null,null,null,null,null,null,null,null,0,0,0]
[null,null,null,null,null,null,null,null,null,null,null,null,null,null,null,null,null,null,null,null,null,null,null,null,0,0,0]
[null,null,null,null,null,null,null,null,null,null,null,null,null,null,null,null,null,null,null,null,null,null,null,null,0,0,0]
[null,null,null,null,null,null,null,null,null,null,null,null,null,null,null,null,null,null,null,null,null,null,null,null,0,0,0]
[null,null,null,null,null,null,null,null,null,null,null,null,null,null,null,null,null,null,null,null,null,null,null,null,0,0,0]
[null,null,null,null,null,null,null,null,null,null,null,null,null,null,null,null,null,null,null,null,null,null,null,null,0,0,0]
[null,null,null,null,null,null,null,null,null,null,null,null,null,null,null,null,null,null,null,null,null,null,null,null,0,0,0]
[null,null,null,null,null,null,null,null,null,null,null,null,null,null,null,null,null,null,null,null,null,null,null,null,0,0,0]
[null,null,null,null,null,null,null,null,null,null,null,null,null,null,null,null,null,null,null,null,null,null,null,null,0,0,0]
[null,null,null,null,null,null,null,null,null,null,null,null,null,null,null,null,null,null,null,null,null,null,null,null,0,0,0]
[null,null,null,null,null,null,null,null,null,null,null,null,null,null,null,null,null,null,null,null,null,null,null,null,0,0,0]
[null,null,null,null,null,null,null,null,null,null,null,null,null,null,null,null,null,null,null,null,null,null,null,null,0,0,0]
[null,null,null,null,null,null,null,null,null,null,null,null,null,null,null,null,null,null,null,null,null,null,null,null,0,0,0]
[null,null,null,null,null,null,null,null,null,null,null,null,null,null,null,null,null,null,null,null,null,null,null,null,0,0,0]
[null,null,null,null,null,null,null,null,null,null,null,null,null,null,null,null,null,null,null,null,null,null,null,null,0,0,0]
[null,null,null,null,null,null,null,null,null,null,null,null,null,null,null,null,null,null,null,null,null,null,null,null,0,0,0]
[null,null,null,null,null,null,null,null,null,null,null,null,null,null,null,null,null,null,null,null,null,null,null,null,0,0,0]
[null,null,null,null,null,null,null,null,null,null,null,null,null,null,null,null,null,null,null,null,null,null,null,null,0,0,0]
[null,null,null,null,null,null,null,null,null,null,null,null,null,null,null,null,null,null,null,null,null,null,null,null,0,0,0]
[null,null,null,null,null,null,null,null,null,null,null,null,null,null,null,null,null,null,null,null,null,null,null,null,0,0,0]
[null,null,null,null,null,null,null,null,null,null,null,null,null,null,null,null,null,null,null,null,null,null,null,null,0,0,0]
[null,null,null,null,null,null,null,null,null,null,null,null,null,null,null,null,null,null,null,null,null,null,null,null,0,0,0]
[null,null,null,null,null,null,null,null,null,null,null,null,null,null,null,null,null,null,null,null,null,null,null,null,0,0,0]
[null,null,null,null,null,null,null,null,null,null,null,null,null,null,null,null,null,null,null,null,null,null,null,null,0,0,0]
[null,null,null,null,null,null,null,null,null,null,null,null,null,null,null,null,null,null,null,null,null,null,null,null,0,0,0]
[null,null,null,null,null,null,null,null,null,null,null,null,null,null,null,null,null,null,null,null,null,null,null,null,0,0,0]
[null,null,null,null,null,null,null,null,null,null,null,null,null,null,null,null,null,null,null,null,null,null,null,null,0,0,0]
[null,null,null,null,null,null,null,null,null,null,null,null,null,null,null,null,null,null,null,null,null,null,null,null,0,0,0]
[null,null,null,null,null,null,null,null,null,null,null,null,null,null,null,null,null,null,null,null,null,null,null,null,0,0,0]
[null,null,null,null,null,null,null,null,null,null,null,null,null,null,null,null,null,null,null,null,null,null,null,null,0,0,0]
[null,null,null,null,null,null,null,null,null,null,null,null,null,null,null,null,null,null,null,null,null,null,null,null,0,0,0]
[null,null,null,null,null,null,null,null,null,null,null,null,null,null,null,null,null,null,null,null,null,null,null,null,0,0,0]
[null,null,null,null,null,null,null,null,null,null,null,null,null,null,null,null,null,null,null,null,null,null,null,null,0,0,0]
[null,null,null,null,null,null,null,null,null,null,null,null,null,null,null,null,null,null,null,null,null,null,null,null,0,0,0]
[null,null,null,null,null,null,null,null,null,null,null,null,null,null,null,null,null,null,null,null,null,null,null,null,0,0,0]
[null,null,null,null,null,null,null,null,null,null,null,null,null,null,null,null,null,null,null,null,null,null,null,null,0,0,0]
[null,null,null,null,null,null,null,null,null,null,null,null,null,null,null,null,null,null,null,null,null,null,null,null,0,0,0]
[null,null,null,null,null,null,null,null,null,null,null,null,null,null,null,null,null,null,null,null,null,null,null,null,0,0,0]
[null,null,null,null,null,null,null,null,null,null,null,null,null,null,null,null,null,null,null,null,null,null,null,null,0,0,0]
[null,null,null,null,null,null,null,null,null,null,null,null,null,null,null,null,null,null,null,null,null,null,null,null,0,0,0]
[null,null,null,null,null,null,null,null,null,null,null,null,null,null,null,null,null,null,null,null,null,null,null,null,0,0,0]
[null,null,null,null,null,null,null,null,null,null,null,null,null,null,null,null,null,null,null,null,null,null,null,null,0,0,0]
[null,null,null,null,null,null,null,null,null,null,null,null,null,null,null,null,null,null,null,null,null,null,null,null,0,0,0]
[null,null,null,null,null,null,null,null,null,null,null,null,null,null,null,null,null,null,null,null,null,null,null,null,0,0,0]
[null,null,null,null,null,null,null,null,null,null,null,null,null,null,null,null,null,null,null,null,null,null,null,null,0,0,0]
[null,null,null,null,null,null,null,null,null,null,null,null,null,null,null,null,null,null,null,null,null,null,null,null,0,0,0]
[null,null,null,null,null,null,null,null,null,null,null,null,null,null,null,null,null,null,null,null,null,null,null,null,0,0,0]
[null,null,null,null,null,null,null,null,null,null,null,null,null,null,null,null,null,null,null,null,null,null,null,null,0,0,0]
[null,null,null,null,null,null,null,null,null,null,null,null,null,null,null,null,null,null,null,null,null,null,null,null,0,0,0]
[null,null,null,null,null,null,null,null,null,null,null,null,null,null,null,null,null,null,null,null,null,null,null,null,0,0,0]
[null,null,null,null,null,null,null,null,null,null,null,null,null,null,null,null,null,null,null,null,null,null,null,null,0,0,0]
[null,null,null,null,null,null,null,null,null,null,null,null,null,null,null,null,null,null,null,null,null,null,null,null,0,0,0]
[null,null,null,null,null,null,null,null,null,null,null,null,null,null,null,null,null,null,null,null,null,null,null,null,0,0,0]
[null,null,null,null,null,null,null,null,null,null,null,null,null,null,null,null,null,null,null,null,null,null,null,null,0,0,0]
[null,null,null,null,null,null,null,null,null,null,null,null,null,null,null,null,null,null,null,null,null,null,null,null,0,0,0]
[null,null,null,null,null,null,null,null,null,null,null,null,null,null,null,null,null,null,null,null,null,null,null,null,0,0,0]
[null,null,null,null,null,null,null,null,null,null,null,null,null,null,null,null,null,null,null,null,null,null,null,null,0,0,0]
[null,null,null,null,null,null,null,null,null,null,null,null,null,null,null,null,null,null,null,null,null,null,null,null,0,0,0]
[null,null,null,null,null,null,null,null,null,null,null,null,null,null,null,null,null,null,null,null,null,null,null,null,0,0,0]
[null,null,null,null,null,null,null,null,null,null,null,null,null,null,null,null,null,null,null,null,null,null,null,null,0,0,0]
[null,null,null,null,null,null,null,null,null,null,null,null,null,null,null,null,null,null,null,null,null,null,null,null,0,0,0]
[null,null,null,null,null,null,null,null,null,null,null,null,null,null,null,null,null,null,null,null,null,null,null,null,{"$f":"ABS(C464)","v":0},0,0]
[null,null,null,null,null,null,null,null,null,null,null,null,null,null,null,null,null,null,null,null,null,null,null,null,0,{"$f":"ABS(H465)","v":0},{"$f":"ABS(I465)","v":0}]
[null,null,null,null,null,null,null,null,null,null,null,null,null,null,null,null,null,null,null,null,null,null,null,null,0,0,0]
[null,null,null,null,null,null,null,null,null,null,null,null,null,null,null,null,null,null,null,null,null,null,null,null,0,0,0]
[null,null,null,null,null,null,null,null,null,null,null,null,null,null,null,null,null,null,null,null,null,null,null,null,0,0,0]
[null,null,null,null,null,null,null,null,null,null,null,null,null,null,null,null,null,null,null,null,null,null,null,null,0,0,0]
[null,null,null,null,null,null,null,null,null,null,null,null,null,null,null,null,null,null,null,null,null,null,null,null,0,0,0]
[null,null,null,null,null,null,null,null,null,null,null,null,null,null,null,null,null,null,null,null,null,null,null,null,0,0,0]
[null,null,null,null,null,null,null,null,null,null,null,null,null,null,null,null,null,null,null,null,null,null,null,null,0,0,0]
[null,null,null,null,null,null,null,null,null,null,null,null,null,null,null,null,null,null,null,null,null,null,null,null,0,0,0]
[null,null,null,null,null,null,null,null,null,null,null,null,null,null,null,null,null,null,null,null,null,null,null,null,0,0,0]
[null,null,null,null,null,null,null,null,null,null,null,null,null,null,null,null,null,null,null,null,null,null,null,null,0,0,0]
[null,null,null,null,null,null,null,null,null,null,null,null,null,null,null,null,null,null,null,null,null,null,null,null,0,0,0]
[null,null,null,null,null,null,null,null,null,null,null,null,null,null,null,null,null,null,null,null,null,null,null,null,0,0,0]
[null,null,null,null,null,null,null,null,null,null,null,null,null,null,null,null,null,null,null,null,null,null,null,null,0,0,0]
[null,null,null,null,null,null,null,null,null,null,null,null,null,null,null,null,null,null,null,null,null,null,null,null,0,0,0]
[null,null,null,null,null,null,null,null,null,null,null,null,null,null,null,null,null,null,null,null,null,null,null,null,0,0,0]
[null,null,null,null,null,null,null,null,null,null,null,null,null,null,null,null,null,null,null,null,null,null,null,null,0,0,0]
[null,null,null,null,null,null,null,null,null,null,null,null,null,null,null,null,null,null,null,null,null,null,null,null,0,0,0]
[null,null,null,null,null,null,null,null,null,null,null,null,null,null,null,null,null,null,null,null,null,null,null,null,0,0,0]
[null,null,null,null,null,null,null,null,null,null,null,null,null,null,null,null,null,null,null,null,null,null,null,null,0,0,0]
[null,null,null,null,null,null,null,null,null,null,null,null,null,null,null,null,null,null,null,null,null,null,null,null,0,0,0]
[null,null,null,null,null,null,null,null,null,null,null,null,null,null,null,null,null,null,null,null,null,null,null,null,0,0,0]
[null,null,null,null,null,null,null,null,null,null,null,null,null,null,null,null,null,null,null,null,null,null,null,null,0,0,0]
[null,null,null,null,null,null,null,null,null,null,null,null,null,null,null,null,null,null,null,null,null,null,null,null,0,0,0]
[null,null,null,null,null,null,null,null,null,null,null,null,null,null,null,null,null,null,null,null,null,null,null,null,0,0,0]
[null,null,null,null,null,null,null,null,null,null,null,null,null,null,null,null,null,null,null,null,null,null,null,null,0,0,0]
[null,null,null,null,null,null,null,null,null,null,null,null,null,null,null,null,null,null,null,null,null,null,null,null,0,0,0]
[null,null,null,null,null,null,null,null,null,null,null,null,null,null,null,null,null,null,null,null,null,null,null,null,0,0,0]
[null,null,null,null,null,null,null,null,null,null,null,null,null,null,null,null,null,null,null,null,null,null,null,null,0,0,0]
[null,null,null,null,null,null,null,null,null,null,null,null,null,null,null,null,null,null,null,null,null,null,null,null,0,0,0]
[null,null,null,null,null,null,null,null,null,null,null,null,null,null,null,null,null,null,null,null,null,null,null,null,0,0,0]
[null,null,null,null,null,null,null,null,null,null,null,null,null,null,null,null,null,null,null,null,null,null,null,null,0,0,0]
[null,null,null,null,null,null,null,null,null,null,null,null,null,null,null,null,null,null,null,null,null,null,null,null,0,0,0]
[null,null,null,null,null,null,null,null,null,null,null,null,null,null,null,null,null,null,null,null,null,null,null,null,0,0,0]
[null,null,null,null,null,null,null,null,null,null,null,null,null,null,null,null,null,null,null,null,null,null,null,null,0,0,0]
[null,null,null,null,null,null,null,null,null,null,null,null,null,null,null,null,null,null,null,null,null,null,null,null,0,0,0]
[null,null,null,null,null,null,null,null,null,null,null,null,null,null,null,null,null,null,null,null,null,null,null,null,0,0,0]
[null,null,null,null,null,null,null,null,null,null,null,null,null,null,null,null,null,null,null,null,null,null,null,null,0,0,0]
[null,null,null,null,null,null,null,null,null,null,null,null,null,null,null,null,null,null,null,null,null,null,null,null,0,0,0]
[null,null,null,null,null,null,null,null,null,null,null,null,null,null,null,null,null,null,null,null,null,null,null,null,0,0,0]
[null,null,null,null,null,null,null,null,null,null,null,null,null,null,null,null,null,null,null,null,null,null,null,null,0,0,0]
[null,null,null,null,null,null,null,null,null,null,null,null,null,null,null,null,null,null,null,null,null,null,null,null,0,0,0]
[null,null,null,null,null,null,null,null,null,null,null,null,null,null,null,null,null,null,null,null,null,null,null,null,0,0,0]
[null,null,null,null,null,null,null,null,null,null,null,null,null,null,null,null,null,null,null,null,null,null,null,null,0,0,0]
[null,null,null,null,null,null,null,null,null,null,null,null,null,null,null,null,null,null,null,null,null,null,null,null,0,0,0]
[null,null,null,null,null,null,null,null,null,null,null,null,null,null,null,null,null,null,null,null,null,null,null,null,0,0,0]
[null,null,null,null,null,null,null,null,null,null,null,null,null,null,null,null,null,null,null,null,null,null,null,null,0,0,0]
[null,null,null,null,null,null,null,null,null,null,null,null,null,null,null,null,null,null,null,null,null,null,null,null,0,0,0]
[null,null,null,null,null,null,null,null,null,null,null,null,null,null,null,null,null,null,null,null,null,null,null,null,0,0,0]
[null,null,null,null,null,null,null,null,null,null,null,null,null,null,null,null,null,null,null,null,null,null,null,null,0,0,0]
[null,null,null,null,null,null,null,null,null,null,null,null,null,null,null,null,null,null,null,null,null,null,null,null,0,0,0]
[null,null,null,null,null,null,null,null,null,null,null,null,null,null,null,null,null,null,null,null,null,null,null,null,0,0,0]
[null,null,null,null,null,null,null,null,null,null,null,null,null,null,null,null,null,null,null,null,null,null,null,null,0,0,0]
[null,null,null,null,null,null,null,null,null,null,null,null,null,null,null,null,null,null,null,null,null,null,null,null,0,0,0]
[null,null,null,null,null,null,null,null,null,null,null,null,null,null,null,null,null,null,null,null,null,null,null,null,0,0,0]
[null,null,null,null,null,null,null,null,null,null,null,null,null,null,null,null,null,null,null,null,null,null,null,null,0,0,0]
[null,null,null,null,null,null,null,null,null,null,null,null,null,null,null,null,null,null,null,null,null,null,null,null,0,0,0]
[null,null,null,null,null,null,null,null,null,null,null,null,null,null,null,null,null,null,null,null,null,null,null,null,0,0,0]
[null,null,null,null,null,null,null,null,null,null,null,null,null,null,null,null,null,null,null,null,null,null,null,null,0,0,0]
[null,null,null,null,null,null,null,null,null,null,null,null,null,null,null,null,null,null,null,null,null,null,null,null,0,0,0]
[null,null,null,null,null,null,null,null,null,null,null,null,null,null,null,null,null,null,null,null,null,null,null,null,0,0,0]
[null,null,null,null,null,null,null,null,null,null,null,null,null,null,null,null,null,null,null,null,null,null,null,null,0,0,0]
[null,null,null,null,null,null,null,null,null,null,null,null,null,null,null,null,null,null,null,null,null,null,null,null,0,0,0]
[null,null,null,null,null,null,null,null,null,null,null,null,null,null,null,null,null,null,null,null,null,null,null,null,{"$f":"ABS(C528)","v":0},0,0]
[null,null,null,null,null,null,null,null,null,null,null,null,null,null,null,null,null,null,null,null,null,null,null,null,0,{"$f":"ABS(H529)","v":0},{"$f":"ABS(I529)","v":0}]
[null,null,null,null,null,null,null,null,null,null,null,null,null,null,null,null,null,null,null,null,null,null,null,null,0,0,0]
[null,null,null,null,null,null,null,null,null,null,null,null,null,null,null,null,null,null,null,null,null,null,null,null,0,0,0]
[null,null,null,null,null,null,null,null,null,null,null,null,null,null,null,null,null,null,null,null,null,null,null,null,0,0,0]
[null,null,null,null,null,null,null,null,null,null,null,null,null,null,null,null,null,null,null,null,null,null,null,null,0,0,0]
[null,null,null,null,null,null,null,null,null,null,null,null,null,null,null,null,null,null,null,null,null,null,null,null,0,0,0]
[null,null,null,null,null,null,null,null,null,null,null,null,null,null,null,null,null,null,null,null,null,null,null,null,0,0,0]
[null,null,null,null,null,null,null,null,null,null,null,null,null,null,null,null,null,null,null,null,null,null,null,null,0,0,0]
[null,null,null,null,null,null,null,null,null,null,null,null,null,null,null,null,null,null,null,null,null,null,null,null,0,0,0]
[null,null,null,null,null,null,null,null,null,null,null,null,null,null,null,null,null,null,null,null,null,null,null,null,0,0,0]
[null,null,null,null,null,null,null,null,null,null,null,null,null,null,null,null,null,null,null,null,null,null,null,null,0,0,0]
[null,null,null,null,null,null,null,null,null,null,null,null,null,null,null,null,null,null,null,null,null,null,null,null,0,0,0]
[null,null,null,null,null,null,null,null,null,null,null,null,null,null,null,null,null,null,null,null,null,null,null,null,0,0,0]
[null,null,null,null,null,null,null,null,null,null,null,null,null,null,null,null,null,null,null,null,null,null,null,null,0,0,0]
[null,null,null,null,null,null,null,null,null,null,null,null,null,null,null,null,null,null,null,null,null,null,null,null,0,0,0]
[null,null,null,null,null,null,null,null,null,null,null,null,null,null,null,null,null,null,null,null,null,null,null,null,0,0,0]
[null,null,null,null,null,null,null,null,null,null,null,null,null,null,null,null,null,null,null,null,null,null,null,null,0,0,0]
[null,null,null,null,null,null,null,null,null,null,null,null,null,null,null,null,null,null,null,null,null,null,null,null,0,0,0]
[null,null,null,null,null,null,null,null,null,null,null,null,null,null,null,null,null,null,null,null,null,null,null,null,0,0,0]
[null,null,null,null,null,null,null,null,null,null,null,null,null,null,null,null,null,null,null,null,null,null,null,null,0,0,0]
[null,null,null,null,null,null,null,null,null,null,null,null,null,null,null,null,null,null,null,null,null,null,null,null,0,0,0]
[null,null,null,null,null,null,null,null,null,null,null,null,null,null,null,null,null,null,null,null,null,null,null,null,0,0,0]
[null,null,null,null,null,null,null,null,null,null,null,null,null,null,null,null,null,null,null,null,null,null,null,null,0,0,0]
[null,null,null,null,null,null,null,null,null,null,null,null,null,null,null,null,null,null,null,null,null,null,null,null,0,0,0]
[null,null,null,null,null,null,null,null,null,null,null,null,null,null,null,null,null,null,null,null,null,null,null,null,0,0,0]
[null,null,null,null,null,null,null,null,null,null,null,null,null,null,null,null,null,null,null,null,null,null,null,null,0,0,0]
[null,null,null,null,null,null,null,null,null,null,null,null,null,null,null,null,null,null,null,null,null,null,null,null,0,0,0]
[null,null,null,null,null,null,null,null,null,null,null,null,null,null,null,null,null,null,null,null,null,null,null,null,0,0,0]
[null,null,null,null,null,null,null,null,null,null,null,null,null,null,null,null,null,null,null,null,null,null,null,null,0,0,0]
[null,null,null,null,null,null,null,null,null,null,null,null,null,null,null,null,null,null,null,null,null,null,null,null,0,0,0]
[null,null,null,null,null,null,null,null,null,null,null,null,null,null,null,null,null,null,null,null,null,null,null,null,0,0,0]
[null,null,null,null,null,null,null,null,null,null,null,null,null,null,null,null,null,null,null,null,null,null,null,null,0,0,0]
[null,null,null,null,null,null,null,null,null,null,null,null,null,null,null,null,null,null,null,null,null,null,null,null,0,0,0]
[null,null,null,null,null,null,null,null,null,null,null,null,null,null,null,null,null,null,null,null,null,null,null,null,0,0,0]
[null,null,null,null,null,null,null,null,null,null,null,null,null,null,null,null,null,null,null,null,null,null,null,null,0,0,0]
[null,null,null,null,null,null,null,null,null,null,null,null,null,null,null,null,null,null,null,null,null,null,null,null,0,0,0]
[null,null,null,null,null,null,null,null,null,null,null,null,null,null,null,null,null,null,null,null,null,null,null,null,0,0,0]
[null,null,null,null,null,null,null,null,null,null,null,null,null,null,null,null,null,null,null,null,null,null,null,null,0,0,0]
[null,null,null,null,null,null,null,null,null,null,null,null,null,null,null,null,null,null,null,null,null,null,null,null,0,0,0]
[null,null,null,null,null,null,null,null,null,null,null,null,null,null,null,null,null,null,null,null,null,null,null,null,0,0,0]
[null,null,null,null,null,null,null,null,null,null,null,null,null,null,null,null,null,null,null,null,null,null,null,null,0,0,0]
[null,null,null,null,null,null,null,null,null,null,null,null,null,null,null,null,null,null,null,null,null,null,null,null,0,0,0]
[null,null,null,null,null,null,null,null,null,null,null,null,null,null,null,null,null,null,null,null,null,null,null,null,0,0,0]
[null,null,null,null,null,null,null,null,null,null,null,null,null,null,null,null,null,null,null,null,null,null,null,null,0,0,0]
[null,null,null,null,null,null,null,null,null,null,null,null,null,null,null,null,null,null,null,null,null,null,null,null,0,0,0]
[null,null,null,null,null,null,null,null,null,null,null,null,null,null,null,null,null,null,null,null,null,null,null,null,0,0,0]
[null,null,null,null,null,null,null,null,null,null,null,null,null,null,null,null,null,null,null,null,null,null,null,null,0,0,0]
[null,null,null,null,null,null,null,null,null,null,null,null,null,null,null,null,null,null,null,null,null,null,null,null,0,0,0]
[null,null,null,null,null,null,null,null,null,null,null,null,null,null,null,null,null,null,null,null,null,null,null,null,0,0,0]
[null,null,null,null,null,null,null,null,null,null,null,null,null,null,null,null,null,null,null,null,null,null,null,null,0,0,0]
[null,null,null,null,null,null,null,null,null,null,null,null,null,null,null,null,null,null,null,null,null,null,null,null,0,0,0]
[null,null,null,null,null,null,null,null,null,null,null,null,null,null,null,null,null,null,null,null,null,null,null,null,0,0,0]
[null,null,null,null,null,null,null,null,null,null,null,null,null,null,null,null,null,null,null,null,null,null,null,null,0,0,0]
[null,null,null,null,null,null,null,null,null,null,null,null,null,null,null,null,null,null,null,null,null,null,null,null,0,0,0]
[null,null,null,null,null,null,null,null,null,null,null,null,null,null,null,null,null,null,null,null,null,null,null,null,0,0,0]
[null,null,null,null,null,null,null,null,null,null,null,null,null,null,null,null,null,null,null,null,null,null,null,null,0,0,0]
[null,null,null,null,null,null,null,null,null,null,null,null,null,null,null,null,null,null,null,null,null,null,null,null,0,0,0]
[null,null,null,null,null,null,null,null,null,null,null,null,null,null,null,null,null,null,null,null,null,null,null,null,0,0,0]
[null,null,null,null,null,null,null,null,null,null,null,null,null,null,null,null,null,null,null,null,null,null,null,null,0,0,0]
[null,null,null,null,null,null,null,null,null,null,null,null,null,null,null,null,null,null,null,null,null,null,null,null,0,0,0]
[null,null,null,null,null,null,null,null,null,null,null,null,null,null,null,null,null,null,null,null,null,null,null,null,0,0,0]
[null,null,null,null,null,null,null,null,null,null,null,null,null,null,null,null,null,null,null,null,null,null,null,null,0,0,0]
[null,null,null,null,null,null,null,null,null,null,null,null,null,null,null,null,null,null,null,null,null,null,null,null,0,0,0]
[null,null,null,null,null,null,null,null,null,null,null,null,null,null,null,null,null,null,null,null,null,null,null,null,{"$f":"ABS(C592)","v":0},0,0]
[null,null,null,null,null,null,null,null,null,null,null,null,null,null,null,null,null,null,null,null,null,null,null,null,0,{"$f":"ABS(H593)","v":0},{"$f":"ABS(I593)","v":0}]
[null,null,null,null,null,null,null,null,null,null,null,null,null,null,null,null,null,null,null,null,null,null,null,null,0,0,0]
[null,null,null,null,null,null,null,null,null,null,null,null,null,null,null,null,null,null,null,null,null,null,null,null,0,0,0]
[null,null,null,null,null,null,null,null,null,null,null,null,null,null,null,null,null,null,null,null,null,null,null,null,0,0,0]
[null,null,null,null,null,null,null,null,null,null,null,null,null,null,null,null,null,null,null,null,null,null,null,null,0,0,0]
[null,null,null,null,null,null,null,null,null,null,null,null,null,null,null,null,null,null,null,null,null,null,null,null,0,0,0]
[null,null,null,null,null,null,null,null,null,null,null,null,null,null,null,null,null,null,null,null,null,null,null,null,0,0,0]
[null,null,null,null,null,null,null,null,null,null,null,null,null,null,null,null,null,null,null,null,null,null,null,null,0,0,0]
[null,null,null,null,null,null,null,null,null,null,null,null,null,null,null,null,null,null,null,null,null,null,null,null,0,0,0]
[null,null,null,null,null,null,null,null,null,null,null,null,null,null,null,null,null,null,null,null,null,null,null,null,0,0,0]
[null,null,null,null,null,null,null,null,null,null,null,null,null,null,null,null,null,null,null,null,null,null,null,null,0,0,0]
[null,null,null,null,null,null,null,null,null,null,null,null,null,null,null,null,null,null,null,null,null,null,null,null,0,0,0]
[null,null,null,null,null,null,null,null,null,null,null,null,null,null,null,null,null,null,null,null,null,null,null,null,0,0,0]
[null,null,null,null,null,null,null,null,null,null,null,null,null,null,null,null,null,null,null,null,null,null,null,null,0,0,0]
[null,null,null,null,null,null,null,null,null,null,null,null,null,null,null,null,null,null,null,null,null,null,null,null,0,0,0]
[null,null,null,null,null,null,null,null,null,null,null,null,null,null,null,null,null,null,null,null,null,null,null,null,0,0,0]
[null,null,null,null,null,null,null,null,null,null,null,null,null,null,null,null,null,null,null,null,null,null,null,null,0,0,0]
[null,null,null,null,null,null,null,null,null,null,null,null,null,null,null,null,null,null,null,null,null,null,null,null,0,0,0]
[null,null,null,null,null,null,null,null,null,null,null,null,null,null,null,null,null,null,null,null,null,null,null,null,0,0,0]
[null,null,null,null,null,null,null,null,null,null,null,null,null,null,null,null,null,null,null,null,null,null,null,null,0,0,0]
[null,null,null,null,null,null,null,null,null,null,null,null,null,null,null,null,null,null,null,null,null,null,null,null,0,0,0]
[null,null,null,null,null,null,null,null,null,null,null,null,null,null,null,null,null,null,null,null,null,null,null,null,0,0,0]
[null,null,null,null,null,null,null,null,null,null,null,null,null,null,null,null,null,null,null,null,null,null,null,null,0,0,0]
[null,null,null,null,null,null,null,null,null,null,null,null,null,null,null,null,null,null,null,null,null,null,null,null,0,0,0]
[null,null,null,null,null,null,null,null,null,null,null,null,null,null,null,null,null,null,null,null,null,null,null,null,0,0,0]
[null,null,null,null,null,null,null,null,null,null,null,null,null,null,null,null,null,null,null,null,null,null,null,null,0,0,0]
[null,null,null,null,null,null,null,null,null,null,null,null,null,null,null,null,null,null,null,null,null,null,null,null,0,0,0]
[null,null,null,null,null,null,null,null,null,null,null,null,null,null,null,null,null,null,null,null,null,null,null,null,0,0,0]
[null,null,null,null,null,null,null,null,null,null,null,null,null,null,null,null,null,null,null,null,null,null,null,null,0,0,0]
[null,null,null,null,null,null,null,null,null,null,null,null,null,null,null,null,null,null,null,null,null,null,null,null,0,0,0]
[null,null,null,null,null,null,null,null,null,null,null,null,null,null,null,null,null,null,null,null,null,null,null,null,0,0,0]
[null,null,null,null,null,null,null,null,null,null,null,null,null,null,null,null,null,null,null,null,null,null,null,null,0,0,0]
[null,null,null,null,null,null,null,null,null,null,null,null,null,null,null,null,null,null,null,null,null,null,null,null,0,0,0]
[null,null,null,null,null,null,null,null,null,null,null,null,null,null,null,null,null,null,null,null,null,null,null,null,0,0,0]
[null,null,null,null,null,null,null,null,null,null,null,null,null,null,null,null,null,null,null,null,null,null,null,null,0,0,0]
[null,null,null,null,null,null,null,null,null,null,null,null,null,null,null,null,null,null,null,null,null,null,null,null,0,0,0]
[null,null,null,null,null,null,null,null,null,null,null,null,null,null,null,null,null,null,null,null,null,null,null,null,0,0,0]
[null,null,null,null,null,null,null,null,null,null,null,null,null,null,null,null,null,null,null,null,null,null,null,null,0,0,0]
[null,null,null,null,null,null,null,null,null,null,null,null,null,null,null,null,null,null,null,null,null,null,null,null,0,0,0]
[null,null,null,null,null,null,null,null,null,null,null,null,null,null,null,null,null,null,null,null,null,null,null,null,0,0,0]
[null,null,null,null,null,null,null,null,null,null,null,null,null,null,null,null,null,null,null,null,null,null,null,null,0,0,0]
[null,null,null,null,null,null,null,null,null,null,null,null,null,null,null,null,null,null,null,null,null,null,null,null,0,0,0]
[null,null,null,null,null,null,null,null,null,null,null,null,null,null,null,null,null,null,null,null,null,null,null,null,0,0,0]
[null,null,null,null,null,null,null,null,null,null,null,null,null,null,null,null,null,null,null,null,null,null,null,null,0,0,0]
[null,null,null,null,null,null,null,null,null,null,null,null,null,null,null,null,null,null,null,null,null,null,null,null,0,0,0]
[null,null,null,null,null,null,null,null,null,null,null,null,null,null,null,null,null,null,null,null,null,null,null,null,0,0,0]
[null,null,null,null,null,null,null,null,null,null,null,null,null,null,null,null,null,null,null,null,null,null,null,null,0,0,0]
[null,null,null,null,null,null,null,null,null,null,null,null,null,null,null,null,null,null,null,null,null,null,null,null,0,0,0]
[null,null,null,null,null,null,null,null,null,null,null,null,null,null,null,null,null,null,null,null,null,null,null,null,0,0,0]
[null,null,null,null,null,null,null,null,null,null,null,null,null,null,null,null,null,null,null,null,null,null,null,null,0,0,0]
[null,null,null,null,null,null,null,null,null,null,null,null,null,null,null,null,null,null,null,null,null,null,null,null,0,0,0]
[null,null,null,null,null,null,null,null,null,null,null,null,null,null,null,null,null,null,null,null,null,null,null,null,0,0,0]
[null,null,null,null,null,null,null,null,null,null,null,null,null,null,null,null,null,null,null,null,null,null,null,null,0,0,0]
[null,null,null,null,null,null,null,null,null,null,null,null,null,null,null,null,null,null,null,null,null,null,null,null,0,0,0]
[null,null,null,null,null,null,null,null,null,null,null,null,null,null,null,null,null,null,null,null,null,null,null,null,0,0,0]
[null,null,null,null,null,null,null,null,null,null,null,null,null,null,null,null,null,null,null,null,null,null,null,null,0,0,0]
[null,null,null,null,null,null,null,null,null,null,null,null,null,null,null,null,null,null,null,null,null,null,null,null,0,0,0]
[null,null,null,null,null,null,null,null,null,null,null,null,null,null,null,null,null,null,null,null,null,null,null,null,0,0,0]
[null,null,null,null,null,null,null,null,null,null,null,null,null,null,null,null,null,null,null,null,null,null,null,null,0,0,0]
[null,null,null,null,null,null,null,null,null,null,null,null,null,null,null,null,null,null,null,null,null,null,null,null,0,0,0]
[null,null,null,null,null,null,null,null,null,null,null,null,null,null,null,null,null,null,null,null,null,null,null,null,0,0,0]
[null,null,null,null,null,null,null,null,null,null,null,null,null,null,null,null,null,null,null,null,null,null,null,null,0,0,0]
[null,null,null,null,null,null,null,null,null,null,null,null,null,null,null,null,null,null,null,null,null,null,null,null,0,0,0]
[null,null,null,null,null,null,null,null,null,null,null,null,null,null,null,null,null,null,null,null,null,null,null,null,{"$f":"ABS(C656)","v":0},0,0]
[null,null,null,null,null,null,null,null,null,null,null,null,null,null,null,null,null,null,null,null,null,null,null,null,0,{"$f":"ABS(H657)","v":0},{"$f":"ABS(I657)","v":0}]
[null,null,null,null,null,null,null,null,null,null,null,null,null,null,null,null,null,null,null,null,null,null,null,null,0,0,0]
[null,null,null,null,null,null,null,null,null,null,null,null,null,null,null,null,null,null,null,null,null,null,null,null,0,0,0]
[null,null,null,null,null,null,null,null,null,null,null,null,null,null,null,null,null,null,null,null,null,null,null,null,0,0,0]
[null,null,null,null,null,null,null,null,null,null,null,null,null,null,null,null,null,null,null,null,null,null,null,null,0,0,0]
[null,null,null,null,null,null,null,null,null,null,null,null,null,null,null,null,null,null,null,null,null,null,null,null,0,0,0]
[null,null,null,null,null,null,null,null,null,null,null,null,null,null,null,null,null,null,null,null,null,null,null,null,0,0,0]
[null,null,null,null,null,null,null,null,null,null,null,null,null,null,null,null,null,null,null,null,null,null,null,null,0,0,0]
[null,null,null,null,null,null,null,null,null,null,null,null,null,null,null,null,null,null,null,null,null,null,null,null,0,0,0]
[null,null,null,null,null,null,null,null,null,null,null,null,null,null,null,null,null,null,null,null,null,null,null,null,0,0,0]
[null,null,null,null,null,null,null,null,null,null,null,null,null,null,null,null,null,null,null,null,null,null,null,null,0,0,0]
[null,null,null,null,null,null,null,null,null,null,null,null,null,null,null,null,null,null,null,null,null,null,null,null,0,0,0]
[null,null,null,null,null,null,null,null,null,null,null,null,null,null,null,null,null,null,null,null,null,null,null,null,0,0,0]
[null,null,null,null,null,null,null,null,null,null,null,null,null,null,null,null,null,null,null,null,null,null,null,null,0,0,0]
[null,null,null,null,null,null,null,null,null,null,null,null,null,null,null,null,null,null,null,null,null,null,null,null,0,0,0]
[null,null,null,null,null,null,null,null,null,null,null,null,null,null,null,null,null,null,null,null,null,null,null,null,0,0,0]
[null,null,null,null,null,null,null,null,null,null,null,null,null,null,null,null,null,null,null,null,null,null,null,null,0,0,0]
[null,null,null,null,null,null,null,null,null,null,null,null,null,null,null,null,null,null,null,null,null,null,null,null,0,0,0]
[null,null,null,null,null,null,null,null,null,null,null,null,null,null,null,null,null,null,null,null,null,null,null,null,0,0,0]
[null,null,null,null,null,null,null,null,null,null,null,null,null,null,null,null,null,null,null,null,null,null,null,null,0,0,0]
[null,null,null,null,null,null,null,null,null,null,null,null,null,null,null,null,null,null,null,null,null,null,null,null,0,0,0]
[null,null,null,null,null,null,null,null,null,null,null,null,null,null,null,null,null,null,null,null,null,null,null,null,0,0,0]
[null,null,null,null,null,null,null,null,null,null,null,null,null,null,null,null,null,null,null,null,null,null,null,null,0,0,0]
[null,null,null,null,null,null,null,null,null,null,null,null,null,null,null,null,null,null,null,null,null,null,null,null,0,0,0]
[null,null,null,null,null,null,null,null,null,null,null,null,null,null,null,null,null,null,null,null,null,null,null,null,0,0,0]
[null,null,null,null,null,null,null,null,null,null,null,null,null,null,null,null,null,null,null,null,null,null,null,null,0,0,0]
[null,null,null,null,null,null,null,null,null,null,null,null,null,null,null,null,null,null,null,null,null,null,null,null,0,0,0]
[null,null,null,null,null,null,null,null,null,null,null,null,null,null,null,null,null,null,null,null,null,null,null,null,0,0,0]
[null,null,null,null,null,null,null,null,null,null,null,null,null,null,null,null,null,null,null,null,null,null,null,null,0,0,0]
[null,null,null,null,null,null,null,null,null,null,null,null,null,null,null,null,null,null,null,null,null,null,null,null,0,0,0]
[null,null,null,null,null,null,null,null,null,null,null,null,null,null,null,null,null,null,null,null,null,null,null,null,0,0,0]
[null,null,null,null,null,null,null,null,null,null,null,null,null,null,null,null,null,null,null,null,null,null,null,null,0,0,0]
[null,null,null,null,null,null,null,null,null,null,null,null,null,null,null,null,null,null,null,null,null,null,null,null,0,0,0]
[null,null,null,null,null,null,null,null,null,null,null,null,null,null,null,null,null,null,null,null,null,null,null,null,0,0,0]
[null,null,null,null,null,null,null,null,null,null,null,null,null,null,null,null,null,null,null,null,null,null,null,null,0,0,0]
[null,null,null,null,null,null,null,null,null,null,null,null,null,null,null,null,null,null,null,null,null,null,null,null,0,0,0]
[null,null,null,null,null,null,null,null,null,null,null,null,null,null,null,null,null,null,null,null,null,null,null,null,0,0,0]
[null,null,null,null,null,null,null,null,null,null,null,null,null,null,null,null,null,null,null,null,null,null,null,null,0,0,0]
[null,null,null,null,null,null,null,null,null,null,null,null,null,null,null,null,null,null,null,null,null,null,null,null,0,0,0]
[null,null,null,null,null,null,null,null,null,null,null,null,null,null,null,null,null,null,null,null,null,null,null,null,0,0,0]
[null,null,null,null,null,null,null,null,null,null,null,null,null,null,null,null,null,null,null,null,null,null,null,null,0,0,0]
[null,null,null,null,null,null,null,null,null,null,null,null,null,null,null,null,null,null,null,null,null,null,null,null,0,0,0]
[null,null,null,null,null,null,null,null,null,null,null,null,null,null,null,null,null,null,null,null,null,null,null,null,0,0,0]
[null,null,null,null,null,null,null,null,null,null,null,null,null,null,null,null,null,null,null,null,null,null,null,null,0,0,0]
[null,null,null,null,null,null,null,null,null,null,null,null,null,null,null,null,null,null,null,null,null,null,null,null,0,0,0]
[null,null,null,null,null,null,null,null,null,null,null,null,null,null,null,null,null,null,null,null,null,null,null,null,0,0,0]
[null,null,null,null,null,null,null,null,null,null,null,null,null,null,null,null,null,null,null,null,null,null,null,null,0,0,0]
[null,null,null,null,null,null,null,null,null,null,null,null,null,null,null,null,null,null,null,null,null,null,null,null,0,0,0]
[null,null,null,null,null,null,null,null,null,null,null,null,null,null,null,null,null,null,null,null,null,null,null,null,0,0,0]
[null,null,null,null,null,null,null,null,null,null,null,null,null,null,null,null,null,null,null,null,null,null,null,null,0,0,0]
[null,null,null,null,null,null,null,null,null,null,null,null,null,null,null,null,null,null,null,null,null,null,null,null,0,0,0]
[null,null,null,null,null,null,null,null,null,null,null,null,null,null,null,null,null,null,null,null,null,null,null,null,0,0,0]
[null,null,null,null,null,null,null,null,null,null,null,null,null,null,null,null,null,null,null,null,null,null,null,null,0,0,0]
[null,null,null,null,null,null,null,null,null,null,null,null,null,null,null,null,null,null,null,null,null,null,null,null,0,0,0]
[null,null,null,null,null,null,null,null,null,null,null,null,null,null,null,null,null,null,null,null,null,null,null,null,0,0,0]
[null,null,null,null,null,null,null,null,null,null,null,null,null,null,null,null,null,null,null,null,null,null,null,null,0,0,0]
[null,null,null,null,null,null,null,null,null,null,null,null,null,null,null,null,null,null,null,null,null,null,null,null,0,0,0]
[null,null,null,null,null,null,null,null,null,null,null,null,null,null,null,null,null,null,null,null,null,null,null,null,0,0,0]
[null,null,null,null,null,null,null,null,null,null,null,null,null,null,null,null,null,null,null,null,null,null,null,null,0,0,0]
[null,null,null,null,null,null,null,null,null,null,null,null,null,null,null,null,null,null,null,null,null,null,null,null,0,0,0]
[null,null,null,null,null,null,null,null,null,null,null,null,null,null,null,null,null,null,null,null,null,null,null,null,0,0,0]
[null,null,null,null,null,null,null,null,null,null,null,null,null,null,null,null,null,null,null,null,null,null,null,null,0,0,0]
[null,null,null,null,null,null,null,null,null,null,null,null,null,null,null,null,null,null,null,null,null,null,null,null,0,0,0]
[null,null,null,null,null,null,null,null,null,null,null,null,null,null,null,null,null,null,null,null,null,null,null,null,{"$f":"ABS(C720)","v":0},0,0]
[null,null,null,null,null,null,null,null,null,null,null,null,null,null,null,null,null,null,null,null,null,null,null,null,0,{"$f":"ABS(H721)","v":0},{"$f":"ABS(I721)","v":0}]
[null,null,null,null,null,null,null,null,null,null,null,null,null,null,null,null,null,null,null,null,null,null,null,null,0,0,0]
[null,null,null,null,null,null,null,null,null,null,null,null,null,null,null,null,null,null,null,null,null,null,null,null,0,0,0]
[null,null,null,null,null,null,null,null,null,null,null,null,null,null,null,null,null,null,null,null,null,null,null,null,0,0,0]
[null,null,null,null,null,null,null,null,null,null,null,null,null,null,null,null,null,null,null,null,null,null,null,null,0,0,0]
[null,null,null,null,null,null,null,null,null,null,null,null,null,null,null,null,null,null,null,null,null,null,null,null,0,0,0]
[null,null,null,null,null,null,null,null,null,null,null,null,null,null,null,null,null,null,null,null,null,null,null,null,0,0,0]
[null,null,null,null,null,null,null,null,null,null,null,null,null,null,null,null,null,null,null,null,null,null,null,null,0,0,0]
[null,null,null,null,null,null,null,null,null,null,null,null,null,null,null,null,null,null,null,null,null,null,null,null,0,0,0]
[null,null,null,null,null,null,null,null,null,null,null,null,null,null,null,null,null,null,null,null,null,null,null,null,0,0,0]
[null,null,null,null,null,null,null,null,null,null,null,null,null,null,null,null,null,null,null,null,null,null,null,null,0,0,0]
[null,null,null,null,null,null,null,null,null,null,null,null,null,null,null,null,null,null,null,null,null,null,null,null,0,0,0]
[null,null,null,null,null,null,null,null,null,null,null,null,null,null,null,null,null,null,null,null,null,null,null,null,0,0,0]
[null,null,null,null,null,null,null,null,null,null,null,null,null,null,null,null,null,null,null,null,null,null,null,null,0,0,0]
[null,null,null,null,null,null,null,null,null,null,null,null,null,null,null,null,null,null,null,null,null,null,null,null,0,0,0]
[null,null,null,null,null,null,null,null,null,null,null,null,null,null,null,null,null,null,null,null,null,null,null,null,0,0,0]
[null,null,null,null,null,null,null,null,null,null,null,null,null,null,null,null,null,null,null,null,null,null,null,null,0,0,0]
[null,null,null,null,null,null,null,null,null,null,null,null,null,null,null,null,null,null,null,null,null,null,null,null,0,0,0]
[null,null,null,null,null,null,null,null,null,null,null,null,null,null,null,null,null,null,null,null,null,null,null,null,0,0,0]
[null,null,null,null,null,null,null,null,null,null,null,null,null,null,null,null,null,null,null,null,null,null,null,null,0,0,0]
[null,null,null,null,null,null,null,null,null,null,null,null,null,null,null,null,null,null,null,null,null,null,null,null,0,0,0]
[null,null,null,null,null,null,null,null,null,null,null,null,null,null,null,null,null,null,null,null,null,null,null,null,0,0,0]
[null,null,null,null,null,null,null,null,null,null,null,null,null,null,null,null,null,null,null,null,null,null,null,null,0,0,0]
[null,null,null,null,null,null,null,null,null,null,null,null,null,null,null,null,null,null,null,null,null,null,null,null,0,0,0]
[null,null,null,null,null,null,null,null,null,null,null,null,null,null,null,null,null,null,null,null,null,null,null,null,0,0,0]
[null,null,null,null,null,null,null,null,null,null,null,null,null,null,null,null,null,null,null,null,null,null,null,null,0,0,0]
[null,null,null,null,null,null,null,null,null,null,null,null,null,null,null,null,null,null,null,null,null,null,null,null,0,0,0]
[null,null,null,null,null,null,null,null,null,null,null,null,null,null,null,null,null,null,null,null,null,null,null,null,0,0,0]
[null,null,null,null,null,null,null,null,null,null,null,null,null,null,null,null,null,null,null,null,null,null,null,null,0,0,0]
[null,null,null,null,null,null,null,null,null,null,null,null,null,null,null,null,null,null,null,null,null,null,null,null,0,0,0]
[null,null,null,null,null,null,null,null,null,null,null,null,null,null,null,null,null,null,null,null,null,null,null,null,0,0,0]
[null,null,null,null,null,null,null,null,null,null,null,null,null,null,null,null,null,null,null,null,null,null,null,null,0,0,0]
[null,null,null,null,null,null,null,null,null,null,null,null,null,null,null,null,null,null,null,null,null,null,null,null,0,0,0]
[null,null,null,null,null,null,null,null,null,null,null,null,null,null,null,null,null,null,null,null,null,null,null,null,0,0,0]
[null,null,null,null,null,null,null,null,null,null,null,null,null,null,null,null,null,null,null,null,null,null,null,null,0,0,0]
[null,null,null,null,null,null,null,null,null,null,null,null,null,null,null,null,null,null,null,null,null,null,null,null,0,0,0]
[null,null,null,null,null,null,null,null,null,null,null,null,null,null,null,null,null,null,null,null,null,null,null,null,0,0,0]
[null,null,null,null,null,null,null,null,null,null,null,null,null,null,null,null,null,null,null,null,null,null,null,null,0,0,0]
[null,null,null,null,null,null,null,null,null,null,null,null,null,null,null,null,null,null,null,null,null,null,null,null,0,0,0]
[null,null,null,null,null,null,null,null,null,null,null,null,null,null,null,null,null,null,null,null,null,null,null,null,0,0,0]
[null,null,null,null,null,null,null,null,null,null,null,null,null,null,null,null,null,null,null,null,null,null,null,null,0,0,0]
[null,null,null,null,null,null,null,null,null,null,null,null,null,null,null,null,null,null,null,null,null,null,null,null,0,0,0]
[null,null,null,null,null,null,null,null,null,null,null,null,null,null,null,null,null,null,null,null,null,null,null,null,0,0,0]
[null,null,null,null,null,null,null,null,null,null,null,null,null,null,null,null,null,null,null,null,null,null,null,null,0,0,0]
[null,null,null,null,null,null,null,null,null,null,null,null,null,null,null,null,null,null,null,null,null,null,null,null,0,0,0]
[null,null,null,null,null,null,null,null,null,null,null,null,null,null,null,null,null,null,null,null,null,null,null,null,0,0,0]
[null,null,null,null,null,null,null,null,null,null,null,null,null,null,null,null,null,null,null,null,null,null,null,null,0,0,0]
[null,null,null,null,null,null,null,null,null,null,null,null,null,null,null,null,null,null,null,null,null,null,null,null,0,0,0]
[null,null,null,null,null,null,null,null,null,null,null,null,null,null,null,null,null,null,null,null,null,null,null,null,0,0,0]
[null,null,null,null,null,null,null,null,null,null,null,null,null,null,null,null,null,null,null,null,null,null,null,null,0,0,0]
[null,null,null,null,null,null,null,null,null,null,null,null,null,null,null,null,null,null,null,null,null,null,null,null,0,0,0]
[null,null,null,null,null,null,null,null,null,null,null,null,null,null,null,null,null,null,null,null,null,null,null,null,0,0,0]
[null,null,null,null,null,null,null,null,null,null,null,null,null,null,null,null,null,null,null,null,null,null,null,null,0,0,0]
[null,null,null,null,null,null,null,null,null,null,null,null,null,null,null,null,null,null,null,null,null,null,null,null,0,0,0]
[null,null,null,null,null,null,null,null,null,null,null,null,null,null,null,null,null,null,null,null,null,null,null,null,0,0,0]
[null,null,null,null,null,null,null,null,null,null,null,null,null,null,null,null,null,null,null,null,null,null,null,null,0,0,0]
[null,null,null,null,null,null,null,null,null,null,null,null,null,null,null,null,null,null,null,null,null,null,null,null,0,0,0]
[null,null,null,null,null,null,null,null,null,null,null,null,null,null,null,null,null,null,null,null,null,null,null,null,0,0,0]
[null,null,null,null,null,null,null,null,null,null,null,null,null,null,null,null,null,null,null,null,null,null,null,null,0,0,0]
[null,null,null,null,null,null,null,null,null,null,null,null,null,null,null,null,null,null,null,null,null,null,null,null,0,0,0]
[null,null,null,null,null,null,null,null,null,null,null,null,null,null,null,null,null,null,null,null,null,null,null,null,0,0,0]
[null,null,null,null,null,null,null,null,null,null,null,null,null,null,null,null,null,null,null,null,null,null,null,null,0,0,0]
[null,null,null,null,null,null,null,null,null,null,null,null,null,null,null,null,null,null,null,null,null,null,null,null,0,0,0]
[null,null,null,null,null,null,null,null,null,null,null,null,null,null,null,null,null,null,null,null,null,null,null,null,0,0,0]
[null,null,null,null,null,null,null,null,null,null,null,null,null,null,null,null,null,null,null,null,null,null,null,null,0,{"$f":"ABS(H785)","v":0},{"$f":"ABS(I785)","v":0}]
[null,null,null,null,null,null,null,null,null,null,null,null,null,null,null,null,null,null,null,null,null,null,null,null,0,0,0]
[null,null,null,null,null,null,null,null,null,null,null,null,null,null,null,null,null,null,null,null,null,null,null,null,0,0,0]
[null,null,null,null,null,null,null,null,null,null,null,null,null,null,null,null,null,null,null,null,null,null,null,null,0,0,0]

{"sheet":"2) Check for series resistance","index":3,"n_rows":757,"n_cols":7,"rows_kept":757,"cut":false,"hidden":false,"merged":[[0,1,0,17],[2,1,2,10],[3,1,3,10],[4,1,6,3],[8,1,8,7],[37,5,37,6],[22,1,22,7],[37,1,37,2],[37,3,37,4],[9,1,9,7],[13,1,15,3],[12,1,12,7],[17,1,17,7],[18,1,20,3],[24,1,26,3]]}
[null,"2) Check for series resistance"]
[]
[null,"• Study the linear-scale current-voltage plot in Fig. 2.1."]
[null,"• Does the upper part of the curve appear to be straight as though it is limited by series resistance?"]
[null,0]
[]
[]
[]
[null,{"$f":"IF(B5=1,\"• If the slope of the log-log current-voltage curve in figure 2.2 appears to level off, then series resistance is a possible cause.\",\"\")","v":""}]
[null,{"$f":"IF(B5=1,\"• The red curve in figure 2.2 includes a correction for series resistance. Adjust the value of the estimated series resistance below to make straighten the upper part of this curve.\",\"\")","v":""}]
[null,"Estimated series resistance value",60,"Ω"]
[]
[null,{"$f":"IF(B5=1,\"• Is this correction reasonable based on knowledge of the device (e.g. not << electrode sheet resistance)?\",\"\")","v":""}]
[null,0]
[]
[]
[]
[null,{"$f":"IF(AND(Validation!H8,B5=1),\"• If there is still a kink or inflection in the corrected region, note the voltage below. Voltages above this will be excluded from fitting.\",\"\")","v":""}]
[null,0]
[]
[]
[]
[null,{"$f":"IF(B19=1,\"• Exclude voltages greater than:\",\"\")","v":""}]
[null,{"$f":"IF(B19=1,\"Vint >\",\"\")","v":""},100000,{"$f":"IF(B19=1,\"V\",\"\")","v":""}]
[null,"Record notes /  comments here"]
[]
[]
[]
[]
[]
[null,"Series resistance?",{"$f":"IF(AND(B5=1,B14<>2),TRUE,FALSE)","v":false}]
[null,"Rs",{"$f":"IF(C31=FALSE,0,C11)","v":0},"Ω"]
[null,"Exclude V_int>",{"$f":"IF(B19=1,C24,1000000)","v":1000000},"V"]
[null,"Number of points remaining",{"$f":"COUNT(G40:G757)","v":0}]
[]
[]
[]
[null,"Uncorrected data",null,"Series-resistance corrected data",null,"Retained corrected data"]
[null,"Voltage (V)","Current (A)","Voltage (V)","Current (A)","Voltage (V)","Current (A)"]
[1,{"$f":"IF($A40>n_select,\"\",'1) Select data'!Z16)","v":""},{"$f":"IF($A40>n_select,\"\",'1) Select data'!AA16)","v":""},{"$f":"IF($A40>n_select,0,B40-C40*R_s)","v":0},{"$f":"IF($A40>n_select,\"\",C40)","v":""},{"$f":"IF(AND($A40<=n_select,Validation!H$8,B40-C40*R_s<=V_ex1),B40-C40*R_s,0)","v":{"$error":"#VALUE!"}},{"$f":"IF(F40<>0,E40,\"\")","v":{"$error":"#VALUE!"}}]
[2,{"$f":"IF($A41>n_select,\"\",'1) Select data'!Z17)","v":""},{"$f":"IF($A41>n_select,\"\",'1) Select data'!AA17)","v":""},0,"",{"$f":"IF(AND($A41<=n_select,Validation!H$8,B41-C41*R_s<=V_ex1),B41-C41*R_s,0)","v":{"$error":"#VALUE!"}},{"$error":"#VALUE!"}]
[3,{"$f":"IF($A42>n_select,\"\",'1) Select data'!Z18)","v":""},{"$f":"IF($A42>n_select,\"\",'1) Select data'!AA18)","v":""},0,"",{"$f":"IF(AND($A42<=n_select,Validation!H$8,B42-C42*R_s<=V_ex1),B42-C42*R_s,0)","v":{"$error":"#VALUE!"}},{"$error":"#VALUE!"}]
[4,{"$f":"IF($A43>n_select,\"\",'1) Select data'!Z19)","v":""},{"$f":"IF($A43>n_select,\"\",'1) Select data'!AA19)","v":""},0,"",{"$f":"IF(AND($A43<=n_select,Validation!H$8,B43-C43*R_s<=V_ex1),B43-C43*R_s,0)","v":{"$error":"#VALUE!"}},{"$error":"#VALUE!"}]
[5,{"$f":"IF($A44>n_select,\"\",'1) Select data'!Z20)","v":""},{"$f":"IF($A44>n_select,\"\",'1) Select data'!AA20)","v":""},0,"",{"$f":"IF(AND($A44<=n_select,Validation!H$8,B44-C44*R_s<=V_ex1),B44-C44*R_s,0)","v":{"$error":"#VALUE!"}},{"$error":"#VALUE!"}]
[6,{"$f":"IF($A45>n_select,\"\",'1) Select data'!Z21)","v":""},{"$f":"IF($A45>n_select,\"\",'1) Select data'!AA21)","v":""},0,"",{"$f":"IF(AND($A45<=n_select,Validation!H$8,B45-C45*R_s<=V_ex1),B45-C45*R_s,0)","v":{"$error":"#VALUE!"}},{"$error":"#VALUE!"}]
[7,{"$f":"IF($A46>n_select,\"\",'1) Select data'!Z22)","v":""},{"$f":"IF($A46>n_select,\"\",'1) Select data'!AA22)","v":""},0,"",{"$f":"IF(AND($A46<=n_select,Validation!H$8,B46-C46*R_s<=V_ex1),B46-C46*R_s,0)","v":{"$error":"#VALUE!"}},{"$error":"#VALUE!"}]
[8,{"$f":"IF($A47>n_select,\"\",'1) Select data'!Z23)","v":""},{"$f":"IF($A47>n_select,\"\",'1) Select data'!AA23)","v":""},0,"",{"$f":"IF(AND($A47<=n_select,Validation!H$8,B47-C47*R_s<=V_ex1),B47-C47*R_s,0)","v":{"$error":"#VALUE!"}},{"$error":"#VALUE!"}]
[9,{"$f":"IF($A48>n_select,\"\",'1) Select data'!Z24)","v":""},{"$f":"IF($A48>n_select,\"\",'1) Select data'!AA24)","v":""},0,"",{"$f":"IF(AND($A48<=n_select,Validation!H$8,B48-C48*R_s<=V_ex1),B48-C48*R_s,0)","v":{"$error":"#VALUE!"}},{"$error":"#VALUE!"}]
[10,{"$f":"IF($A49>n_select,\"\",'1) Select data'!Z25)","v":""},{"$f":"IF($A49>n_select,\"\",'1) Select data'!AA25)","v":""},0,"",{"$f":"IF(AND($A49<=n_select,Validation!H$8,B49-C49*R_s<=V_ex1),B49-C49*R_s,0)","v":{"$error":"#VALUE!"}},{"$error":"#VALUE!"}]
[11,{"$f":"IF($A50>n_select,\"\",'1) Select data'!Z26)","v":""},{"$f":"IF($A50>n_select,\"\",'1) Select data'!AA26)","v":""},0,"",{"$f":"IF(AND($A50<=n_select,Validation!H$8,B50-C50*R_s<=V_ex1),B50-C50*R_s,0)","v":{"$error":"#VALUE!"}},{"$error":"#VALUE!"}]
[12,{"$f":"IF($A51>n_select,\"\",'1) Select data'!Z27)","v":""},{"$f":"IF($A51>n_select,\"\",'1) Select data'!AA27)","v":""},0,"",{"$f":"IF(AND($A51<=n_select,Validation!H$8,B51-C51*R_s<=V_ex1),B51-C51*R_s,0)","v":{"$error":"#VALUE!"}},{"$error":"#VALUE!"}]
[13,{"$f":"IF($A52>n_select,\"\",'1) Select data'!Z28)","v":""},{"$f":"IF($A52>n_select,\"\",'1) Select data'!AA28)","v":""},0,"",{"$f":"IF(AND($A52<=n_select,Validation!H$8,B52-C52*R_s<=V_ex1),B52-C52*R_s,0)","v":{"$error":"#VALUE!"}},{"$error":"#VALUE!"}]
[14,{"$f":"IF($A53>n_select,\"\",'1) Select data'!Z29)","v":""},{"$f":"IF($A53>n_select,\"\",'1) Select data'!AA29)","v":""},0,"",{"$f":"IF(AND($A53<=n_select,Validation!H$8,B53-C53*R_s<=V_ex1),B53-C53*R_s,0)","v":{"$error":"#VALUE!"}},{"$error":"#VALUE!"}]
[15,{"$f":"IF($A54>n_select,\"\",'1) Select data'!Z30)","v":""},{"$f":"IF($A54>n_select,\"\",'1) Select data'!AA30)","v":""},0,"",{"$f":"IF(AND($A54<=n_select,Validation!H$8,B54-C54*R_s<=V_ex1),B54-C54*R_s,0)","v":{"$error":"#VALUE!"}},{"$error":"#VALUE!"}]
[16,{"$f":"IF($A55>n_select,\"\",'1) Select data'!Z31)","v":""},{"$f":"IF($A55>n_select,\"\",'1) Select data'!AA31)","v":""},0,"",{"$f":"IF(AND($A55<=n_select,Validation!H$8,B55-C55*R_s<=V_ex1),B55-C55*R_s,0)","v":{"$error":"#VALUE!"}},{"$error":"#VALUE!"}]
[17,{"$f":"IF($A56>n_select,\"\",'1) Select data'!Z32)","v":""},{"$f":"IF($A56>n_select,\"\",'1) Select data'!AA32)","v":""},0,"",{"$f":"IF(AND($A56<=n_select,Validation!H$8,B56-C56*R_s<=V_ex1),B56-C56*R_s,0)","v":{"$error":"#VALUE!"}},{"$error":"#VALUE!"}]
[18,{"$f":"IF($A57>n_select,\"\",'1) Select data'!Z33)","v":""},{"$f":"IF($A57>n_select,\"\",'1) Select data'!AA33)","v":""},0,"",{"$f":"IF(AND($A57<=n_select,Validation!H$8,B57-C57*R_s<=V_ex1),B57-C57*R_s,0)","v":{"$error":"#VALUE!"}},{"$error":"#VALUE!"}]
[19,{"$f":"IF($A58>n_select,\"\",'1) Select data'!Z34)","v":""},{"$f":"IF($A58>n_select,\"\",'1) Select data'!AA34)","v":""},0,"",{"$f":"IF(AND($A58<=n_select,Validation!H$8,B58-C58*R_s<=V_ex1),B58-C58*R_s,0)","v":{"$error":"#VALUE!"}},{"$error":"#VALUE!"}]
[20,{"$f":"IF($A59>n_select,\"\",'1) Select data'!Z35)","v":""},{"$f":"IF($A59>n_select,\"\",'1) Select data'!AA35)","v":""},0,"",{"$f":"IF(AND($A59<=n_select,Validation!H$8,B59-C59*R_s<=V_ex1),B59-C59*R_s,0)","v":{"$error":"#VALUE!"}},{"$error":"#VALUE!"}]
[21,{"$f":"IF($A60>n_select,\"\",'1) Select data'!Z36)","v":""},{"$f":"IF($A60>n_select,\"\",'1) Select data'!AA36)","v":""},0,"",{"$f":"IF(AND($A60<=n_select,Validation!H$8,B60-C60*R_s<=V_ex1),B60-C60*R_s,0)","v":{"$error":"#VALUE!"}},{"$error":"#VALUE!"}]
[22,{"$f":"IF($A61>n_select,\"\",'1) Select data'!Z37)","v":""},{"$f":"IF($A61>n_select,\"\",'1) Select data'!AA37)","v":""},0,"",{"$f":"IF(AND($A61<=n_select,Validation!H$8,B61-C61*R_s<=V_ex1),B61-C61*R_s,0)","v":{"$error":"#VALUE!"}},{"$error":"#VALUE!"}]
[23,{"$f":"IF($A62>n_select,\"\",'1) Select data'!Z38)","v":""},{"$f":"IF($A62>n_select,\"\",'1) Select data'!AA38)","v":""},0,"",{"$f":"IF(AND($A62<=n_select,Validation!H$8,B62-C62*R_s<=V_ex1),B62-C62*R_s,0)","v":{"$error":"#VALUE!"}},{"$error":"#VALUE!"}]
[24,{"$f":"IF($A63>n_select,\"\",'1) Select data'!Z39)","v":""},{"$f":"IF($A63>n_select,\"\",'1) Select data'!AA39)","v":""},0,"",{"$f":"IF(AND($A63<=n_select,Validation!H$8,B63-C63*R_s<=V_ex1),B63-C63*R_s,0)","v":{"$error":"#VALUE!"}},{"$error":"#VALUE!"}]
[25,{"$f":"IF($A64>n_select,\"\",'1) Select data'!Z40)","v":""},{"$f":"IF($A64>n_select,\"\",'1) Select data'!AA40)","v":""},0,"",{"$f":"IF(AND($A64<=n_select,Validation!H$8,B64-C64*R_s<=V_ex1),B64-C64*R_s,0)","v":{"$error":"#VALUE!"}},{"$error":"#VALUE!"}]
[26,{"$f":"IF($A65>n_select,\"\",'1) Select data'!Z41)","v":""},{"$f":"IF($A65>n_select,\"\",'1) Select data'!AA41)","v":""},0,"",{"$f":"IF(AND($A65<=n_select,Validation!H$8,B65-C65*R_s<=V_ex1),B65-C65*R_s,0)","v":{"$error":"#VALUE!"}},{"$error":"#VALUE!"}]
[27,{"$f":"IF($A66>n_select,\"\",'1) Select data'!Z42)","v":""},{"$f":"IF($A66>n_select,\"\",'1) Select data'!AA42)","v":""},0,"",{"$f":"IF(AND($A66<=n_select,Validation!H$8,B66-C66*R_s<=V_ex1),B66-C66*R_s,0)","v":{"$error":"#VALUE!"}},{"$error":"#VALUE!"}]
[28,{"$f":"IF($A67>n_select,\"\",'1) Select data'!Z43)","v":""},{"$f":"IF($A67>n_select,\"\",'1) Select data'!AA43)","v":""},0,"",{"$f":"IF(AND($A67<=n_select,Validation!H$8,B67-C67*R_s<=V_ex1),B67-C67*R_s,0)","v":{"$error":"#VALUE!"}},{"$error":"#VALUE!"}]
[29,{"$f":"IF($A68>n_select,\"\",'1) Select data'!Z44)","v":""},{"$f":"IF($A68>n_select,\"\",'1) Select data'!AA44)","v":""},0,"",{"$f":"IF(AND($A68<=n_select,Validation!H$8,B68-C68*R_s<=V_ex1),B68-C68*R_s,0)","v":{"$error":"#VALUE!"}},{"$error":"#VALUE!"}]
[30,{"$f":"IF($A69>n_select,\"\",'1) Select data'!Z45)","v":""},{"$f":"IF($A69>n_select,\"\",'1) Select data'!AA45)","v":""},0,"",{"$f":"IF(AND($A69<=n_select,Validation!H$8,B69-C69*R_s<=V_ex1),B69-C69*R_s,0)","v":{"$error":"#VALUE!"}},{"$error":"#VALUE!"}]
[31,{"$f":"IF($A70>n_select,\"\",'1) Select data'!Z46)","v":""},{"$f":"IF($A70>n_select,\"\",'1) Select data'!AA46)","v":""},0,"",{"$f":"IF(AND($A70<=n_select,Validation!H$8,B70-C70*R_s<=V_ex1),B70-C70*R_s,0)","v":{"$error":"#VALUE!"}},{"$error":"#VALUE!"}]
[32,{"$f":"IF($A71>n_select,\"\",'1) Select data'!Z47)","v":""},{"$f":"IF($A71>n_select,\"\",'1) Select data'!AA47)","v":""},0,"",{"$f":"IF(AND($A71<=n_select,Validation!H$8,B71-C71*R_s<=V_ex1),B71-C71*R_s,0)","v":{"$error":"#VALUE!"}},{"$error":"#VALUE!"}]
[33,{"$f":"IF($A72>n_select,\"\",'1) Select data'!Z48)","v":""},{"$f":"IF($A72>n_select,\"\",'1) Select data'!AA48)","v":""},0,"",{"$f":"IF(AND($A72<=n_select,Validation!H$8,B72-C72*R_s<=V_ex1),B72-C72*R_s,0)","v":{"$error":"#VALUE!"}},{"$error":"#VALUE!"}]
[34,{"$f":"IF($A73>n_select,\"\",'1) Select data'!Z49)","v":""},{"$f":"IF($A73>n_select,\"\",'1) Select data'!AA49)","v":""},0,"",{"$f":"IF(AND($A73<=n_select,Validation!H$8,B73-C73*R_s<=V_ex1),B73-C73*R_s,0)","v":{"$error":"#VALUE!"}},{"$error":"#VALUE!"}]
[35,{"$f":"IF($A74>n_select,\"\",'1) Select data'!Z50)","v":""},{"$f":"IF($A74>n_select,\"\",'1) Select data'!AA50)","v":""},0,"",{"$f":"IF(AND($A74<=n_select,Validation!H$8,B74-C74*R_s<=V_ex1),B74-C74*R_s,0)","v":{"$error":"#VALUE!"}},{"$error":"#VALUE!"}]
[36,{"$f":"IF($A75>n_select,\"\",'1) Select data'!Z51)","v":""},{"$f":"IF($A75>n_select,\"\",'1) Select data'!AA51)","v":""},0,"",{"$f":"IF(AND($A75<=n_select,Validation!H$8,B75-C75*R_s<=V_ex1),B75-C75*R_s,0)","v":{"$error":"#VALUE!"}},{"$error":"#VALUE!"}]
[37,{"$f":"IF($A76>n_select,\"\",'1) Select data'!Z52)","v":""},{"$f":"IF($A76>n_select,\"\",'1) Select data'!AA52)","v":""},0,"",{"$f":"IF(AND($A76<=n_select,Validation!H$8,B76-C76*R_s<=V_ex1),B76-C76*R_s,0)","v":{"$error":"#VALUE!"}},{"$error":"#VALUE!"}]
[38,{"$f":"IF($A77>n_select,\"\",'1) Select data'!Z53)","v":""},{"$f":"IF($A77>n_select,\"\",'1) Select data'!AA53)","v":""},0,"",{"$f":"IF(AND($A77<=n_select,Validation!H$8,B77-C77*R_s<=V_ex1),B77-C77*R_s,0)","v":{"$error":"#VALUE!"}},{"$error":"#VALUE!"}]
[39,{"$f":"IF($A78>n_select,\"\",'1) Select data'!Z54)","v":""},{"$f":"IF($A78>n_select,\"\",'1) Select data'!AA54)","v":""},0,"",{"$f":"IF(AND($A78<=n_select,Validation!H$8,B78-C78*R_s<=V_ex1),B78-C78*R_s,0)","v":{"$error":"#VALUE!"}},{"$error":"#VALUE!"}]
[40,{"$f":"IF($A79>n_select,\"\",'1) Select data'!Z55)","v":""},{"$f":"IF($A79>n_select,\"\",'1) Select data'!AA55)","v":""},0,"",{"$f":"IF(AND($A79<=n_select,Validation!H$8,B79-C79*R_s<=V_ex1),B79-C79*R_s,0)","v":{"$error":"#VALUE!"}},{"$error":"#VALUE!"}]
[41,{"$f":"IF($A80>n_select,\"\",'1) Select data'!Z56)","v":""},{"$f":"IF($A80>n_select,\"\",'1) Select data'!AA56)","v":""},0,"",{"$f":"IF(AND($A80<=n_select,Validation!H$8,B80-C80*R_s<=V_ex1),B80-C80*R_s,0)","v":{"$error":"#VALUE!"}},{"$error":"#VALUE!"}]
[42,{"$f":"IF($A81>n_select,\"\",'1) Select data'!Z57)","v":""},{"$f":"IF($A81>n_select,\"\",'1) Select data'!AA57)","v":""},0,"",{"$f":"IF(AND($A81<=n_select,Validation!H$8,B81-C81*R_s<=V_ex1),B81-C81*R_s,0)","v":{"$error":"#VALUE!"}},{"$error":"#VALUE!"}]
[43,{"$f":"IF($A82>n_select,\"\",'1) Select data'!Z58)","v":""},{"$f":"IF($A82>n_select,\"\",'1) Select data'!AA58)","v":""},0,"",{"$f":"IF(AND($A82<=n_select,Validation!H$8,B82-C82*R_s<=V_ex1),B82-C82*R_s,0)","v":{"$error":"#VALUE!"}},{"$error":"#VALUE!"}]
[44,{"$f":"IF($A83>n_select,\"\",'1) Select data'!Z59)","v":""},{"$f":"IF($A83>n_select,\"\",'1) Select data'!AA59)","v":""},0,"",{"$f":"IF(AND($A83<=n_select,Validation!H$8,B83-C83*R_s<=V_ex1),B83-C83*R_s,0)","v":{"$error":"#VALUE!"}},{"$error":"#VALUE!"}]
[45,{"$f":"IF($A84>n_select,\"\",'1) Select data'!Z60)","v":""},{"$f":"IF($A84>n_select,\"\",'1) Select data'!AA60)","v":""},0,"",{"$f":"IF(AND($A84<=n_select,Validation!H$8,B84-C84*R_s<=V_ex1),B84-C84*R_s,0)","v":{"$error":"#VALUE!"}},{"$error":"#VALUE!"}]
[46,{"$f":"IF($A85>n_select,\"\",'1) Select data'!Z61)","v":""},{"$f":"IF($A85>n_select,\"\",'1) Select data'!AA61)","v":""},0,"",{"$f":"IF(AND($A85<=n_select,Validation!H$8,B85-C85*R_s<=V_ex1),B85-C85*R_s,0)","v":{"$error":"#VALUE!"}},{"$error":"#VALUE!"}]
[47,{"$f":"IF($A86>n_select,\"\",'1) Select data'!Z62)","v":""},{"$f":"IF($A86>n_select,\"\",'1) Select data'!AA62)","v":""},0,"",{"$f":"IF(AND($A86<=n_select,Validation!H$8,B86-C86*R_s<=V_ex1),B86-C86*R_s,0)","v":{"$error":"#VALUE!"}},{"$error":"#VALUE!"}]
[48,{"$f":"IF($A87>n_select,\"\",'1) Select data'!Z63)","v":""},{"$f":"IF($A87>n_select,\"\",'1) Select data'!AA63)","v":""},0,"",{"$f":"IF(AND($A87<=n_select,Validation!H$8,B87-C87*R_s<=V_ex1),B87-C87*R_s,0)","v":{"$error":"#VALUE!"}},{"$error":"#VALUE!"}]
[49,{"$f":"IF($A88>n_select,\"\",'1) Select data'!Z64)","v":""},{"$f":"IF($A88>n_select,\"\",'1) Select data'!AA64)","v":""},0,"",{"$f":"IF(AND($A88<=n_select,Validation!H$8,B88-C88*R_s<=V_ex1),B88-C88*R_s,0)","v":{"$error":"#VALUE!"}},{"$error":"#VALUE!"}]
[50,{"$f":"IF($A89>n_select,\"\",'1) Select data'!Z65)","v":""},{"$f":"IF($A89>n_select,\"\",'1) Select data'!AA65)","v":""},0,"",{"$f":"IF(AND($A89<=n_select,Validation!H$8,B89-C89*R_s<=V_ex1),B89-C89*R_s,0)","v":{"$error":"#VALUE!"}},{"$error":"#VALUE!"}]
[51,{"$f":"IF($A90>n_select,\"\",'1) Select data'!Z66)","v":""},{"$f":"IF($A90>n_select,\"\",'1) Select data'!AA66)","v":""},0,"",{"$f":"IF(AND($A90<=n_select,Validation!H$8,B90-C90*R_s<=V_ex1),B90-C90*R_s,0)","v":{"$error":"#VALUE!"}},{"$error":"#VALUE!"}]
[52,{"$f":"IF($A91>n_select,\"\",'1) Select data'!Z67)","v":""},{"$f":"IF($A91>n_select,\"\",'1) Select data'!AA67)","v":""},0,"",{"$f":"IF(AND($A91<=n_select,Validation!H$8,B91-C91*R_s<=V_ex1),B91-C91*R_s,0)","v":{"$error":"#VALUE!"}},{"$error":"#VALUE!"}]
[53,{"$f":"IF($A92>n_select,\"\",'1) Select data'!Z68)","v":""},{"$f":"IF($A92>n_select,\"\",'1) Select data'!AA68)","v":""},0,"",{"$f":"IF(AND($A92<=n_select,Validation!H$8,B92-C92*R_s<=V_ex1),B92-C92*R_s,0)","v":{"$error":"#VALUE!"}},{"$error":"#VALUE!"}]
[54,{"$f":"IF($A93>n_select,\"\",'1) Select data'!Z69)","v":""},{"$f":"IF($A93>n_select,\"\",'1) Select data'!AA69)","v":""},0,"",{"$f":"IF(AND($A93<=n_select,Validation!H$8,B93-C93*R_s<=V_ex1),B93-C93*R_s,0)","v":{"$error":"#VALUE!"}},{"$error":"#VALUE!"}]
[55,{"$f":"IF($A94>n_select,\"\",'1) Select data'!Z70)","v":""},{"$f":"IF($A94>n_select,\"\",'1) Select data'!AA70)","v":""},0,"",{"$f":"IF(AND($A94<=n_select,Validation!H$8,B94-C94*R_s<=V_ex1),B94-C94*R_s,0)","v":{"$error":"#VALUE!"}},{"$error":"#VALUE!"}]
[56,{"$f":"IF($A95>n_select,\"\",'1) Select data'!Z71)","v":""},{"$f":"IF($A95>n_select,\"\",'1) Select data'!AA71)","v":""},0,"",{"$f":"IF(AND($A95<=n_select,Validation!H$8,B95-C95*R_s<=V_ex1),B95-C95*R_s,0)","v":{"$error":"#VALUE!"}},{"$error":"#VALUE!"}]
[57,{"$f":"IF($A96>n_select,\"\",'1) Select data'!Z72)","v":""},{"$f":"IF($A96>n_select,\"\",'1) Select data'!AA72)","v":""},0,"",{"$f":"IF(AND($A96<=n_select,Validation!H$8,B96-C96*R_s<=V_ex1),B96-C96*R_s,0)","v":{"$error":"#VALUE!"}},{"$error":"#VALUE!"}]
[58,{"$f":"IF($A97>n_select,\"\",'1) Select data'!Z73)","v":""},{"$f":"IF($A97>n_select,\"\",'1) Select data'!AA73)","v":""},0,"",{"$f":"IF(AND($A97<=n_select,Validation!H$8,B97-C97*R_s<=V_ex1),B97-C97*R_s,0)","v":{"$error":"#VALUE!"}},{"$error":"#VALUE!"}]
[59,{"$f":"IF($A98>n_select,\"\",'1) Select data'!Z74)","v":""},{"$f":"IF($A98>n_select,\"\",'1) Select data'!AA74)","v":""},0,"",{"$f":"IF(AND($A98<=n_select,Validation!H$8,B98-C98*R_s<=V_ex1),B98-C98*R_s,0)","v":{"$error":"#VALUE!"}},{"$error":"#VALUE!"}]
[60,{"$f":"IF($A99>n_select,\"\",'1) Select data'!Z75)","v":""},{"$f":"IF($A99>n_select,\"\",'1) Select data'!AA75)","v":""},0,"",{"$f":"IF(AND($A99<=n_select,Validation!H$8,B99-C99*R_s<=V_ex1),B99-C99*R_s,0)","v":{"$error":"#VALUE!"}},{"$error":"#VALUE!"}]
[61,{"$f":"IF($A100>n_select,\"\",'1) Select data'!Z76)","v":""},{"$f":"IF($A100>n_select,\"\",'1) Select data'!AA76)","v":""},0,"",{"$f":"IF(AND($A100<=n_select,Validation!H$8,B100-C100*R_s<=V_ex1),B100-C100*R_s,0)","v":{"$error":"#VALUE!"}},{"$error":"#VALUE!"}]
[62,{"$f":"IF($A101>n_select,\"\",'1) Select data'!Z77)","v":""},{"$f":"IF($A101>n_select,\"\",'1) Select data'!AA77)","v":""},0,"",{"$f":"IF(AND($A101<=n_select,Validation!H$8,B101-C101*R_s<=V_ex1),B101-C101*R_s,0)","v":{"$error":"#VALUE!"}},{"$error":"#VALUE!"}]
[63,{"$f":"IF($A102>n_select,\"\",'1) Select data'!Z78)","v":""},{"$f":"IF($A102>n_select,\"\",'1) Select data'!AA78)","v":""},0,"",{"$f":"IF(AND($A102<=n_select,Validation!H$8,B102-C102*R_s<=V_ex1),B102-C102*R_s,0)","v":{"$error":"#VALUE!"}},{"$error":"#VALUE!"}]
[64,{"$f":"IF($A103>n_select,\"\",'1) Select data'!Z79)","v":""},{"$f":"IF($A103>n_select,\"\",'1) Select data'!AA79)","v":""},0,"",{"$f":"IF(AND($A103<=n_select,Validation!H$8,B103-C103*R_s<=V_ex1),B103-C103*R_s,0)","v":{"$error":"#VALUE!"}},{"$error":"#VALUE!"}]
[65,{"$f":"IF($A104>n_select,\"\",'1) Select data'!Z80)","v":""},{"$f":"IF($A104>n_select,\"\",'1) Select data'!AA80)","v":""},{"$f":"IF($A104>n_select,0,B104-C104*R_s)","v":0},{"$f":"IF($A104>n_select,\"\",C104)","v":""},{"$f":"IF(AND($A104<=n_select,Validation!H$8,B104-C104*R_s<=V_ex1),B104-C104*R_s,0)","v":{"$error":"#VALUE!"}},{"$f":"IF(F104<>0,E104,\"\")","v":{"$error":"#VALUE!"}}]
[66,{"$f":"IF($A105>n_select,\"\",'1) Select data'!Z81)","v":""},{"$f":"IF($A105>n_select,\"\",'1) Select data'!AA81)","v":""},0,"",{"$f":"IF(AND($A105<=n_select,Validation!H$8,B105-C105*R_s<=V_ex1),B105-C105*R_s,0)","v":{"$error":"#VALUE!"}},{"$error":"#VALUE!"}]
[67,{"$f":"IF($A106>n_select,\"\",'1) Select data'!Z82)","v":""},{"$f":"IF($A106>n_select,\"\",'1) Select data'!AA82)","v":""},0,"",{"$f":"IF(AND($A106<=n_select,Validation!H$8,B106-C106*R_s<=V_ex1),B106-C106*R_s,0)","v":{"$error":"#VALUE!"}},{"$error":"#VALUE!"}]
[68,{"$f":"IF($A107>n_select,\"\",'1) Select data'!Z83)","v":""},{"$f":"IF($A107>n_select,\"\",'1) Select data'!AA83)","v":""},0,"",{"$f":"IF(AND($A107<=n_select,Validation!H$8,B107-C107*R_s<=V_ex1),B107-C107*R_s,0)","v":{"$error":"#VALUE!"}},{"$error":"#VALUE!"}]
[69,{"$f":"IF($A108>n_select,\"\",'1) Select data'!Z84)","v":""},{"$f":"IF($A108>n_select,\"\",'1) Select data'!AA84)","v":""},0,"",{"$f":"IF(AND($A108<=n_select,Validation!H$8,B108-C108*R_s<=V_ex1),B108-C108*R_s,0)","v":{"$error":"#VALUE!"}},{"$error":"#VALUE!"}]
[70,{"$f":"IF($A109>n_select,\"\",'1) Select data'!Z85)","v":""},{"$f":"IF($A109>n_select,\"\",'1) Select data'!AA85)","v":""},0,"",{"$f":"IF(AND($A109<=n_select,Validation!H$8,B109-C109*R_s<=V_ex1),B109-C109*R_s,0)","v":{"$error":"#VALUE!"}},{"$error":"#VALUE!"}]
[71,{"$f":"IF($A110>n_select,\"\",'1) Select data'!Z86)","v":""},{"$f":"IF($A110>n_select,\"\",'1) Select data'!AA86)","v":""},0,"",{"$f":"IF(AND($A110<=n_select,Validation!H$8,B110-C110*R_s<=V_ex1),B110-C110*R_s,0)","v":{"$error":"#VALUE!"}},{"$error":"#VALUE!"}]
[72,{"$f":"IF($A111>n_select,\"\",'1) Select data'!Z87)","v":""},{"$f":"IF($A111>n_select,\"\",'1) Select data'!AA87)","v":""},0,"",{"$f":"IF(AND($A111<=n_select,Validation!H$8,B111-C111*R_s<=V_ex1),B111-C111*R_s,0)","v":{"$error":"#VALUE!"}},{"$error":"#VALUE!"}]
[73,{"$f":"IF($A112>n_select,\"\",'1) Select data'!Z88)","v":""},{"$f":"IF($A112>n_select,\"\",'1) Select data'!AA88)","v":""},0,"",{"$f":"IF(AND($A112<=n_select,Validation!H$8,B112-C112*R_s<=V_ex1),B112-C112*R_s,0)","v":{"$error":"#VALUE!"}},{"$error":"#VALUE!"}]
[74,{"$f":"IF($A113>n_select,\"\",'1) Select data'!Z89)","v":""},{"$f":"IF($A113>n_select,\"\",'1) Select data'!AA89)","v":""},0,"",{"$f":"IF(AND($A113<=n_select,Validation!H$8,B113-C113*R_s<=V_ex1),B113-C113*R_s,0)","v":{"$error":"#VALUE!"}},{"$error":"#VALUE!"}]
[75,{"$f":"IF($A114>n_select,\"\",'1) Select data'!Z90)","v":""},{"$f":"IF($A114>n_select,\"\",'1) Select data'!AA90)","v":""},0,"",{"$f":"IF(AND($A114<=n_select,Validation!H$8,B114-C114*R_s<=V_ex1),B114-C114*R_s,0)","v":{"$error":"#VALUE!"}},{"$error":"#VALUE!"}]
[76,{"$f":"IF($A115>n_select,\"\",'1) Select data'!Z91)","v":""},{"$f":"IF($A115>n_select,\"\",'1) Select data'!AA91)","v":""},0,"",{"$f":"IF(AND($A115<=n_select,Validation!H$8,B115-C115*R_s<=V_ex1),B115-C115*R_s,0)","v":{"$error":"#VALUE!"}},{"$error":"#VALUE!"}]
[77,{"$f":"IF($A116>n_select,\"\",'1) Select data'!Z92)","v":""},{"$f":"IF($A116>n_select,\"\",'1) Select data'!AA92)","v":""},0,"",{"$f":"IF(AND($A116<=n_select,Validation!H$8,B116-C116*R_s<=V_ex1),B116-C116*R_s,0)","v":{"$error":"#VALUE!"}},{"$error":"#VALUE!"}]
[78,{"$f":"IF($A117>n_select,\"\",'1) Select data'!Z93)","v":""},{"$f":"IF($A117>n_select,\"\",'1) Select data'!AA93)","v":""},0,"",{"$f":"IF(AND($A117<=n_select,Validation!H$8,B117-C117*R_s<=V_ex1),B117-C117*R_s,0)","v":{"$error":"#VALUE!"}},{"$error":"#VALUE!"}]
[79,{"$f":"IF($A118>n_select,\"\",'1) Select data'!Z94)","v":""},{"$f":"IF($A118>n_select,\"\",'1) Select data'!AA94)","v":""},0,"",{"$f":"IF(AND($A118<=n_select,Validation!H$8,B118-C118*R_s<=V_ex1),B118-C118*R_s,0)","v":{"$error":"#VALUE!"}},{"$error":"#VALUE!"}]
[80,{"$f":"IF($A119>n_select,\"\",'1) Select data'!Z95)","v":""},{"$f":"IF($A119>n_select,\"\",'1) Select data'!AA95)","v":""},0,"",{"$f":"IF(AND($A119<=n_select,Validation!H$8,B119-C119*R_s<=V_ex1),B119-C119*R_s,0)","v":{"$error":"#VALUE!"}},{"$error":"#VALUE!"}]
[81,{"$f":"IF($A120>n_select,\"\",'1) Select data'!Z96)","v":""},{"$f":"IF($A120>n_select,\"\",'1) Select data'!AA96)","v":""},0,"",{"$f":"IF(AND($A120<=n_select,Validation!H$8,B120-C120*R_s<=V_ex1),B120-C120*R_s,0)","v":{"$error":"#VALUE!"}},{"$error":"#VALUE!"}]
[82,{"$f":"IF($A121>n_select,\"\",'1) Select data'!Z97)","v":""},{"$f":"IF($A121>n_select,\"\",'1) Select data'!AA97)","v":""},0,"",{"$f":"IF(AND($A121<=n_select,Validation!H$8,B121-C121*R_s<=V_ex1),B121-C121*R_s,0)","v":{"$error":"#VALUE!"}},{"$error":"#VALUE!"}]
[83,{"$f":"IF($A122>n_select,\"\",'1) Select data'!Z98)","v":""},{"$f":"IF($A122>n_select,\"\",'1) Select data'!AA98)","v":""},0,"",{"$f":"IF(AND($A122<=n_select,Validation!H$8,B122-C122*R_s<=V_ex1),B122-C122*R_s,0)","v":{"$error":"#VALUE!"}},{"$error":"#VALUE!"}]
[84,{"$f":"IF($A123>n_select,\"\",'1) Select data'!Z99)","v":""},{"$f":"IF($A123>n_select,\"\",'1) Select data'!AA99)","v":""},0,"",{"$f":"IF(AND($A123<=n_select,Validation!H$8,B123-C123*R_s<=V_ex1),B123-C123*R_s,0)","v":{"$error":"#VALUE!"}},{"$error":"#VALUE!"}]
[85,{"$f":"IF($A124>n_select,\"\",'1) Select data'!Z100)","v":""},{"$f":"IF($A124>n_select,\"\",'1) Select data'!AA100)","v":""},0,"",{"$f":"IF(AND($A124<=n_select,Validation!H$8,B124-C124*R_s<=V_ex1),B124-C124*R_s,0)","v":{"$error":"#VALUE!"}},{"$error":"#VALUE!"}]
[86,{"$f":"IF($A125>n_select,\"\",'1) Select data'!Z101)","v":""},{"$f":"IF($A125>n_select,\"\",'1) Select data'!AA101)","v":""},0,"",{"$f":"IF(AND($A125<=n_select,Validation!H$8,B125-C125*R_s<=V_ex1),B125-C125*R_s,0)","v":{"$error":"#VALUE!"}},{"$error":"#VALUE!"}]
[87,{"$f":"IF($A126>n_select,\"\",'1) Select data'!Z102)","v":""},{"$f":"IF($A126>n_select,\"\",'1) Select data'!AA102)","v":""},0,"",{"$f":"IF(AND($A126<=n_select,Validation!H$8,B126-C126*R_s<=V_ex1),B126-C126*R_s,0)","v":{"$error":"#VALUE!"}},{"$error":"#VALUE!"}]
[88,{"$f":"IF($A127>n_select,\"\",'1) Select data'!Z103)","v":""},{"$f":"IF($A127>n_select,\"\",'1) Select data'!AA103)","v":""},0,"",{"$f":"IF(AND($A127<=n_select,Validation!H$8,B127-C127*R_s<=V_ex1),B127-C127*R_s,0)","v":{"$error":"#VALUE!"}},{"$error":"#VALUE!"}]
[89,{"$f":"IF($A128>n_select,\"\",'1) Select data'!Z104)","v":""},{"$f":"IF($A128>n_select,\"\",'1) Select data'!AA104)","v":""},0,"",{"$f":"IF(AND($A128<=n_select,Validation!H$8,B128-C128*R_s<=V_ex1),B128-C128*R_s,0)","v":{"$error":"#VALUE!"}},{"$error":"#VALUE!"}]
[90,{"$f":"IF($A129>n_select,\"\",'1) Select data'!Z105)","v":""},{"$f":"IF($A129>n_select,\"\",'1) Select data'!AA105)","v":""},0,"",{"$f":"IF(AND($A129<=n_select,Validation!H$8,B129-C129*R_s<=V_ex1),B129-C129*R_s,0)","v":{"$error":"#VALUE!"}},{"$error":"#VALUE!"}]
[91,{"$f":"IF($A130>n_select,\"\",'1) Select data'!Z106)","v":""},{"$f":"IF($A130>n_select,\"\",'1) Select data'!AA106)","v":""},0,"",{"$f":"IF(AND($A130<=n_select,Validation!H$8,B130-C130*R_s<=V_ex1),B130-C130*R_s,0)","v":{"$error":"#VALUE!"}},{"$error":"#VALUE!"}]
[92,{"$f":"IF($A131>n_select,\"\",'1) Select data'!Z107)","v":""},{"$f":"IF($A131>n_select,\"\",'1) Select data'!AA107)","v":""},0,"",{"$f":"IF(AND($A131<=n_select,Validation!H$8,B131-C131*R_s<=V_ex1),B131-C131*R_s,0)","v":{"$error":"#VALUE!"}},{"$error":"#VALUE!"}]
[93,{"$f":"IF($A132>n_select,\"\",'1) Select data'!Z108)","v":""},{"$f":"IF($A132>n_select,\"\",'1) Select data'!AA108)","v":""},0,"",{"$f":"IF(AND($A132<=n_select,Validation!H$8,B132-C132*R_s<=V_ex1),B132-C132*R_s,0)","v":{"$error":"#VALUE!"}},{"$error":"#VALUE!"}]
[94,{"$f":"IF($A133>n_select,\"\",'1) Select data'!Z109)","v":""},{"$f":"IF($A133>n_select,\"\",'1) Select data'!AA109)","v":""},0,"",{"$f":"IF(AND($A133<=n_select,Validation!H$8,B133-C133*R_s<=V_ex1),B133-C133*R_s,0)","v":{"$error":"#VALUE!"}},{"$error":"#VALUE!"}]
[95,{"$f":"IF($A134>n_select,\"\",'1) Select data'!Z110)","v":""},{"$f":"IF($A134>n_select,\"\",'1) Select data'!AA110)","v":""},0,"",{"$f":"IF(AND($A134<=n_select,Validation!H$8,B134-C134*R_s<=V_ex1),B134-C134*R_s,0)","v":{"$error":"#VALUE!"}},{"$error":"#VALUE!"}]
[96,{"$f":"IF($A135>n_select,\"\",'1) Select data'!Z111)","v":""},{"$f":"IF($A135>n_select,\"\",'1) Select data'!AA111)","v":""},0,"",{"$f":"IF(AND($A135<=n_select,Validation!H$8,B135-C135*R_s<=V_ex1),B135-C135*R_s,0)","v":{"$error":"#VALUE!"}},{"$error":"#VALUE!"}]
[97,{"$f":"IF($A136>n_select,\"\",'1) Select data'!Z112)","v":""},{"$f":"IF($A136>n_select,\"\",'1) Select data'!AA112)","v":""},0,"",{"$f":"IF(AND($A136<=n_select,Validation!H$8,B136-C136*R_s<=V_ex1),B136-C136*R_s,0)","v":{"$error":"#VALUE!"}},{"$error":"#VALUE!"}]
[98,{"$f":"IF($A137>n_select,\"\",'1) Select data'!Z113)","v":""},{"$f":"IF($A137>n_select,\"\",'1) Select data'!AA113)","v":""},0,"",{"$f":"IF(AND($A137<=n_select,Validation!H$8,B137-C137*R_s<=V_ex1),B137-C137*R_s,0)","v":{"$error":"#VALUE!"}},{"$error":"#VALUE!"}]
[99,{"$f":"IF($A138>n_select,\"\",'1) Select data'!Z114)","v":""},{"$f":"IF($A138>n_select,\"\",'1) Select data'!AA114)","v":""},0,"",{"$f":"IF(AND($A138<=n_select,Validation!H$8,B138-C138*R_s<=V_ex1),B138-C138*R_s,0)","v":{"$error":"#VALUE!"}},{"$error":"#VALUE!"}]
[100,{"$f":"IF($A139>n_select,\"\",'1) Select data'!Z115)","v":""},{"$f":"IF($A139>n_select,\"\",'1) Select data'!AA115)","v":""},0,"",{"$f":"IF(AND($A139<=n_select,Validation!H$8,B139-C139*R_s<=V_ex1),B139-C139*R_s,0)","v":{"$error":"#VALUE!"}},{"$error":"#VALUE!"}]
[101,{"$f":"IF($A140>n_select,\"\",'1) Select data'!Z116)","v":""},{"$f":"IF($A140>n_select,\"\",'1) Select data'!AA116)","v":""},0,"",{"$f":"IF(AND($A140<=n_select,Validation!H$8,B140-C140*R_s<=V_ex1),B140-C140*R_s,0)","v":{"$error":"#VALUE!"}},{"$error":"#VALUE!"}]
[102,{"$f":"IF($A141>n_select,\"\",'1) Select data'!Z117)","v":""},{"$f":"IF($A141>n_select,\"\",'1) Select data'!AA117)","v":""},0,"",{"$f":"IF(AND($A141<=n_select,Validation!H$8,B141-C141*R_s<=V_ex1),B141-C141*R_s,0)","v":{"$error":"#VALUE!"}},{"$error":"#VALUE!"}]
[103,{"$f":"IF($A142>n_select,\"\",'1) Select data'!Z118)","v":""},{"$f":"IF($A142>n_select,\"\",'1) Select data'!AA118)","v":""},0,"",{"$f":"IF(AND($A142<=n_select,Validation!H$8,B142-C142*R_s<=V_ex1),B142-C142*R_s,0)","v":{"$error":"#VALUE!"}},{"$error":"#VALUE!"}]
[104,{"$f":"IF($A143>n_select,\"\",'1) Select data'!Z119)","v":""},{"$f":"IF($A143>n_select,\"\",'1) Select data'!AA119)","v":""},0,"",{"$f":"IF(AND($A143<=n_select,Validation!H$8,B143-C143*R_s<=V_ex1),B143-C143*R_s,0)","v":{"$error":"#VALUE!"}},{"$error":"#VALUE!"}]
[105,{"$f":"IF($A144>n_select,\"\",'1) Select data'!Z120)","v":""},{"$f":"IF($A144>n_select,\"\",'1) Select data'!AA120)","v":""},0,"",{"$f":"IF(AND($A144<=n_select,Validation!H$8,B144-C144*R_s<=V_ex1),B144-C144*R_s,0)","v":{"$error":"#VALUE!"}},{"$error":"#VALUE!"}]
[106,{"$f":"IF($A145>n_select,\"\",'1) Select data'!Z121)","v":""},{"$f":"IF($A145>n_select,\"\",'1) Select data'!AA121)","v":""},0,"",{"$f":"IF(AND($A145<=n_select,Validation!H$8,B145-C145*R_s<=V_ex1),B145-C145*R_s,0)","v":{"$error":"#VALUE!"}},{"$error":"#VALUE!"}]
[107,{"$f":"IF($A146>n_select,\"\",'1) Select data'!Z122)","v":""},{"$f":"IF($A146>n_select,\"\",'1) Select data'!AA122)","v":""},0,"",{"$f":"IF(AND($A146<=n_select,Validation!H$8,B146-C146*R_s<=V_ex1),B146-C146*R_s,0)","v":{"$error":"#VALUE!"}},{"$error":"#VALUE!"}]
[108,{"$f":"IF($A147>n_select,\"\",'1) Select data'!Z123)","v":""},{"$f":"IF($A147>n_select,\"\",'1) Select data'!AA123)","v":""},0,"",{"$f":"IF(AND($A147<=n_select,Validation!H$8,B147-C147*R_s<=V_ex1),B147-C147*R_s,0)","v":{"$error":"#VALUE!"}},{"$error":"#VALUE!"}]
[109,{"$f":"IF($A148>n_select,\"\",'1) Select data'!Z124)","v":""},{"$f":"IF($A148>n_select,\"\",'1) Select data'!AA124)","v":""},0,"",{"$f":"IF(AND($A148<=n_select,Validation!H$8,B148-C148*R_s<=V_ex1),B148-C148*R_s,0)","v":{"$error":"#VALUE!"}},{"$error":"#VALUE!"}]
[110,{"$f":"IF($A149>n_select,\"\",'1) Select data'!Z125)","v":""},{"$f":"IF($A149>n_select,\"\",'1) Select data'!AA125)","v":""},0,"",{"$f":"IF(AND($A149<=n_select,Validation!H$8,B149-C149*R_s<=V_ex1),B149-C149*R_s,0)","v":{"$error":"#VALUE!"}},{"$error":"#VALUE!"}]
[111,{"$f":"IF($A150>n_select,\"\",'1) Select data'!Z126)","v":""},{"$f":"IF($A150>n_select,\"\",'1) Select data'!AA126)","v":""},0,"",{"$f":"IF(AND($A150<=n_select,Validation!H$8,B150-C150*R_s<=V_ex1),B150-C150*R_s,0)","v":{"$error":"#VALUE!"}},{"$error":"#VALUE!"}]
[112,{"$f":"IF($A151>n_select,\"\",'1) Select data'!Z127)","v":""},{"$f":"IF($A151>n_select,\"\",'1) Select data'!AA127)","v":""},0,"",{"$f":"IF(AND($A151<=n_select,Validation!H$8,B151-C151*R_s<=V_ex1),B151-C151*R_s,0)","v":{"$error":"#VALUE!"}},{"$error":"#VALUE!"}]
[113,{"$f":"IF($A152>n_select,\"\",'1) Select data'!Z128)","v":""},{"$f":"IF($A152>n_select,\"\",'1) Select data'!AA128)","v":""},0,"",{"$f":"IF(AND($A152<=n_select,Validation!H$8,B152-C152*R_s<=V_ex1),B152-C152*R_s,0)","v":{"$error":"#VALUE!"}},{"$error":"#VALUE!"}]
[114,{"$f":"IF($A153>n_select,\"\",'1) Select data'!Z129)","v":""},{"$f":"IF($A153>n_select,\"\",'1) Select data'!AA129)","v":""},0,"",{"$f":"IF(AND($A153<=n_select,Validation!H$8,B153-C153*R_s<=V_ex1),B153-C153*R_s,0)","v":{"$error":"#VALUE!"}},{"$error":"#VALUE!"}]
[115,{"$f":"IF($A154>n_select,\"\",'1) Select data'!Z130)","v":""},{"$f":"IF($A154>n_select,\"\",'1) Select data'!AA130)","v":""},0,"",{"$f":"IF(AND($A154<=n_select,Validation!H$8,B154-C154*R_s<=V_ex1),B154-C154*R_s,0)","v":{"$error":"#VALUE!"}},{"$error":"#VALUE!"}]
[116,{"$f":"IF($A155>n_select,\"\",'1) Select data'!Z131)","v":""},{"$f":"IF($A155>n_select,\"\",'1) Select data'!AA131)","v":""},0,"",{"$f":"IF(AND($A155<=n_select,Validation!H$8,B155-C155*R_s<=V_ex1),B155-C155*R_s,0)","v":{"$error":"#VALUE!"}},{"$error":"#VALUE!"}]
[117,{"$f":"IF($A156>n_select,\"\",'1) Select data'!Z132)","v":""},{"$f":"IF($A156>n_select,\"\",'1) Select data'!AA132)","v":""},0,"",{"$f":"IF(AND($A156<=n_select,Validation!H$8,B156-C156*R_s<=V_ex1),B156-C156*R_s,0)","v":{"$error":"#VALUE!"}},{"$error":"#VALUE!"}]
[118,{"$f":"IF($A157>n_select,\"\",'1) Select data'!Z133)","v":""},{"$f":"IF($A157>n_select,\"\",'1) Select data'!AA133)","v":""},0,"",{"$f":"IF(AND($A157<=n_select,Validation!H$8,B157-C157*R_s<=V_ex1),B157-C157*R_s,0)","v":{"$error":"#VALUE!"}},{"$error":"#VALUE!"}]
[119,{"$f":"IF($A158>n_select,\"\",'1) Select data'!Z134)","v":""},{"$f":"IF($A158>n_select,\"\",'1) Select data'!AA134)","v":""},0,"",{"$f":"IF(AND($A158<=n_select,Validation!H$8,B158-C158*R_s<=V_ex1),B158-C158*R_s,0)","v":{"$error":"#VALUE!"}},{"$error":"#VALUE!"}]
[120,{"$f":"IF($A159>n_select,\"\",'1) Select data'!Z135)","v":""},{"$f":"IF($A159>n_select,\"\",'1) Select data'!AA135)","v":""},0,"",{"$f":"IF(AND($A159<=n_select,Validation!H$8,B159-C159*R_s<=V_ex1),B159-C159*R_s,0)","v":{"$error":"#VALUE!"}},{"$error":"#VALUE!"}]
[121,{"$f":"IF($A160>n_select,\"\",'1) Select data'!Z136)","v":""},{"$f":"IF($A160>n_select,\"\",'1) Select data'!AA136)","v":""},0,"",{"$f":"IF(AND($A160<=n_select,Validation!H$8,B160-C160*R_s<=V_ex1),B160-C160*R_s,0)","v":{"$error":"#VALUE!"}},{"$error":"#VALUE!"}]
[122,{"$f":"IF($A161>n_select,\"\",'1) Select data'!Z137)","v":""},{"$f":"IF($A161>n_select,\"\",'1) Select data'!AA137)","v":""},0,"",{"$f":"IF(AND($A161<=n_select,Validation!H$8,B161-C161*R_s<=V_ex1),B161-C161*R_s,0)","v":{"$error":"#VALUE!"}},{"$error":"#VALUE!"}]
[123,{"$f":"IF($A162>n_select,\"\",'1) Select data'!Z138)","v":""},{"$f":"IF($A162>n_select,\"\",'1) Select data'!AA138)","v":""},0,"",{"$f":"IF(AND($A162<=n_select,Validation!H$8,B162-C162*R_s<=V_ex1),B162-C162*R_s,0)","v":{"$error":"#VALUE!"}},{"$error":"#VALUE!"}]
[124,{"$f":"IF($A163>n_select,\"\",'1) Select data'!Z139)","v":""},{"$f":"IF($A163>n_select,\"\",'1) Select data'!AA139)","v":""},0,"",{"$f":"IF(AND($A163<=n_select,Validation!H$8,B163-C163*R_s<=V_ex1),B163-C163*R_s,0)","v":{"$error":"#VALUE!"}},{"$error":"#VALUE!"}]
[125,{"$f":"IF($A164>n_select,\"\",'1) Select data'!Z140)","v":""},{"$f":"IF($A164>n_select,\"\",'1) Select data'!AA140)","v":""},0,"",{"$f":"IF(AND($A164<=n_select,Validation!H$8,B164-C164*R_s<=V_ex1),B164-C164*R_s,0)","v":{"$error":"#VALUE!"}},{"$error":"#VALUE!"}]
[126,{"$f":"IF($A165>n_select,\"\",'1) Select data'!Z141)","v":""},{"$f":"IF($A165>n_select,\"\",'1) Select data'!AA141)","v":""},0,"",{"$f":"IF(AND($A165<=n_select,Validation!H$8,B165-C165*R_s<=V_ex1),B165-C165*R_s,0)","v":{"$error":"#VALUE!"}},{"$error":"#VALUE!"}]
[127,{"$f":"IF($A166>n_select,\"\",'1) Select data'!Z142)","v":""},{"$f":"IF($A166>n_select,\"\",'1) Select data'!AA142)","v":""},0,"",{"$f":"IF(AND($A166<=n_select,Validation!H$8,B166-C166*R_s<=V_ex1),B166-C166*R_s,0)","v":{"$error":"#VALUE!"}},{"$error":"#VALUE!"}]
[128,{"$f":"IF($A167>n_select,\"\",'1) Select data'!Z143)","v":""},{"$f":"IF($A167>n_select,\"\",'1) Select data'!AA143)","v":""},0,"",{"$f":"IF(AND($A167<=n_select,Validation!H$8,B167-C167*R_s<=V_ex1),B167-C167*R_s,0)","v":{"$error":"#VALUE!"}},{"$error":"#VALUE!"}]
[129,{"$f":"IF($A168>n_select,\"\",'1) Select data'!Z144)","v":""},{"$f":"IF($A168>n_select,\"\",'1) Select data'!AA144)","v":""},{"$f":"IF($A168>n_select,0,B168-C168*R_s)","v":0},{"$f":"IF($A168>n_select,\"\",C168)","v":""},{"$f":"IF(AND($A168<=n_select,Validation!H$8,B168-C168*R_s<=V_ex1),B168-C168*R_s,0)","v":{"$error":"#VALUE!"}},{"$f":"IF(F168<>0,E168,\"\")","v":{"$error":"#VALUE!"}}]
[130,{"$f":"IF($A169>n_select,\"\",'1) Select data'!Z145)","v":""},{"$f":"IF($A169>n_select,\"\",'1) Select data'!AA145)","v":""},0,"",{"$f":"IF(AND($A169<=n_select,Validation!H$8,B169-C169*R_s<=V_ex1),B169-C169*R_s,0)","v":{"$error":"#VALUE!"}},{"$error":"#VALUE!"}]
[131,{"$f":"IF($A170>n_select,\"\",'1) Select data'!Z146)","v":""},{"$f":"IF($A170>n_select,\"\",'1) Select data'!AA146)","v":""},0,"",{"$f":"IF(AND($A170<=n_select,Validation!H$8,B170-C170*R_s<=V_ex1),B170-C170*R_s,0)","v":{"$error":"#VALUE!"}},{"$error":"#VALUE!"}]
[132,{"$f":"IF($A171>n_select,\"\",'1) Select data'!Z147)","v":""},{"$f":"IF($A171>n_select,\"\",'1) Select data'!AA147)","v":""},0,"",{"$f":"IF(AND($A171<=n_select,Validation!H$8,B171-C171*R_s<=V_ex1),B171-C171*R_s,0)","v":{"$error":"#VALUE!"}},{"$error":"#VALUE!"}]
[133,{"$f":"IF($A172>n_select,\"\",'1) Select data'!Z148)","v":""},{"$f":"IF($A172>n_select,\"\",'1) Select data'!AA148)","v":""},0,"",{"$f":"IF(AND($A172<=n_select,Validation!H$8,B172-C172*R_s<=V_ex1),B172-C172*R_s,0)","v":{"$error":"#VALUE!"}},{"$error":"#VALUE!"}]
[134,{"$f":"IF($A173>n_select,\"\",'1) Select data'!Z149)","v":""},{"$f":"IF($A173>n_select,\"\",'1) Select data'!AA149)","v":""},0,"",{"$f":"IF(AND($A173<=n_select,Validation!H$8,B173-C173*R_s<=V_ex1),B173-C173*R_s,0)","v":{"$error":"#VALUE!"}},{"$error":"#VALUE!"}]
[135,{"$f":"IF($A174>n_select,\"\",'1) Select data'!Z150)","v":""},{"$f":"IF($A174>n_select,\"\",'1) Select data'!AA150)","v":""},0,"",{"$f":"IF(AND($A174<=n_select,Validation!H$8,B174-C174*R_s<=V_ex1),B174-C174*R_s,0)","v":{"$error":"#VALUE!"}},{"$error":"#VALUE!"}]
[136,{"$f":"IF($A175>n_select,\"\",'1) Select data'!Z151)","v":""},{"$f":"IF($A175>n_select,\"\",'1) Select data'!AA151)","v":""},0,"",{"$f":"IF(AND($A175<=n_select,Validation!H$8,B175-C175*R_s<=V_ex1),B175-C175*R_s,0)","v":{"$error":"#VALUE!"}},{"$error":"#VALUE!"}]
[137,{"$f":"IF($A176>n_select,\"\",'1) Select data'!Z152)","v":""},{"$f":"IF($A176>n_select,\"\",'1) Select data'!AA152)","v":""},0,"",{"$f":"IF(AND($A176<=n_select,Validation!H$8,B176-C176*R_s<=V_ex1),B176-C176*R_s,0)","v":{"$error":"#VALUE!"}},{"$error":"#VALUE!"}]
[138,{"$f":"IF($A177>n_select,\"\",'1) Select data'!Z153)","v":""},{"$f":"IF($A177>n_select,\"\",'1) Select data'!AA153)","v":""},0,"",{"$f":"IF(AND($A177<=n_select,Validation!H$8,B177-C177*R_s<=V_ex1),B177-C177*R_s,0)","v":{"$error":"#VALUE!"}},{"$error":"#VALUE!"}]
[139,{"$f":"IF($A178>n_select,\"\",'1) Select data'!Z154)","v":""},{"$f":"IF($A178>n_select,\"\",'1) Select data'!AA154)","v":""},0,"",{"$f":"IF(AND($A178<=n_select,Validation!H$8,B178-C178*R_s<=V_ex1),B178-C178*R_s,0)","v":{"$error":"#VALUE!"}},{"$error":"#VALUE!"}]
[140,{"$f":"IF($A179>n_select,\"\",'1) Select data'!Z155)","v":""},{"$f":"IF($A179>n_select,\"\",'1) Select data'!AA155)","v":""},0,"",{"$f":"IF(AND($A179<=n_select,Validation!H$8,B179-C179*R_s<=V_ex1),B179-C179*R_s,0)","v":{"$error":"#VALUE!"}},{"$error":"#VALUE!"}]
[141,{"$f":"IF($A180>n_select,\"\",'1) Select data'!Z156)","v":""},{"$f":"IF($A180>n_select,\"\",'1) Select data'!AA156)","v":""},0,"",{"$f":"IF(AND($A180<=n_select,Validation!H$8,B180-C180*R_s<=V_ex1),B180-C180*R_s,0)","v":{"$error":"#VALUE!"}},{"$error":"#VALUE!"}]
[142,{"$f":"IF($A181>n_select,\"\",'1) Select data'!Z157)","v":""},{"$f":"IF($A181>n_select,\"\",'1) Select data'!AA157)","v":""},0,"",{"$f":"IF(AND($A181<=n_select,Validation!H$8,B181-C181*R_s<=V_ex1),B181-C181*R_s,0)","v":{"$error":"#VALUE!"}},{"$error":"#VALUE!"}]
[143,{"$f":"IF($A182>n_select,\"\",'1) Select data'!Z158)","v":""},{"$f":"IF($A182>n_select,\"\",'1) Select data'!AA158)","v":""},0,"",{"$f":"IF(AND($A182<=n_select,Validation!H$8,B182-C182*R_s<=V_ex1),B182-C182*R_s,0)","v":{"$error":"#VALUE!"}},{"$error":"#VALUE!"}]
[144,{"$f":"IF($A183>n_select,\"\",'1) Select data'!Z159)","v":""},{"$f":"IF($A183>n_select,\"\",'1) Select data'!AA159)","v":""},0,"",{"$f":"IF(AND($A183<=n_select,Validation!H$8,B183-C183*R_s<=V_ex1),B183-C183*R_s,0)","v":{"$error":"#VALUE!"}},{"$error":"#VALUE!"}]
[145,{"$f":"IF($A184>n_select,\"\",'1) Select data'!Z160)","v":""},{"$f":"IF($A184>n_select,\"\",'1) Select data'!AA160)","v":""},0,"",{"$f":"IF(AND($A184<=n_select,Validation!H$8,B184-C184*R_s<=V_ex1),B184-C184*R_s,0)","v":{"$error":"#VALUE!"}},{"$error":"#VALUE!"}]
[146,{"$f":"IF($A185>n_select,\"\",'1) Select data'!Z161)","v":""},{"$f":"IF($A185>n_select,\"\",'1) Select data'!AA161)","v":""},0,"",{"$f":"IF(AND($A185<=n_select,Validation!H$8,B185-C185*R_s<=V_ex1),B185-C185*R_s,0)","v":{"$error":"#VALUE!"}},{"$error":"#VALUE!"}]
[147,{"$f":"IF($A186>n_select,\"\",'1) Select data'!Z162)","v":""},{"$f":"IF($A186>n_select,\"\",'1) Select data'!AA162)","v":""},0,"",{"$f":"IF(AND($A186<=n_select,Validation!H$8,B186-C186*R_s<=V_ex1),B186-C186*R_s,0)","v":{"$error":"#VALUE!"}},{"$error":"#VALUE!"}]
[148,{"$f":"IF($A187>n_select,\"\",'1) Select data'!Z163)","v":""},{"$f":"IF($A187>n_select,\"\",'1) Select data'!AA163)","v":""},0,"",{"$f":"IF(AND($A187<=n_select,Validation!H$8,B187-C187*R_s<=V_ex1),B187-C187*R_s,0)","v":{"$error":"#VALUE!"}},{"$error":"#VALUE!"}]
[149,{"$f":"IF($A188>n_select,\"\",'1) Select data'!Z164)","v":""},{"$f":"IF($A188>n_select,\"\",'1) Select data'!AA164)","v":""},0,"",{"$f":"IF(AND($A188<=n_select,Validation!H$8,B188-C188*R_s<=V_ex1),B188-C188*R_s,0)","v":{"$error":"#VALUE!"}},{"$error":"#VALUE!"}]
[150,{"$f":"IF($A189>n_select,\"\",'1) Select data'!Z165)","v":""},{"$f":"IF($A189>n_select,\"\",'1) Select data'!AA165)","v":""},0,"",{"$f":"IF(AND($A189<=n_select,Validation!H$8,B189-C189*R_s<=V_ex1),B189-C189*R_s,0)","v":{"$error":"#VALUE!"}},{"$error":"#VALUE!"}]
[151,{"$f":"IF($A190>n_select,\"\",'1) Select data'!Z166)","v":""},{"$f":"IF($A190>n_select,\"\",'1) Select data'!AA166)","v":""},0,"",{"$f":"IF(AND($A190<=n_select,Validation!H$8,B190-C190*R_s<=V_ex1),B190-C190*R_s,0)","v":{"$error":"#VALUE!"}},{"$error":"#VALUE!"}]
[152,{"$f":"IF($A191>n_select,\"\",'1) Select data'!Z167)","v":""},{"$f":"IF($A191>n_select,\"\",'1) Select data'!AA167)","v":""},0,"",{"$f":"IF(AND($A191<=n_select,Validation!H$8,B191-C191*R_s<=V_ex1),B191-C191*R_s,0)","v":{"$error":"#VALUE!"}},{"$error":"#VALUE!"}]
[153,{"$f":"IF($A192>n_select,\"\",'1) Select data'!Z168)","v":""},{"$f":"IF($A192>n_select,\"\",'1) Select data'!AA168)","v":""},0,"",{"$f":"IF(AND($A192<=n_select,Validation!H$8,B192-C192*R_s<=V_ex1),B192-C192*R_s,0)","v":{"$error":"#VALUE!"}},{"$error":"#VALUE!"}]
[154,{"$f":"IF($A193>n_select,\"\",'1) Select data'!Z169)","v":""},{"$f":"IF($A193>n_select,\"\",'1) Select data'!AA169)","v":""},0,"",{"$f":"IF(AND($A193<=n_select,Validation!H$8,B193-C193*R_s<=V_ex1),B193-C193*R_s,0)","v":{"$error":"#VALUE!"}},{"$error":"#VALUE!"}]
[155,{"$f":"IF($A194>n_select,\"\",'1) Select data'!Z170)","v":""},{"$f":"IF($A194>n_select,\"\",'1) Select data'!AA170)","v":""},0,"",{"$f":"IF(AND($A194<=n_select,Validation!H$8,B194-C194*R_s<=V_ex1),B194-C194*R_s,0)","v":{"$error":"#VALUE!"}},{"$error":"#VALUE!"}]
[156,{"$f":"IF($A195>n_select,\"\",'1) Select data'!Z171)","v":""},{"$f":"IF($A195>n_select,\"\",'1) Select data'!AA171)","v":""},0,"",{"$f":"IF(AND($A195<=n_select,Validation!H$8,B195-C195*R_s<=V_ex1),B195-C195*R_s,0)","v":{"$error":"#VALUE!"}},{"$error":"#VALUE!"}]
[157,{"$f":"IF($A196>n_select,\"\",'1) Select data'!Z172)","v":""},{"$f":"IF($A196>n_select,\"\",'1) Select data'!AA172)","v":""},0,"",{"$f":"IF(AND($A196<=n_select,Validation!H$8,B196-C196*R_s<=V_ex1),B196-C196*R_s,0)","v":{"$error":"#VALUE!"}},{"$error":"#VALUE!"}]
[158,{"$f":"IF($A197>n_select,\"\",'1) Select data'!Z173)","v":""},{"$f":"IF($A197>n_select,\"\",'1) Select data'!AA173)","v":""},0,"",{"$f":"IF(AND($A197<=n_select,Validation!H$8,B197-C197*R_s<=V_ex1),B197-C197*R_s,0)","v":{"$error":"#VALUE!"}},{"$error":"#VALUE!"}]
[159,{"$f":"IF($A198>n_select,\"\",'1) Select data'!Z174)","v":""},{"$f":"IF($A198>n_select,\"\",'1) Select data'!AA174)","v":""},0,"",{"$f":"IF(AND($A198<=n_select,Validation!H$8,B198-C198*R_s<=V_ex1),B198-C198*R_s,0)","v":{"$error":"#VALUE!"}},{"$error":"#VALUE!"}]
[160,{"$f":"IF($A199>n_select,\"\",'1) Select data'!Z175)","v":""},{"$f":"IF($A199>n_select,\"\",'1) Select data'!AA175)","v":""},0,"",{"$f":"IF(AND($A199<=n_select,Validation!H$8,B199-C199*R_s<=V_ex1),B199-C199*R_s,0)","v":{"$error":"#VALUE!"}},{"$error":"#VALUE!"}]
[161,{"$f":"IF($A200>n_select,\"\",'1) Select data'!Z176)","v":""},{"$f":"IF($A200>n_select,\"\",'1) Select data'!AA176)","v":""},0,"",{"$f":"IF(AND($A200<=n_select,Validation!H$8,B200-C200*R_s<=V_ex1),B200-C200*R_s,0)","v":{"$error":"#VALUE!"}},{"$error":"#VALUE!"}]
[162,{"$f":"IF($A201>n_select,\"\",'1) Select data'!Z177)","v":""},{"$f":"IF($A201>n_select,\"\",'1) Select data'!AA177)","v":""},0,"",{"$f":"IF(AND($A201<=n_select,Validation!H$8,B201-C201*R_s<=V_ex1),B201-C201*R_s,0)","v":{"$error":"#VALUE!"}},{"$error":"#VALUE!"}]
[163,{"$f":"IF($A202>n_select,\"\",'1) Select data'!Z178)","v":""},{"$f":"IF($A202>n_select,\"\",'1) Select data'!AA178)","v":""},0,"",{"$f":"IF(AND($A202<=n_select,Validation!H$8,B202-C202*R_s<=V_ex1),B202-C202*R_s,0)","v":{"$error":"#VALUE!"}},{"$error":"#VALUE!"}]
[164,{"$f":"IF($A203>n_select,\"\",'1) Select data'!Z179)","v":""},{"$f":"IF($A203>n_select,\"\",'1) Select data'!AA179)","v":""},0,"",{"$f":"IF(AND($A203<=n_select,Validation!H$8,B203-C203*R_s<=V_ex1),B203-C203*R_s,0)","v":{"$error":"#VALUE!"}},{"$error":"#VALUE!"}]
[165,{"$f":"IF($A204>n_select,\"\",'1) Select data'!Z180)","v":""},{"$f":"IF($A204>n_select,\"\",'1) Select data'!AA180)","v":""},0,"",{"$f":"IF(AND($A204<=n_select,Validation!H$8,B204-C204*R_s<=V_ex1),B204-C204*R_s,0)","v":{"$error":"#VALUE!"}},{"$error":"#VALUE!"}]
[166,{"$f":"IF($A205>n_select,\"\",'1) Select data'!Z181)","v":""},{"$f":"IF($A205>n_select,\"\",'1) Select data'!AA181)","v":""},0,"",{"$f":"IF(AND($A205<=n_select,Validation!H$8,B205-C205*R_s<=V_ex1),B205-C205*R_s,0)","v":{"$error":"#VALUE!"}},{"$error":"#VALUE!"}]
[167,{"$f":"IF($A206>n_select,\"\",'1) Select data'!Z182)","v":""},{"$f":"IF($A206>n_select,\"\",'1) Select data'!AA182)","v":""},0,"",{"$f":"IF(AND($A206<=n_select,Validation!H$8,B206-C206*R_s<=V_ex1),B206-C206*R_s,0)","v":{"$error":"#VALUE!"}},{"$error":"#VALUE!"}]
[168,{"$f":"IF($A207>n_select,\"\",'1) Select data'!Z183)","v":""},{"$f":"IF($A207>n_select,\"\",'1) Select data'!AA183)","v":""},0,"",{"$f":"IF(AND($A207<=n_select,Validation!H$8,B207-C207*R_s<=V_ex1),B207-C207*R_s,0)","v":{"$error":"#VALUE!"}},{"$error":"#VALUE!"}]
[169,{"$f":"IF($A208>n_select,\"\",'1) Select data'!Z184)","v":""},{"$f":"IF($A208>n_select,\"\",'1) Select data'!AA184)","v":""},0,"",{"$f":"IF(AND($A208<=n_select,Validation!H$8,B208-C208*R_s<=V_ex1),B208-C208*R_s,0)","v":{"$error":"#VALUE!"}},{"$error":"#VALUE!"}]
[170,{"$f":"IF($A209>n_select,\"\",'1) Select data'!Z185)","v":""},{"$f":"IF($A209>n_select,\"\",'1) Select data'!AA185)","v":""},0,"",{"$f":"IF(AND($A209<=n_select,Validation!H$8,B209-C209*R_s<=V_ex1),B209-C209*R_s,0)","v":{"$error":"#VALUE!"}},{"$error":"#VALUE!"}]
[171,{"$f":"IF($A210>n_select,\"\",'1) Select data'!Z186)","v":""},{"$f":"IF($A210>n_select,\"\",'1) Select data'!AA186)","v":""},0,"",{"$f":"IF(AND($A210<=n_select,Validation!H$8,B210-C210*R_s<=V_ex1),B210-C210*R_s,0)","v":{"$error":"#VALUE!"}},{"$error":"#VALUE!"}]
[172,{"$f":"IF($A211>n_select,\"\",'1) Select data'!Z187)","v":""},{"$f":"IF($A211>n_select,\"\",'1) Select data'!AA187)","v":""},0,"",{"$f":"IF(AND($A211<=n_select,Validation!H$8,B211-C211*R_s<=V_ex1),B211-C211*R_s,0)","v":{"$error":"#VALUE!"}},{"$error":"#VALUE!"}]
[173,{"$f":"IF($A212>n_select,\"\",'1) Select data'!Z188)","v":""},{"$f":"IF($A212>n_select,\"\",'1) Select data'!AA188)","v":""},0,"",{"$f":"IF(AND($A212<=n_select,Validation!H$8,B212-C212*R_s<=V_ex1),B212-C212*R_s,0)","v":{"$error":"#VALUE!"}},{"$error":"#VALUE!"}]
[174,{"$f":"IF($A213>n_select,\"\",'1) Select data'!Z189)","v":""},{"$f":"IF($A213>n_select,\"\",'1) Select data'!AA189)","v":""},0,"",{"$f":"IF(AND($A213<=n_select,Validation!H$8,B213-C213*R_s<=V_ex1),B213-C213*R_s,0)","v":{"$error":"#VALUE!"}},{"$error":"#VALUE!"}]
[175,{"$f":"IF($A214>n_select,\"\",'1) Select data'!Z190)","v":""},{"$f":"IF($A214>n_select,\"\",'1) Select data'!AA190)","v":""},0,"",{"$f":"IF(AND($A214<=n_select,Validation!H$8,B214-C214*R_s<=V_ex1),B214-C214*R_s,0)","v":{"$error":"#VALUE!"}},{"$error":"#VALUE!"}]
[176,{"$f":"IF($A215>n_select,\"\",'1) Select data'!Z191)","v":""},{"$f":"IF($A215>n_select,\"\",'1) Select data'!AA191)","v":""},0,"",{"$f":"IF(AND($A215<=n_select,Validation!H$8,B215-C215*R_s<=V_ex1),B215-C215*R_s,0)","v":{"$error":"#VALUE!"}},{"$error":"#VALUE!"}]
[177,{"$f":"IF($A216>n_select,\"\",'1) Select data'!Z192)","v":""},{"$f":"IF($A216>n_select,\"\",'1) Select data'!AA192)","v":""},0,"",{"$f":"IF(AND($A216<=n_select,Validation!H$8,B216-C216*R_s<=V_ex1),B216-C216*R_s,0)","v":{"$error":"#VALUE!"}},{"$error":"#VALUE!"}]
[178,{"$f":"IF($A217>n_select,\"\",'1) Select data'!Z193)","v":""},{"$f":"IF($A217>n_select,\"\",'1) Select data'!AA193)","v":""},0,"",{"$f":"IF(AND($A217<=n_select,Validation!H$8,B217-C217*R_s<=V_ex1),B217-C217*R_s,0)","v":{"$error":"#VALUE!"}},{"$error":"#VALUE!"}]
[179,{"$f":"IF($A218>n_select,\"\",'1) Select data'!Z194)","v":""},{"$f":"IF($A218>n_select,\"\",'1) Select data'!AA194)","v":""},0,"",{"$f":"IF(AND($A218<=n_select,Validation!H$8,B218-C218*R_s<=V_ex1),B218-C218*R_s,0)","v":{"$error":"#VALUE!"}},{"$error":"#VALUE!"}]
[180,{"$f":"IF($A219>n_select,\"\",'1) Select data'!Z195)","v":""},{"$f":"IF($A219>n_select,\"\",'1) Select data'!AA195)","v":""},0,"",{"$f":"IF(AND($A219<=n_select,Validation!H$8,B219-C219*R_s<=V_ex1),B219-C219*R_s,0)","v":{"$error":"#VALUE!"}},{"$error":"#VALUE!"}]
[181,{"$f":"IF($A220>n_select,\"\",'1) Select data'!Z196)","v":""},{"$f":"IF($A220>n_select,\"\",'1) Select data'!AA196)","v":""},0,"",{"$f":"IF(AND($A220<=n_select,Validation!H$8,B220-C220*R_s<=V_ex1),B220-C220*R_s,0)","v":{"$error":"#VALUE!"}},{"$error":"#VALUE!"}]
[182,{"$f":"IF($A221>n_select,\"\",'1) Select data'!Z197)","v":""},{"$f":"IF($A221>n_select,\"\",'1) Select data'!AA197)","v":""},0,"",{"$f":"IF(AND($A221<=n_select,Validation!H$8,B221-C221*R_s<=V_ex1),B221-C221*R_s,0)","v":{"$error":"#VALUE!"}},{"$error":"#VALUE!"}]
[183,{"$f":"IF($A222>n_select,\"\",'1) Select data'!Z198)","v":""},{"$f":"IF($A222>n_select,\"\",'1) Select data'!AA198)","v":""},0,"",{"$f":"IF(AND($A222<=n_select,Validation!H$8,B222-C222*R_s<=V_ex1),B222-C222*R_s,0)","v":{"$error":"#VALUE!"}},{"$error":"#VALUE!"}]
[184,{"$f":"IF($A223>n_select,\"\",'1) Select data'!Z199)","v":""},{"$f":"IF($A223>n_select,\"\",'1) Select data'!AA199)","v":""},0,"",{"$f":"IF(AND($A223<=n_select,Validation!H$8,B223-C223*R_s<=V_ex1),B223-C223*R_s,0)","v":{"$error":"#VALUE!"}},{"$error":"#VALUE!"}]
[185,{"$f":"IF($A224>n_select,\"\",'1) Select data'!Z200)","v":""},{"$f":"IF($A224>n_select,\"\",'1) Select data'!AA200)","v":""},0,"",{"$f":"IF(AND($A224<=n_select,Validation!H$8,B224-C224*R_s<=V_ex1),B224-C224*R_s,0)","v":{"$error":"#VALUE!"}},{"$error":"#VALUE!"}]
[186,{"$f":"IF($A225>n_select,\"\",'1) Select data'!Z201)","v":""},{"$f":"IF($A225>n_select,\"\",'1) Select data'!AA201)","v":""},0,"",{"$f":"IF(AND($A225<=n_select,Validation!H$8,B225-C225*R_s<=V_ex1),B225-C225*R_s,0)","v":{"$error":"#VALUE!"}},{"$error":"#VALUE!"}]
[187,{"$f":"IF($A226>n_select,\"\",'1) Select data'!Z202)","v":""},{"$f":"IF($A226>n_select,\"\",'1) Select data'!AA202)","v":""},0,"",{"$f":"IF(AND($A226<=n_select,Validation!H$8,B226-C226*R_s<=V_ex1),B226-C226*R_s,0)","v":{"$error":"#VALUE!"}},{"$error":"#VALUE!"}]
[188,{"$f":"IF($A227>n_select,\"\",'1) Select data'!Z203)","v":""},{"$f":"IF($A227>n_select,\"\",'1) Select data'!AA203)","v":""},0,"",{"$f":"IF(AND($A227<=n_select,Validation!H$8,B227-C227*R_s<=V_ex1),B227-C227*R_s,0)","v":{"$error":"#VALUE!"}},{"$error":"#VALUE!"}]
[189,{"$f":"IF($A228>n_select,\"\",'1) Select data'!Z204)","v":""},{"$f":"IF($A228>n_select,\"\",'1) Select data'!AA204)","v":""},0,"",{"$f":"IF(AND($A228<=n_select,Validation!H$8,B228-C228*R_s<=V_ex1),B228-C228*R_s,0)","v":{"$error":"#VALUE!"}},{"$error":"#VALUE!"}]
[190,{"$f":"IF($A229>n_select,\"\",'1) Select data'!Z205)","v":""},{"$f":"IF($A229>n_select,\"\",'1) Select data'!AA205)","v":""},0,"",{"$f":"IF(AND($A229<=n_select,Validation!H$8,B229-C229*R_s<=V_ex1),B229-C229*R_s,0)","v":{"$error":"#VALUE!"}},{"$error":"#VALUE!"}]
[191,{"$f":"IF($A230>n_select,\"\",'1) Select data'!Z206)","v":""},{"$f":"IF($A230>n_select,\"\",'1) Select data'!AA206)","v":""},0,"",{"$f":"IF(AND($A230<=n_select,Validation!H$8,B230-C230*R_s<=V_ex1),B230-C230*R_s,0)","v":{"$error":"#VALUE!"}},{"$error":"#VALUE!"}]
[192,{"$f":"IF($A231>n_select,\"\",'1) Select data'!Z207)","v":""},{"$f":"IF($A231>n_select,\"\",'1) Select data'!AA207)","v":""},0,"",{"$f":"IF(AND($A231<=n_select,Validation!H$8,B231-C231*R_s<=V_ex1),B231-C231*R_s,0)","v":{"$error":"#VALUE!"}},{"$error":"#VALUE!"}]
[193,{"$f":"IF($A232>n_select,\"\",'1) Select data'!Z208)","v":""},{"$f":"IF($A232>n_select,\"\",'1) Select data'!AA208)","v":""},{"$f":"IF($A232>n_select,0,B232-C232*R_s)","v":0},{"$f":"IF($A232>n_select,\"\",C232)","v":""},{"$f":"IF(AND($A232<=n_select,Validation!H$8,B232-C232*R_s<=V_ex1),B232-C232*R_s,0)","v":{"$error":"#VALUE!"}},{"$f":"IF(F232<>0,E232,\"\")","v":{"$error":"#VALUE!"}}]
[194,{"$f":"IF($A233>n_select,\"\",'1) Select data'!Z209)","v":""},{"$f":"IF($A233>n_select,\"\",'1) Select data'!AA209)","v":""},0,"",{"$f":"IF(AND($A233<=n_select,Validation!H$8,B233-C233*R_s<=V_ex1),B233-C233*R_s,0)","v":{"$error":"#VALUE!"}},{"$error":"#VALUE!"}]
[195,{"$f":"IF($A234>n_select,\"\",'1) Select data'!Z210)","v":""},{"$f":"IF($A234>n_select,\"\",'1) Select data'!AA210)","v":""},0,"",{"$f":"IF(AND($A234<=n_select,Validation!H$8,B234-C234*R_s<=V_ex1),B234-C234*R_s,0)","v":{"$error":"#VALUE!"}},{"$error":"#VALUE!"}]
[196,{"$f":"IF($A235>n_select,\"\",'1) Select data'!Z211)","v":""},{"$f":"IF($A235>n_select,\"\",'1) Select data'!AA211)","v":""},0,"",{"$f":"IF(AND($A235<=n_select,Validation!H$8,B235-C235*R_s<=V_ex1),B235-C235*R_s,0)","v":{"$error":"#VALUE!"}},{"$error":"#VALUE!"}]
[197,{"$f":"IF($A236>n_select,\"\",'1) Select data'!Z212)","v":""},{"$f":"IF($A236>n_select,\"\",'1) Select data'!AA212)","v":""},0,"",{"$f":"IF(AND($A236<=n_select,Validation!H$8,B236-C236*R_s<=V_ex1),B236-C236*R_s,0)","v":{"$error":"#VALUE!"}},{"$error":"#VALUE!"}]
[198,{"$f":"IF($A237>n_select,\"\",'1) Select data'!Z213)","v":""},{"$f":"IF($A237>n_select,\"\",'1) Select data'!AA213)","v":""},0,"",{"$f":"IF(AND($A237<=n_select,Validation!H$8,B237-C237*R_s<=V_ex1),B237-C237*R_s,0)","v":{"$error":"#VALUE!"}},{"$error":"#VALUE!"}]
[199,{"$f":"IF($A238>n_select,\"\",'1) Select data'!Z214)","v":""},{"$f":"IF($A238>n_select,\"\",'1) Select data'!AA214)","v":""},0,"",{"$f":"IF(AND($A238<=n_select,Validation!H$8,B238-C238*R_s<=V_ex1),B238-C238*R_s,0)","v":{"$error":"#VALUE!"}},{"$error":"#VALUE!"}]
[200,{"$f":"IF($A239>n_select,\"\",'1) Select data'!Z215)","v":""},{"$f":"IF($A239>n_select,\"\",'1) Select data'!AA215)","v":""},0,"",{"$f":"IF(AND($A239<=n_select,Validation!H$8,B239-C239*R_s<=V_ex1),B239-C239*R_s,0)","v":{"$error":"#VALUE!"}},{"$error":"#VALUE!"}]
[201,{"$f":"IF($A240>n_select,\"\",'1) Select data'!Z216)","v":""},{"$f":"IF($A240>n_select,\"\",'1) Select data'!AA216)","v":""},0,"",{"$f":"IF(AND($A240<=n_select,Validation!H$8,B240-C240*R_s<=V_ex1),B240-C240*R_s,0)","v":{"$error":"#VALUE!"}},{"$error":"#VALUE!"}]
[202,{"$f":"IF($A241>n_select,\"\",'1) Select data'!Z217)","v":""},{"$f":"IF($A241>n_select,\"\",'1) Select data'!AA217)","v":""},0,"",{"$f":"IF(AND($A241<=n_select,Validation!H$8,B241-C241*R_s<=V_ex1),B241-C241*R_s,0)","v":{"$error":"#VALUE!"}},{"$error":"#VALUE!"}]
[203,{"$f":"IF($A242>n_select,\"\",'1) Select data'!Z218)","v":""},{"$f":"IF($A242>n_select,\"\",'1) Select data'!AA218)","v":""},0,"",{"$f":"IF(AND($A242<=n_select,Validation!H$8,B242-C242*R_s<=V_ex1),B242-C242*R_s,0)","v":{"$error":"#VALUE!"}},{"$error":"#VALUE!"}]
[204,{"$f":"IF($A243>n_select,\"\",'1) Select data'!Z219)","v":""},{"$f":"IF($A243>n_select,\"\",'1) Select data'!AA219)","v":""},0,"",{"$f":"IF(AND($A243<=n_select,Validation!H$8,B243-C243*R_s<=V_ex1),B243-C243*R_s,0)","v":{"$error":"#VALUE!"}},{"$error":"#VALUE!"}]
[205,{"$f":"IF($A244>n_select,\"\",'1) Select data'!Z220)","v":""},{"$f":"IF($A244>n_select,\"\",'1) Select data'!AA220)","v":""},0,"",{"$f":"IF(AND($A244<=n_select,Validation!H$8,B244-C244*R_s<=V_ex1),B244-C244*R_s,0)","v":{"$error":"#VALUE!"}},{"$error":"#VALUE!"}]
[206,{"$f":"IF($A245>n_select,\"\",'1) Select data'!Z221)","v":""},{"$f":"IF($A245>n_select,\"\",'1) Select data'!AA221)","v":""},0,"",{"$f":"IF(AND($A245<=n_select,Validation!H$8,B245-C245*R_s<=V_ex1),B245-C245*R_s,0)","v":{"$error":"#VALUE!"}},{"$error":"#VALUE!"}]
[207,{"$f":"IF($A246>n_select,\"\",'1) Select data'!Z222)","v":""},{"$f":"IF($A246>n_select,\"\",'1) Select data'!AA222)","v":""},0,"",{"$f":"IF(AND($A246<=n_select,Validation!H$8,B246-C246*R_s<=V_ex1),B246-C246*R_s,0)","v":{"$error":"#VALUE!"}},{"$error":"#VALUE!"}]
[208,{"$f":"IF($A247>n_select,\"\",'1) Select data'!Z223)","v":""},{"$f":"IF($A247>n_select,\"\",'1) Select data'!AA223)","v":""},0,"",{"$f":"IF(AND($A247<=n_select,Validation!H$8,B247-C247*R_s<=V_ex1),B247-C247*R_s,0)","v":{"$error":"#VALUE!"}},{"$error":"#VALUE!"}]
[209,{"$f":"IF($A248>n_select,\"\",'1) Select data'!Z224)","v":""},{"$f":"IF($A248>n_select,\"\",'1) Select data'!AA224)","v":""},0,"",{"$f":"IF(AND($A248<=n_select,Validation!H$8,B248-C248*R_s<=V_ex1),B248-C248*R_s,0)","v":{"$error":"#VALUE!"}},{"$error":"#VALUE!"}]
[210,{"$f":"IF($A249>n_select,\"\",'1) Select data'!Z225)","v":""},{"$f":"IF($A249>n_select,\"\",'1) Select data'!AA225)","v":""},0,"",{"$f":"IF(AND($A249<=n_select,Validation!H$8,B249-C249*R_s<=V_ex1),B249-C249*R_s,0)","v":{"$error":"#VALUE!"}},{"$error":"#VALUE!"}]
[211,{"$f":"IF($A250>n_select,\"\",'1) Select data'!Z226)","v":""},{"$f":"IF($A250>n_select,\"\",'1) Select data'!AA226)","v":""},0,"",{"$f":"IF(AND($A250<=n_select,Validation!H$8,B250-C250*R_s<=V_ex1),B250-C250*R_s,0)","v":{"$error":"#VALUE!"}},{"$error":"#VALUE!"}]
[212,{"$f":"IF($A251>n_select,\"\",'1) Select data'!Z227)","v":""},{"$f":"IF($A251>n_select,\"\",'1) Select data'!AA227)","v":""},0,"",{"$f":"IF(AND($A251<=n_select,Validation!H$8,B251-C251*R_s<=V_ex1),B251-C251*R_s,0)","v":{"$error":"#VALUE!"}},{"$error":"#VALUE!"}]
[213,{"$f":"IF($A252>n_select,\"\",'1) Select data'!Z228)","v":""},{"$f":"IF($A252>n_select,\"\",'1) Select data'!AA228)","v":""},0,"",{"$f":"IF(AND($A252<=n_select,Validation!H$8,B252-C252*R_s<=V_ex1),B252-C252*R_s,0)","v":{"$error":"#VALUE!"}},{"$error":"#VALUE!"}]
[214,{"$f":"IF($A253>n_select,\"\",'1) Select data'!Z229)","v":""},{"$f":"IF($A253>n_select,\"\",'1) Select data'!AA229)","v":""},0,"",{"$f":"IF(AND($A253<=n_select,Validation!H$8,B253-C253*R_s<=V_ex1),B253-C253*R_s,0)","v":{"$error":"#VALUE!"}},{"$error":"#VALUE!"}]
[215,{"$f":"IF($A254>n_select,\"\",'1) Select data'!Z230)","v":""},{"$f":"IF($A254>n_select,\"\",'1) Select data'!AA230)","v":""},0,"",{"$f":"IF(AND($A254<=n_select,Validation!H$8,B254-C254*R_s<=V_ex1),B254-C254*R_s,0)","v":{"$error":"#VALUE!"}},{"$error":"#VALUE!"}]
[216,{"$f":"IF($A255>n_select,\"\",'1) Select data'!Z231)","v":""},{"$f":"IF($A255>n_select,\"\",'1) Select data'!AA231)","v":""},0,"",{"$f":"IF(AND($A255<=n_select,Validation!H$8,B255-C255*R_s<=V_ex1),B255-C255*R_s,0)","v":{"$error":"#VALUE!"}},{"$error":"#VALUE!"}]
[217,{"$f":"IF($A256>n_select,\"\",'1) Select data'!Z232)","v":""},{"$f":"IF($A256>n_select,\"\",'1) Select data'!AA232)","v":""},0,"",{"$f":"IF(AND($A256<=n_select,Validation!H$8,B256-C256*R_s<=V_ex1),B256-C256*R_s,0)","v":{"$error":"#VALUE!"}},{"$error":"#VALUE!"}]
[218,{"$f":"IF($A257>n_select,\"\",'1) Select data'!Z233)","v":""},{"$f":"IF($A257>n_select,\"\",'1) Select data'!AA233)","v":""},0,"",{"$f":"IF(AND($A257<=n_select,Validation!H$8,B257-C257*R_s<=V_ex1),B257-C257*R_s,0)","v":{"$error":"#VALUE!"}},{"$error":"#VALUE!"}]
[219,{"$f":"IF($A258>n_select,\"\",'1) Select data'!Z234)","v":""},{"$f":"IF($A258>n_select,\"\",'1) Select data'!AA234)","v":""},0,"",{"$f":"IF(AND($A258<=n_select,Validation!H$8,B258-C258*R_s<=V_ex1),B258-C258*R_s,0)","v":{"$error":"#VALUE!"}},{"$error":"#VALUE!"}]
[220,{"$f":"IF($A259>n_select,\"\",'1) Select data'!Z235)","v":""},{"$f":"IF($A259>n_select,\"\",'1) Select data'!AA235)","v":""},0,"",{"$f":"IF(AND($A259<=n_select,Validation!H$8,B259-C259*R_s<=V_ex1),B259-C259*R_s,0)","v":{"$error":"#VALUE!"}},{"$error":"#VALUE!"}]
[221,{"$f":"IF($A260>n_select,\"\",'1) Select data'!Z236)","v":""},{"$f":"IF($A260>n_select,\"\",'1) Select data'!AA236)","v":""},0,"",{"$f":"IF(AND($A260<=n_select,Validation!H$8,B260-C260*R_s<=V_ex1),B260-C260*R_s,0)","v":{"$error":"#VALUE!"}},{"$error":"#VALUE!"}]
[222,{"$f":"IF($A261>n_select,\"\",'1) Select data'!Z237)","v":""},{"$f":"IF($A261>n_select,\"\",'1) Select data'!AA237)","v":""},0,"",{"$f":"IF(AND($A261<=n_select,Validation!H$8,B261-C261*R_s<=V_ex1),B261-C261*R_s,0)","v":{"$error":"#VALUE!"}},{"$error":"#VALUE!"}]
[223,{"$f":"IF($A262>n_select,\"\",'1) Select data'!Z238)","v":""},{"$f":"IF($A262>n_select,\"\",'1) Select data'!AA238)","v":""},0,"",{"$f":"IF(AND($A262<=n_select,Validation!H$8,B262-C262*R_s<=V_ex1),B262-C262*R_s,0)","v":{"$error":"#VALUE!"}},{"$error":"#VALUE!"}]
[224,{"$f":"IF($A263>n_select,\"\",'1) Select data'!Z239)","v":""},{"$f":"IF($A263>n_select,\"\",'1) Select data'!AA239)","v":""},0,"",{"$f":"IF(AND($A263<=n_select,Validation!H$8,B263-C263*R_s<=V_ex1),B263-C263*R_s,0)","v":{"$error":"#VALUE!"}},{"$error":"#VALUE!"}]
[225,{"$f":"IF($A264>n_select,\"\",'1) Select data'!Z240)","v":""},{"$f":"IF($A264>n_select,\"\",'1) Select data'!AA240)","v":""},0,"",{"$f":"IF(AND($A264<=n_select,Validation!H$8,B264-C264*R_s<=V_ex1),B264-C264*R_s,0)","v":{"$error":"#VALUE!"}},{"$error":"#VALUE!"}]
[226,{"$f":"IF($A265>n_select,\"\",'1) Select data'!Z241)","v":""},{"$f":"IF($A265>n_select,\"\",'1) Select data'!AA241)","v":""},0,"",{"$f":"IF(AND($A265<=n_select,Validation!H$8,B265-C265*R_s<=V_ex1),B265-C265*R_s,0)","v":{"$error":"#VALUE!"}},{"$error":"#VALUE!"}]
[227,{"$f":"IF($A266>n_select,\"\",'1) Select data'!Z242)","v":""},{"$f":"IF($A266>n_select,\"\",'1) Select data'!AA242)","v":""},0,"",{"$f":"IF(AND($A266<=n_select,Validation!H$8,B266-C266*R_s<=V_ex1),B266-C266*R_s,0)","v":{"$error":"#VALUE!"}},{"$error":"#VALUE!"}]
[228,{"$f":"IF($A267>n_select,\"\",'1) Select data'!Z243)","v":""},{"$f":"IF($A267>n_select,\"\",'1) Select data'!AA243)","v":""},0,"",{"$f":"IF(AND($A267<=n_select,Validation!H$8,B267-C267*R_s<=V_ex1),B267-C267*R_s,0)","v":{"$error":"#VALUE!"}},{"$error":"#VALUE!"}]
[229,{"$f":"IF($A268>n_select,\"\",'1) Select data'!Z244)","v":""},{"$f":"IF($A268>n_select,\"\",'1) Select data'!AA244)","v":""},0,"",{"$f":"IF(AND($A268<=n_select,Validation!H$8,B268-C268*R_s<=V_ex1),B268-C268*R_s,0)","v":{"$error":"#VALUE!"}},{"$error":"#VALUE!"}]
[230,{"$f":"IF($A269>n_select,\"\",'1) Select data'!Z245)","v":""},{"$f":"IF($A269>n_select,\"\",'1) Select data'!AA245)","v":""},0,"",{"$f":"IF(AND($A269<=n_select,Validation!H$8,B269-C269*R_s<=V_ex1),B269-C269*R_s,0)","v":{"$error":"#VALUE!"}},{"$error":"#VALUE!"}]
[231,{"$f":"IF($A270>n_select,\"\",'1) Select data'!Z246)","v":""},{"$f":"IF($A270>n_select,\"\",'1) Select data'!AA246)","v":""},0,"",{"$f":"IF(AND($A270<=n_select,Validation!H$8,B270-C270*R_s<=V_ex1),B270-C270*R_s,0)","v":{"$error":"#VALUE!"}},{"$error":"#VALUE!"}]
[232,{"$f":"IF($A271>n_select,\"\",'1) Select data'!Z247)","v":""},{"$f":"IF($A271>n_select,\"\",'1) Select data'!AA247)","v":""},0,"",{"$f":"IF(AND($A271<=n_select,Validation!H$8,B271-C271*R_s<=V_ex1),B271-C271*R_s,0)","v":{"$error":"#VALUE!"}},{"$error":"#VALUE!"}]
[233,{"$f":"IF($A272>n_select,\"\",'1) Select data'!Z248)","v":""},{"$f":"IF($A272>n_select,\"\",'1) Select data'!AA248)","v":""},0,"",{"$f":"IF(AND($A272<=n_select,Validation!H$8,B272-C272*R_s<=V_ex1),B272-C272*R_s,0)","v":{"$error":"#VALUE!"}},{"$error":"#VALUE!"}]
[234,{"$f":"IF($A273>n_select,\"\",'1) Select data'!Z249)","v":""},{"$f":"IF($A273>n_select,\"\",'1) Select data'!AA249)","v":""},0,"",{"$f":"IF(AND($A273<=n_select,Validation!H$8,B273-C273*R_s<=V_ex1),B273-C273*R_s,0)","v":{"$error":"#VALUE!"}},{"$error":"#VALUE!"}]
[235,{"$f":"IF($A274>n_select,\"\",'1) Select data'!Z250)","v":""},{"$f":"IF($A274>n_select,\"\",'1) Select data'!AA250)","v":""},0,"",{"$f":"IF(AND($A274<=n_select,Validation!H$8,B274-C274*R_s<=V_ex1),B274-C274*R_s,0)","v":{"$error":"#VALUE!"}},{"$error":"#VALUE!"}]
[236,{"$f":"IF($A275>n_select,\"\",'1) Select data'!Z251)","v":""},{"$f":"IF($A275>n_select,\"\",'1) Select data'!AA251)","v":""},0,"",{"$f":"IF(AND($A275<=n_select,Validation!H$8,B275-C275*R_s<=V_ex1),B275-C275*R_s,0)","v":{"$error":"#VALUE!"}},{"$error":"#VALUE!"}]
[237,{"$f":"IF($A276>n_select,\"\",'1) Select data'!Z252)","v":""},{"$f":"IF($A276>n_select,\"\",'1) Select data'!AA252)","v":""},0,"",{"$f":"IF(AND($A276<=n_select,Validation!H$8,B276-C276*R_s<=V_ex1),B276-C276*R_s,0)","v":{"$error":"#VALUE!"}},{"$error":"#VALUE!"}]
[238,{"$f":"IF($A277>n_select,\"\",'1) Select data'!Z253)","v":""},{"$f":"IF($A277>n_select,\"\",'1) Select data'!AA253)","v":""},0,"",{"$f":"IF(AND($A277<=n_select,Validation!H$8,B277-C277*R_s<=V_ex1),B277-C277*R_s,0)","v":{"$error":"#VALUE!"}},{"$error":"#VALUE!"}]
[239,{"$f":"IF($A278>n_select,\"\",'1) Select data'!Z254)","v":""},{"$f":"IF($A278>n_select,\"\",'1) Select data'!AA254)","v":""},0,"",{"$f":"IF(AND($A278<=n_select,Validation!H$8,B278-C278*R_s<=V_ex1),B278-C278*R_s,0)","v":{"$error":"#VALUE!"}},{"$error":"#VALUE!"}]
[240,{"$f":"IF($A279>n_select,\"\",'1) Select data'!Z255)","v":""},{"$f":"IF($A279>n_select,\"\",'1) Select data'!AA255)","v":""},0,"",{"$f":"IF(AND($A279<=n_select,Validation!H$8,B279-C279*R_s<=V_ex1),B279-C279*R_s,0)","v":{"$error":"#VALUE!"}},{"$error":"#VALUE!"}]
[241,{"$f":"IF($A280>n_select,\"\",'1) Select data'!Z256)","v":""},{"$f":"IF($A280>n_select,\"\",'1) Select data'!AA256)","v":""},0,"",{"$f":"IF(AND($A280<=n_select,Validation!H$8,B280-C280*R_s<=V_ex1),B280-C280*R_s,0)","v":{"$error":"#VALUE!"}},{"$error":"#VALUE!"}]
[242,{"$f":"IF($A281>n_select,\"\",'1) Select data'!Z257)","v":""},{"$f":"IF($A281>n_select,\"\",'1) Select data'!AA257)","v":""},0,"",{"$f":"IF(AND($A281<=n_select,Validation!H$8,B281-C281*R_s<=V_ex1),B281-C281*R_s,0)","v":{"$error":"#VALUE!"}},{"$error":"#VALUE!"}]
[243,{"$f":"IF($A282>n_select,\"\",'1) Select data'!Z258)","v":""},{"$f":"IF($A282>n_select,\"\",'1) Select data'!AA258)","v":""},0,"",{"$f":"IF(AND($A282<=n_select,Validation!H$8,B282-C282*R_s<=V_ex1),B282-C282*R_s,0)","v":{"$error":"#VALUE!"}},{"$error":"#VALUE!"}]
[244,{"$f":"IF($A283>n_select,\"\",'1) Select data'!Z259)","v":""},{"$f":"IF($A283>n_select,\"\",'1) Select data'!AA259)","v":""},0,"",{"$f":"IF(AND($A283<=n_select,Validation!H$8,B283-C283*R_s<=V_ex1),B283-C283*R_s,0)","v":{"$error":"#VALUE!"}},{"$error":"#VALUE!"}]
[245,{"$f":"IF($A284>n_select,\"\",'1) Select data'!Z260)","v":""},{"$f":"IF($A284>n_select,\"\",'1) Select data'!AA260)","v":""},0,"",{"$f":"IF(AND($A284<=n_select,Validation!H$8,B284-C284*R_s<=V_ex1),B284-C284*R_s,0)","v":{"$error":"#VALUE!"}},{"$error":"#VALUE!"}]
[246,{"$f":"IF($A285>n_select,\"\",'1) Select data'!Z261)","v":""},{"$f":"IF($A285>n_select,\"\",'1) Select data'!AA261)","v":""},0,"",{"$f":"IF(AND($A285<=n_select,Validation!H$8,B285-C285*R_s<=V_ex1),B285-C285*R_s,0)","v":{"$error":"#VALUE!"}},{"$error":"#VALUE!"}]
[247,{"$f":"IF($A286>n_select,\"\",'1) Select data'!Z262)","v":""},{"$f":"IF($A286>n_select,\"\",'1) Select data'!AA262)","v":""},0,"",{"$f":"IF(AND($A286<=n_select,Validation!H$8,B286-C286*R_s<=V_ex1),B286-C286*R_s,0)","v":{"$error":"#VALUE!"}},{"$error":"#VALUE!"}]
[248,{"$f":"IF($A287>n_select,\"\",'1) Select data'!Z263)","v":""},{"$f":"IF($A287>n_select,\"\",'1) Select data'!AA263)","v":""},0,"",{"$f":"IF(AND($A287<=n_select,Validation!H$8,B287-C287*R_s<=V_ex1),B287-C287*R_s,0)","v":{"$error":"#VALUE!"}},{"$error":"#VALUE!"}]
[249,{"$f":"IF($A288>n_select,\"\",'1) Select data'!Z264)","v":""},{"$f":"IF($A288>n_select,\"\",'1) Select data'!AA264)","v":""},0,"",{"$f":"IF(AND($A288<=n_select,Validation!H$8,B288-C288*R_s<=V_ex1),B288-C288*R_s,0)","v":{"$error":"#VALUE!"}},{"$error":"#VALUE!"}]
[250,{"$f":"IF($A289>n_select,\"\",'1) Select data'!Z265)","v":""},{"$f":"IF($A289>n_select,\"\",'1) Select data'!AA265)","v":""},0,"",{"$f":"IF(AND($A289<=n_select,Validation!H$8,B289-C289*R_s<=V_ex1),B289-C289*R_s,0)","v":{"$error":"#VALUE!"}},{"$error":"#VALUE!"}]
[251,{"$f":"IF($A290>n_select,\"\",'1) Select data'!Z266)","v":""},{"$f":"IF($A290>n_select,\"\",'1) Select data'!AA266)","v":""},0,"",{"$f":"IF(AND($A290<=n_select,Validation!H$8,B290-C290*R_s<=V_ex1),B290-C290*R_s,0)","v":{"$error":"#VALUE!"}},{"$error":"#VALUE!"}]
[252,{"$f":"IF($A291>n_select,\"\",'1) Select data'!Z267)","v":""},{"$f":"IF($A291>n_select,\"\",'1) Select data'!AA267)","v":""},0,"",{"$f":"IF(AND($A291<=n_select,Validation!H$8,B291-C291*R_s<=V_ex1),B291-C291*R_s,0)","v":{"$error":"#VALUE!"}},{"$error":"#VALUE!"}]
[253,{"$f":"IF($A292>n_select,\"\",'1) Select data'!Z268)","v":""},{"$f":"IF($A292>n_select,\"\",'1) Select data'!AA268)","v":""},0,"",{"$f":"IF(AND($A292<=n_select,Validation!H$8,B292-C292*R_s<=V_ex1),B292-C292*R_s,0)","v":{"$error":"#VALUE!"}},{"$error":"#VALUE!"}]
[254,{"$f":"IF($A293>n_select,\"\",'1) Select data'!Z269)","v":""},{"$f":"IF($A293>n_select,\"\",'1) Select data'!AA269)","v":""},0,"",{"$f":"IF(AND($A293<=n_select,Validation!H$8,B293-C293*R_s<=V_ex1),B293-C293*R_s,0)","v":{"$error":"#VALUE!"}},{"$error":"#VALUE!"}]
[255,{"$f":"IF($A294>n_select,\"\",'1) Select data'!Z270)","v":""},{"$f":"IF($A294>n_select,\"\",'1) Select data'!AA270)","v":""},0,"",{"$f":"IF(AND($A294<=n_select,Validation!H$8,B294-C294*R_s<=V_ex1),B294-C294*R_s,0)","v":{"$error":"#VALUE!"}},{"$error":"#VALUE!"}]
[256,{"$f":"IF($A295>n_select,\"\",'1) Select data'!Z271)","v":""},{"$f":"IF($A295>n_select,\"\",'1) Select data'!AA271)","v":""},0,"",{"$f":"IF(AND($A295<=n_select,Validation!H$8,B295-C295*R_s<=V_ex1),B295-C295*R_s,0)","v":{"$error":"#VALUE!"}},{"$error":"#VALUE!"}]
[257,{"$f":"IF($A296>n_select,\"\",'1) Select data'!Z272)","v":""},{"$f":"IF($A296>n_select,\"\",'1) Select data'!AA272)","v":""},{"$f":"IF($A296>n_select,0,B296-C296*R_s)","v":0},{"$f":"IF($A296>n_select,\"\",C296)","v":""},{"$f":"IF(AND($A296<=n_select,Validation!H$8,B296-C296*R_s<=V_ex1),B296-C296*R_s,0)","v":{"$error":"#VALUE!"}},{"$f":"IF(F296<>0,E296,\"\")","v":{"$error":"#VALUE!"}}]
[258,{"$f":"IF($A297>n_select,\"\",'1) Select data'!Z273)","v":""},{"$f":"IF($A297>n_select,\"\",'1) Select data'!AA273)","v":""},0,"",{"$f":"IF(AND($A297<=n_select,Validation!H$8,B297-C297*R_s<=V_ex1),B297-C297*R_s,0)","v":{"$error":"#VALUE!"}},{"$error":"#VALUE!"}]
[259,{"$f":"IF($A298>n_select,\"\",'1) Select data'!Z274)","v":""},{"$f":"IF($A298>n_select,\"\",'1) Select data'!AA274)","v":""},0,"",{"$f":"IF(AND($A298<=n_select,Validation!H$8,B298-C298*R_s<=V_ex1),B298-C298*R_s,0)","v":{"$error":"#VALUE!"}},{"$error":"#VALUE!"}]
[260,{"$f":"IF($A299>n_select,\"\",'1) Select data'!Z275)","v":""},{"$f":"IF($A299>n_select,\"\",'1) Select data'!AA275)","v":""},0,"",{"$f":"IF(AND($A299<=n_select,Validation!H$8,B299-C299*R_s<=V_ex1),B299-C299*R_s,0)","v":{"$error":"#VALUE!"}},{"$error":"#VALUE!"}]
[261,{"$f":"IF($A300>n_select,\"\",'1) Select data'!Z276)","v":""},{"$f":"IF($A300>n_select,\"\",'1) Select data'!AA276)","v":""},0,"",{"$f":"IF(AND($A300<=n_select,Validation!H$8,B300-C300*R_s<=V_ex1),B300-C300*R_s,0)","v":{"$error":"#VALUE!"}},{"$error":"#VALUE!"}]
[262,{"$f":"IF($A301>n_select,\"\",'1) Select data'!Z277)","v":""},{"$f":"IF($A301>n_select,\"\",'1) Select data'!AA277)","v":""},0,"",{"$f":"IF(AND($A301<=n_select,Validation!H$8,B301-C301*R_s<=V_ex1),B301-C301*R_s,0)","v":{"$error":"#VALUE!"}},{"$error":"#VALUE!"}]
[263,{"$f":"IF($A302>n_select,\"\",'1) Select data'!Z278)","v":""},{"$f":"IF($A302>n_select,\"\",'1) Select data'!AA278)","v":""},0,"",{"$f":"IF(AND($A302<=n_select,Validation!H$8,B302-C302*R_s<=V_ex1),B302-C302*R_s,0)","v":{"$error":"#VALUE!"}},{"$error":"#VALUE!"}]
[264,{"$f":"IF($A303>n_select,\"\",'1) Select data'!Z279)","v":""},{"$f":"IF($A303>n_select,\"\",'1) Select data'!AA279)","v":""},0,"",{"$f":"IF(AND($A303<=n_select,Validation!H$8,B303-C303*R_s<=V_ex1),B303-C303*R_s,0)","v":{"$error":"#VALUE!"}},{"$error":"#VALUE!"}]
[265,{"$f":"IF($A304>n_select,\"\",'1) Select data'!Z280)","v":""},{"$f":"IF($A304>n_select,\"\",'1) Select data'!AA280)","v":""},0,"",{"$f":"IF(AND($A304<=n_select,Validation!H$8,B304-C304*R_s<=V_ex1),B304-C304*R_s,0)","v":{"$error":"#VALUE!"}},{"$error":"#VALUE!"}]
[266,{"$f":"IF($A305>n_select,\"\",'1) Select data'!Z281)","v":""},{"$f":"IF($A305>n_select,\"\",'1) Select data'!AA281)","v":""},0,"",{"$f":"IF(AND($A305<=n_select,Validation!H$8,B305-C305*R_s<=V_ex1),B305-C305*R_s,0)","v":{"$error":"#VALUE!"}},{"$error":"#VALUE!"}]
[267,{"$f":"IF($A306>n_select,\"\",'1) Select data'!Z282)","v":""},{"$f":"IF($A306>n_select,\"\",'1) Select data'!AA282)","v":""},0,"",{"$f":"IF(AND($A306<=n_select,Validation!H$8,B306-C306*R_s<=V_ex1),B306-C306*R_s,0)","v":{"$error":"#VALUE!"}},{"$error":"#VALUE!"}]
[268,{"$f":"IF($A307>n_select,\"\",'1) Select data'!Z283)","v":""},{"$f":"IF($A307>n_select,\"\",'1) Select data'!AA283)","v":""},0,"",{"$f":"IF(AND($A307<=n_select,Validation!H$8,B307-C307*R_s<=V_ex1),B307-C307*R_s,0)","v":{"$error":"#VALUE!"}},{"$error":"#VALUE!"}]
[269,{"$f":"IF($A308>n_select,\"\",'1) Select data'!Z284)","v":""},{"$f":"IF($A308>n_select,\"\",'1) Select data'!AA284)","v":""},0,"",{"$f":"IF(AND($A308<=n_select,Validation!H$8,B308-C308*R_s<=V_ex1),B308-C308*R_s,0)","v":{"$error":"#VALUE!"}},{"$error":"#VALUE!"}]
[270,{"$f":"IF($A309>n_select,\"\",'1) Select data'!Z285)","v":""},{"$f":"IF($A309>n_select,\"\",'1) Select data'!AA285)","v":""},0,"",{"$f":"IF(AND($A309<=n_select,Validation!H$8,B309-C309*R_s<=V_ex1),B309-C309*R_s,0)","v":{"$error":"#VALUE!"}},{"$error":"#VALUE!"}]
[271,{"$f":"IF($A310>n_select,\"\",'1) Select data'!Z286)","v":""},{"$f":"IF($A310>n_select,\"\",'1) Select data'!AA286)","v":""},0,"",{"$f":"IF(AND($A310<=n_select,Validation!H$8,B310-C310*R_s<=V_ex1),B310-C310*R_s,0)","v":{"$error":"#VALUE!"}},{"$error":"#VALUE!"}]
[272,{"$f":"IF($A311>n_select,\"\",'1) Select data'!Z287)","v":""},{"$f":"IF($A311>n_select,\"\",'1) Select data'!AA287)","v":""},0,"",{"$f":"IF(AND($A311<=n_select,Validation!H$8,B311-C311*R_s<=V_ex1),B311-C311*R_s,0)","v":{"$error":"#VALUE!"}},{"$error":"#VALUE!"}]
[273,{"$f":"IF($A312>n_select,\"\",'1) Select data'!Z288)","v":""},{"$f":"IF($A312>n_select,\"\",'1) Select data'!AA288)","v":""},0,"",{"$f":"IF(AND($A312<=n_select,Validation!H$8,B312-C312*R_s<=V_ex1),B312-C312*R_s,0)","v":{"$error":"#VALUE!"}},{"$error":"#VALUE!"}]
[274,{"$f":"IF($A313>n_select,\"\",'1) Select data'!Z289)","v":""},{"$f":"IF($A313>n_select,\"\",'1) Select data'!AA289)","v":""},0,"",{"$f":"IF(AND($A313<=n_select,Validation!H$8,B313-C313*R_s<=V_ex1),B313-C313*R_s,0)","v":{"$error":"#VALUE!"}},{"$error":"#VALUE!"}]
[275,{"$f":"IF($A314>n_select,\"\",'1) Select data'!Z290)","v":""},{"$f":"IF($A314>n_select,\"\",'1) Select data'!AA290)","v":""},0,"",{"$f":"IF(AND($A314<=n_select,Validation!H$8,B314-C314*R_s<=V_ex1),B314-C314*R_s,0)","v":{"$error":"#VALUE!"}},{"$error":"#VALUE!"}]
[276,{"$f":"IF($A315>n_select,\"\",'1) Select data'!Z291)","v":""},{"$f":"IF($A315>n_select,\"\",'1) Select data'!AA291)","v":""},0,"",{"$f":"IF(AND($A315<=n_select,Validation!H$8,B315-C315*R_s<=V_ex1),B315-C315*R_s,0)","v":{"$error":"#VALUE!"}},{"$error":"#VALUE!"}]
[277,{"$f":"IF($A316>n_select,\"\",'1) Select data'!Z292)","v":""},{"$f":"IF($A316>n_select,\"\",'1) Select data'!AA292)","v":""},0,"",{"$f":"IF(AND($A316<=n_select,Validation!H$8,B316-C316*R_s<=V_ex1),B316-C316*R_s,0)","v":{"$error":"#VALUE!"}},{"$error":"#VALUE!"}]
[278,{"$f":"IF($A317>n_select,\"\",'1) Select data'!Z293)","v":""},{"$f":"IF($A317>n_select,\"\",'1) Select data'!AA293)","v":""},0,"",{"$f":"IF(AND($A317<=n_select,Validation!H$8,B317-C317*R_s<=V_ex1),B317-C317*R_s,0)","v":{"$error":"#VALUE!"}},{"$error":"#VALUE!"}]
[279,{"$f":"IF($A318>n_select,\"\",'1) Select data'!Z294)","v":""},{"$f":"IF($A318>n_select,\"\",'1) Select data'!AA294)","v":""},0,"",{"$f":"IF(AND($A318<=n_select,Validation!H$8,B318-C318*R_s<=V_ex1),B318-C318*R_s,0)","v":{"$error":"#VALUE!"}},{"$error":"#VALUE!"}]
[280,{"$f":"IF($A319>n_select,\"\",'1) Select data'!Z295)","v":""},{"$f":"IF($A319>n_select,\"\",'1) Select data'!AA295)","v":""},0,"",{"$f":"IF(AND($A319<=n_select,Validation!H$8,B319-C319*R_s<=V_ex1),B319-C319*R_s,0)","v":{"$error":"#VALUE!"}},{"$error":"#VALUE!"}]
[281,{"$f":"IF($A320>n_select,\"\",'1) Select data'!Z296)","v":""},{"$f":"IF($A320>n_select,\"\",'1) Select data'!AA296)","v":""},0,"",{"$f":"IF(AND($A320<=n_select,Validation!H$8,B320-C320*R_s<=V_ex1),B320-C320*R_s,0)","v":{"$error":"#VALUE!"}},{"$error":"#VALUE!"}]
[282,{"$f":"IF($A321>n_select,\"\",'1) Select data'!Z297)","v":""},{"$f":"IF($A321>n_select,\"\",'1) Select data'!AA297)","v":""},0,"",{"$f":"IF(AND($A321<=n_select,Validation!H$8,B321-C321*R_s<=V_ex1),B321-C321*R_s,0)","v":{"$error":"#VALUE!"}},{"$error":"#VALUE!"}]
[283,{"$f":"IF($A322>n_select,\"\",'1) Select data'!Z298)","v":""},{"$f":"IF($A322>n_select,\"\",'1) Select data'!AA298)","v":""},0,"",{"$f":"IF(AND($A322<=n_select,Validation!H$8,B322-C322*R_s<=V_ex1),B322-C322*R_s,0)","v":{"$error":"#VALUE!"}},{"$error":"#VALUE!"}]
[284,{"$f":"IF($A323>n_select,\"\",'1) Select data'!Z299)","v":""},{"$f":"IF($A323>n_select,\"\",'1) Select data'!AA299)","v":""},0,"",{"$f":"IF(AND($A323<=n_select,Validation!H$8,B323-C323*R_s<=V_ex1),B323-C323*R_s,0)","v":{"$error":"#VALUE!"}},{"$error":"#VALUE!"}]
[285,{"$f":"IF($A324>n_select,\"\",'1) Select data'!Z300)","v":""},{"$f":"IF($A324>n_select,\"\",'1) Select data'!AA300)","v":""},0,"",{"$f":"IF(AND($A324<=n_select,Validation!H$8,B324-C324*R_s<=V_ex1),B324-C324*R_s,0)","v":{"$error":"#VALUE!"}},{"$error":"#VALUE!"}]
[286,{"$f":"IF($A325>n_select,\"\",'1) Select data'!Z301)","v":""},{"$f":"IF($A325>n_select,\"\",'1) Select data'!AA301)","v":""},0,"",{"$f":"IF(AND($A325<=n_select,Validation!H$8,B325-C325*R_s<=V_ex1),B325-C325*R_s,0)","v":{"$error":"#VALUE!"}},{"$error":"#VALUE!"}]
[287,{"$f":"IF($A326>n_select,\"\",'1) Select data'!Z302)","v":""},{"$f":"IF($A326>n_select,\"\",'1) Select data'!AA302)","v":""},0,"",{"$f":"IF(AND($A326<=n_select,Validation!H$8,B326-C326*R_s<=V_ex1),B326-C326*R_s,0)","v":{"$error":"#VALUE!"}},{"$error":"#VALUE!"}]
[288,{"$f":"IF($A327>n_select,\"\",'1) Select data'!Z303)","v":""},{"$f":"IF($A327>n_select,\"\",'1) Select data'!AA303)","v":""},0,"",{"$f":"IF(AND($A327<=n_select,Validation!H$8,B327-C327*R_s<=V_ex1),B327-C327*R_s,0)","v":{"$error":"#VALUE!"}},{"$error":"#VALUE!"}]
[289,{"$f":"IF($A328>n_select,\"\",'1) Select data'!Z304)","v":""},{"$f":"IF($A328>n_select,\"\",'1) Select data'!AA304)","v":""},0,"",{"$f":"IF(AND($A328<=n_select,Validation!H$8,B328-C328*R_s<=V_ex1),B328-C328*R_s,0)","v":{"$error":"#VALUE!"}},{"$error":"#VALUE!"}]
[290,{"$f":"IF($A329>n_select,\"\",'1) Select data'!Z305)","v":""},{"$f":"IF($A329>n_select,\"\",'1) Select data'!AA305)","v":""},0,"",{"$f":"IF(AND($A329<=n_select,Validation!H$8,B329-C329*R_s<=V_ex1),B329-C329*R_s,0)","v":{"$error":"#VALUE!"}},{"$error":"#VALUE!"}]
[291,{"$f":"IF($A330>n_select,\"\",'1) Select data'!Z306)","v":""},{"$f":"IF($A330>n_select,\"\",'1) Select data'!AA306)","v":""},0,"",{"$f":"IF(AND($A330<=n_select,Validation!H$8,B330-C330*R_s<=V_ex1),B330-C330*R_s,0)","v":{"$error":"#VALUE!"}},{"$error":"#VALUE!"}]
[292,{"$f":"IF($A331>n_select,\"\",'1) Select data'!Z307)","v":""},{"$f":"IF($A331>n_select,\"\",'1) Select data'!AA307)","v":""},0,"",{"$f":"IF(AND($A331<=n_select,Validation!H$8,B331-C331*R_s<=V_ex1),B331-C331*R_s,0)","v":{"$error":"#VALUE!"}},{"$error":"#VALUE!"}]
[293,{"$f":"IF($A332>n_select,\"\",'1) Select data'!Z308)","v":""},{"$f":"IF($A332>n_select,\"\",'1) Select data'!AA308)","v":""},0,"",{"$f":"IF(AND($A332<=n_select,Validation!H$8,B332-C332*R_s<=V_ex1),B332-C332*R_s,0)","v":{"$error":"#VALUE!"}},{"$error":"#VALUE!"}]
[294,{"$f":"IF($A333>n_select,\"\",'1) Select data'!Z309)","v":""},{"$f":"IF($A333>n_select,\"\",'1) Select data'!AA309)","v":""},0,"",{"$f":"IF(AND($A333<=n_select,Validation!H$8,B333-C333*R_s<=V_ex1),B333-C333*R_s,0)","v":{"$error":"#VALUE!"}},{"$error":"#VALUE!"}]
[295,{"$f":"IF($A334>n_select,\"\",'1) Select data'!Z310)","v":""},{"$f":"IF($A334>n_select,\"\",'1) Select data'!AA310)","v":""},0,"",{"$f":"IF(AND($A334<=n_select,Validation!H$8,B334-C334*R_s<=V_ex1),B334-C334*R_s,0)","v":{"$error":"#VALUE!"}},{"$error":"#VALUE!"}]
[296,{"$f":"IF($A335>n_select,\"\",'1) Select data'!Z311)","v":""},{"$f":"IF($A335>n_select,\"\",'1) Select data'!AA311)","v":""},0,"",{"$f":"IF(AND($A335<=n_select,Validation!H$8,B335-C335*R_s<=V_ex1),B335-C335*R_s,0)","v":{"$error":"#VALUE!"}},{"$error":"#VALUE!"}]
[297,{"$f":"IF($A336>n_select,\"\",'1) Select data'!Z312)","v":""},{"$f":"IF($A336>n_select,\"\",'1) Select data'!AA312)","v":""},0,"",{"$f":"IF(AND($A336<=n_select,Validation!H$8,B336-C336*R_s<=V_ex1),B336-C336*R_s,0)","v":{"$error":"#VALUE!"}},{"$error":"#VALUE!"}]
[298,{"$f":"IF($A337>n_select,\"\",'1) Select data'!Z313)","v":""},{"$f":"IF($A337>n_select,\"\",'1) Select data'!AA313)","v":""},0,"",{"$f":"IF(AND($A337<=n_select,Validation!H$8,B337-C337*R_s<=V_ex1),B337-C337*R_s,0)","v":{"$error":"#VALUE!"}},{"$error":"#VALUE!"}]
[299,{"$f":"IF($A338>n_select,\"\",'1) Select data'!Z314)","v":""},{"$f":"IF($A338>n_select,\"\",'1) Select data'!AA314)","v":""},0,"",{"$f":"IF(AND($A338<=n_select,Validation!H$8,B338-C338*R_s<=V_ex1),B338-C338*R_s,0)","v":{"$error":"#VALUE!"}},{"$error":"#VALUE!"}]
[300,{"$f":"IF($A339>n_select,\"\",'1) Select data'!Z315)","v":""},{"$f":"IF($A339>n_select,\"\",'1) Select data'!AA315)","v":""},0,"",{"$f":"IF(AND($A339<=n_select,Validation!H$8,B339-C339*R_s<=V_ex1),B339-C339*R_s,0)","v":{"$error":"#VALUE!"}},{"$error":"#VALUE!"}]
[301,{"$f":"IF($A340>n_select,\"\",'1) Select data'!Z316)","v":""},{"$f":"IF($A340>n_select,\"\",'1) Select data'!AA316)","v":""},0,"",{"$f":"IF(AND($A340<=n_select,Validation!H$8,B340-C340*R_s<=V_ex1),B340-C340*R_s,0)","v":{"$error":"#VALUE!"}},{"$error":"#VALUE!"}]
[302,{"$f":"IF($A341>n_select,\"\",'1) Select data'!Z317)","v":""},{"$f":"IF($A341>n_select,\"\",'1) Select data'!AA317)","v":""},0,"",{"$f":"IF(AND($A341<=n_select,Validation!H$8,B341-C341*R_s<=V_ex1),B341-C341*R_s,0)","v":{"$error":"#VALUE!"}},{"$error":"#VALUE!"}]
[303,{"$f":"IF($A342>n_select,\"\",'1) Select data'!Z318)","v":""},{"$f":"IF($A342>n_select,\"\",'1) Select data'!AA318)","v":""},0,"",{"$f":"IF(AND($A342<=n_select,Validation!H$8,B342-C342*R_s<=V_ex1),B342-C342*R_s,0)","v":{"$error":"#VALUE!"}},{"$error":"#VALUE!"}]
[304,{"$f":"IF($A343>n_select,\"\",'1) Select data'!Z319)","v":""},{"$f":"IF($A343>n_select,\"\",'1) Select data'!AA319)","v":""},0,"",{"$f":"IF(AND($A343<=n_select,Validation!H$8,B343-C343*R_s<=V_ex1),B343-C343*R_s,0)","v":{"$error":"#VALUE!"}},{"$error":"#VALUE!"}]
[305,{"$f":"IF($A344>n_select,\"\",'1) Select data'!Z320)","v":""},{"$f":"IF($A344>n_select,\"\",'1) Select data'!AA320)","v":""},0,"",{"$f":"IF(AND($A344<=n_select,Validation!H$8,B344-C344*R_s<=V_ex1),B344-C344*R_s,0)","v":{"$error":"#VALUE!"}},{"$error":"#VALUE!"}]
[306,{"$f":"IF($A345>n_select,\"\",'1) Select data'!Z321)","v":""},{"$f":"IF($A345>n_select,\"\",'1) Select data'!AA321)","v":""},0,"",{"$f":"IF(AND($A345<=n_select,Validation!H$8,B345-C345*R_s<=V_ex1),B345-C345*R_s,0)","v":{"$error":"#VALUE!"}},{"$error":"#VALUE!"}]
[307,{"$f":"IF($A346>n_select,\"\",'1) Select data'!Z322)","v":""},{"$f":"IF($A346>n_select,\"\",'1) Select data'!AA322)","v":""},0,"",{"$f":"IF(AND($A346<=n_select,Validation!H$8,B346-C346*R_s<=V_ex1),B346-C346*R_s,0)","v":{"$error":"#VALUE!"}},{"$error":"#VALUE!"}]
[308,{"$f":"IF($A347>n_select,\"\",'1) Select data'!Z323)","v":""},{"$f":"IF($A347>n_select,\"\",'1) Select data'!AA323)","v":""},0,"",{"$f":"IF(AND($A347<=n_select,Validation!H$8,B347-C347*R_s<=V_ex1),B347-C347*R_s,0)","v":{"$error":"#VALUE!"}},{"$error":"#VALUE!"}]
[309,{"$f":"IF($A348>n_select,\"\",'1) Select data'!Z324)","v":""},{"$f":"IF($A348>n_select,\"\",'1) Select data'!AA324)","v":""},0,"",{"$f":"IF(AND($A348<=n_select,Validation!H$8,B348-C348*R_s<=V_ex1),B348-C348*R_s,0)","v":{"$error":"#VALUE!"}},{"$error":"#VALUE!"}]
[310,{"$f":"IF($A349>n_select,\"\",'1) Select data'!Z325)","v":""},{"$f":"IF($A349>n_select,\"\",'1) Select data'!AA325)","v":""},0,"",{"$f":"IF(AND($A349<=n_select,Validation!H$8,B349-C349*R_s<=V_ex1),B349-C349*R_s,0)","v":{"$error":"#VALUE!"}},{"$error":"#VALUE!"}]
[311,{"$f":"IF($A350>n_select,\"\",'1) Select data'!Z326)","v":""},{"$f":"IF($A350>n_select,\"\",'1) Select data'!AA326)","v":""},0,"",{"$f":"IF(AND($A350<=n_select,Validation!H$8,B350-C350*R_s<=V_ex1),B350-C350*R_s,0)","v":{"$error":"#VALUE!"}},{"$error":"#VALUE!"}]
[312,{"$f":"IF($A351>n_select,\"\",'1) Select data'!Z327)","v":""},{"$f":"IF($A351>n_select,\"\",'1) Select data'!AA327)","v":""},0,"",{"$f":"IF(AND($A351<=n_select,Validation!H$8,B351-C351*R_s<=V_ex1),B351-C351*R_s,0)","v":{"$error":"#VALUE!"}},{"$error":"#VALUE!"}]
[313,{"$f":"IF($A352>n_select,\"\",'1) Select data'!Z328)","v":""},{"$f":"IF($A352>n_select,\"\",'1) Select data'!AA328)","v":""},0,"",{"$f":"IF(AND($A352<=n_select,Validation!H$8,B352-C352*R_s<=V_ex1),B352-C352*R_s,0)","v":{"$error":"#VALUE!"}},{"$error":"#VALUE!"}]
[314,{"$f":"IF($A353>n_select,\"\",'1) Select data'!Z329)","v":""},{"$f":"IF($A353>n_select,\"\",'1) Select data'!AA329)","v":""},0,"",{"$f":"IF(AND($A353<=n_select,Validation!H$8,B353-C353*R_s<=V_ex1),B353-C353*R_s,0)","v":{"$error":"#VALUE!"}},{"$error":"#VALUE!"}]
[315,{"$f":"IF($A354>n_select,\"\",'1) Select data'!Z330)","v":""},{"$f":"IF($A354>n_select,\"\",'1) Select data'!AA330)","v":""},0,"",{"$f":"IF(AND($A354<=n_select,Validation!H$8,B354-C354*R_s<=V_ex1),B354-C354*R_s,0)","v":{"$error":"#VALUE!"}},{"$error":"#VALUE!"}]
[316,{"$f":"IF($A355>n_select,\"\",'1) Select data'!Z331)","v":""},{"$f":"IF($A355>n_select,\"\",'1) Select data'!AA331)","v":""},0,"",{"$f":"IF(AND($A355<=n_select,Validation!H$8,B355-C355*R_s<=V_ex1),B355-C355*R_s,0)","v":{"$error":"#VALUE!"}},{"$error":"#VALUE!"}]
[317,{"$f":"IF($A356>n_select,\"\",'1) Select data'!Z332)","v":""},{"$f":"IF($A356>n_select,\"\",'1) Select data'!AA332)","v":""},0,"",{"$f":"IF(AND($A356<=n_select,Validation!H$8,B356-C356*R_s<=V_ex1),B356-C356*R_s,0)","v":{"$error":"#VALUE!"}},{"$error":"#VALUE!"}]
[318,{"$f":"IF($A357>n_select,\"\",'1) Select data'!Z333)","v":""},{"$f":"IF($A357>n_select,\"\",'1) Select data'!AA333)","v":""},0,"",{"$f":"IF(AND($A357<=n_select,Validation!H$8,B357-C357*R_s<=V_ex1),B357-C357*R_s,0)","v":{"$error":"#VALUE!"}},{"$error":"#VALUE!"}]
[319,{"$f":"IF($A358>n_select,\"\",'1) Select data'!Z334)","v":""},{"$f":"IF($A358>n_select,\"\",'1) Select data'!AA334)","v":""},0,"",{"$f":"IF(AND($A358<=n_select,Validation!H$8,B358-C358*R_s<=V_ex1),B358-C358*R_s,0)","v":{"$error":"#VALUE!"}},{"$error":"#VALUE!"}]
[320,{"$f":"IF($A359>n_select,\"\",'1) Select data'!Z335)","v":""},{"$f":"IF($A359>n_select,\"\",'1) Select data'!AA335)","v":""},0,"",{"$f":"IF(AND($A359<=n_select,Validation!H$8,B359-C359*R_s<=V_ex1),B359-C359*R_s,0)","v":{"$error":"#VALUE!"}},{"$error":"#VALUE!"}]
[321,{"$f":"IF($A360>n_select,\"\",'1) Select data'!Z336)","v":""},{"$f":"IF($A360>n_select,\"\",'1) Select data'!AA336)","v":""},{"$f":"IF($A360>n_select,0,B360-C360*R_s)","v":0},{"$f":"IF($A360>n_select,\"\",C360)","v":""},{"$f":"IF(AND($A360<=n_select,Validation!H$8,B360-C360*R_s<=V_ex1),B360-C360*R_s,0)","v":{"$error":"#VALUE!"}},{"$f":"IF(F360<>0,E360,\"\")","v":{"$error":"#VALUE!"}}]
[322,{"$f":"IF($A361>n_select,\"\",'1) Select data'!Z337)","v":""},{"$f":"IF($A361>n_select,\"\",'1) Select data'!AA337)","v":""},0,"",{"$f":"IF(AND($A361<=n_select,Validation!H$8,B361-C361*R_s<=V_ex1),B361-C361*R_s,0)","v":{"$error":"#VALUE!"}},{"$error":"#VALUE!"}]
[323,{"$f":"IF($A362>n_select,\"\",'1) Select data'!Z338)","v":""},{"$f":"IF($A362>n_select,\"\",'1) Select data'!AA338)","v":""},0,"",{"$f":"IF(AND($A362<=n_select,Validation!H$8,B362-C362*R_s<=V_ex1),B362-C362*R_s,0)","v":{"$error":"#VALUE!"}},{"$error":"#VALUE!"}]
[324,{"$f":"IF($A363>n_select,\"\",'1) Select data'!Z339)","v":""},{"$f":"IF($A363>n_select,\"\",'1) Select data'!AA339)","v":""},0,"",{"$f":"IF(AND($A363<=n_select,Validation!H$8,B363-C363*R_s<=V_ex1),B363-C363*R_s,0)","v":{"$error":"#VALUE!"}},{"$error":"#VALUE!"}]
[325,{"$f":"IF($A364>n_select,\"\",'1) Select data'!Z340)","v":""},{"$f":"IF($A364>n_select,\"\",'1) Select data'!AA340)","v":""},0,"",{"$f":"IF(AND($A364<=n_select,Validation!H$8,B364-C364*R_s<=V_ex1),B364-C364*R_s,0)","v":{"$error":"#VALUE!"}},{"$error":"#VALUE!"}]
[326,{"$f":"IF($A365>n_select,\"\",'1) Select data'!Z341)","v":""},{"$f":"IF($A365>n_select,\"\",'1) Select data'!AA341)","v":""},0,"",{"$f":"IF(AND($A365<=n_select,Validation!H$8,B365-C365*R_s<=V_ex1),B365-C365*R_s,0)","v":{"$error":"#VALUE!"}},{"$error":"#VALUE!"}]
[327,{"$f":"IF($A366>n_select,\"\",'1) Select data'!Z342)","v":""},{"$f":"IF($A366>n_select,\"\",'1) Select data'!AA342)","v":""},0,"",{"$f":"IF(AND($A366<=n_select,Validation!H$8,B366-C366*R_s<=V_ex1),B366-C366*R_s,0)","v":{"$error":"#VALUE!"}},{"$error":"#VALUE!"}]
[328,{"$f":"IF($A367>n_select,\"\",'1) Select data'!Z343)","v":""},{"$f":"IF($A367>n_select,\"\",'1) Select data'!AA343)","v":""},0,"",{"$f":"IF(AND($A367<=n_select,Validation!H$8,B367-C367*R_s<=V_ex1),B367-C367*R_s,0)","v":{"$error":"#VALUE!"}},{"$error":"#VALUE!"}]
[329,{"$f":"IF($A368>n_select,\"\",'1) Select data'!Z344)","v":""},{"$f":"IF($A368>n_select,\"\",'1) Select data'!AA344)","v":""},0,"",{"$f":"IF(AND($A368<=n_select,Validation!H$8,B368-C368*R_s<=V_ex1),B368-C368*R_s,0)","v":{"$error":"#VALUE!"}},{"$error":"#VALUE!"}]
[330,{"$f":"IF($A369>n_select,\"\",'1) Select data'!Z345)","v":""},{"$f":"IF($A369>n_select,\"\",'1) Select data'!AA345)","v":""},0,"",{"$f":"IF(AND($A369<=n_select,Validation!H$8,B369-C369*R_s<=V_ex1),B369-C369*R_s,0)","v":{"$error":"#VALUE!"}},{"$error":"#VALUE!"}]
[331,{"$f":"IF($A370>n_select,\"\",'1) Select data'!Z346)","v":""},{"$f":"IF($A370>n_select,\"\",'1) Select data'!AA346)","v":""},0,"",{"$f":"IF(AND($A370<=n_select,Validation!H$8,B370-C370*R_s<=V_ex1),B370-C370*R_s,0)","v":{"$error":"#VALUE!"}},{"$error":"#VALUE!"}]
[332,{"$f":"IF($A371>n_select,\"\",'1) Select data'!Z347)","v":""},{"$f":"IF($A371>n_select,\"\",'1) Select data'!AA347)","v":""},0,"",{"$f":"IF(AND($A371<=n_select,Validation!H$8,B371-C371*R_s<=V_ex1),B371-C371*R_s,0)","v":{"$error":"#VALUE!"}},{"$error":"#VALUE!"}]
[333,{"$f":"IF($A372>n_select,\"\",'1) Select data'!Z348)","v":""},{"$f":"IF($A372>n_select,\"\",'1) Select data'!AA348)","v":""},0,"",{"$f":"IF(AND($A372<=n_select,Validation!H$8,B372-C372*R_s<=V_ex1),B372-C372*R_s,0)","v":{"$error":"#VALUE!"}},{"$error":"#VALUE!"}]
[334,{"$f":"IF($A373>n_select,\"\",'1) Select data'!Z349)","v":""},{"$f":"IF($A373>n_select,\"\",'1) Select data'!AA349)","v":""},0,"",{"$f":"IF(AND($A373<=n_select,Validation!H$8,B373-C373*R_s<=V_ex1),B373-C373*R_s,0)","v":{"$error":"#VALUE!"}},{"$error":"#VALUE!"}]
[335,{"$f":"IF($A374>n_select,\"\",'1) Select data'!Z350)","v":""},{"$f":"IF($A374>n_select,\"\",'1) Select data'!AA350)","v":""},0,"",{"$f":"IF(AND($A374<=n_select,Validation!H$8,B374-C374*R_s<=V_ex1),B374-C374*R_s,0)","v":{"$error":"#VALUE!"}},{"$error":"#VALUE!"}]
[336,{"$f":"IF($A375>n_select,\"\",'1) Select data'!Z351)","v":""},{"$f":"IF($A375>n_select,\"\",'1) Select data'!AA351)","v":""},0,"",{"$f":"IF(AND($A375<=n_select,Validation!H$8,B375-C375*R_s<=V_ex1),B375-C375*R_s,0)","v":{"$error":"#VALUE!"}},{"$error":"#VALUE!"}]
[337,{"$f":"IF($A376>n_select,\"\",'1) Select data'!Z352)","v":""},{"$f":"IF($A376>n_select,\"\",'1) Select data'!AA352)","v":""},0,"",{"$f":"IF(AND($A376<=n_select,Validation!H$8,B376-C376*R_s<=V_ex1),B376-C376*R_s,0)","v":{"$error":"#VALUE!"}},{"$error":"#VALUE!"}]
[338,{"$f":"IF($A377>n_select,\"\",'1) Select data'!Z353)","v":""},{"$f":"IF($A377>n_select,\"\",'1) Select data'!AA353)","v":""},0,"",{"$f":"IF(AND($A377<=n_select,Validation!H$8,B377-C377*R_s<=V_ex1),B377-C377*R_s,0)","v":{"$error":"#VALUE!"}},{"$error":"#VALUE!"}]
[339,{"$f":"IF($A378>n_select,\"\",'1) Select data'!Z354)","v":""},{"$f":"IF($A378>n_select,\"\",'1) Select data'!AA354)","v":""},0,"",{"$f":"IF(AND($A378<=n_select,Validation!H$8,B378-C378*R_s<=V_ex1),B378-C378*R_s,0)","v":{"$error":"#VALUE!"}},{"$error":"#VALUE!"}]
[340,{"$f":"IF($A379>n_select,\"\",'1) Select data'!Z355)","v":""},{"$f":"IF($A379>n_select,\"\",'1) Select data'!AA355)","v":""},0,"",{"$f":"IF(AND($A379<=n_select,Validation!H$8,B379-C379*R_s<=V_ex1),B379-C379*R_s,0)","v":{"$error":"#VALUE!"}},{"$error":"#VALUE!"}]
[341,{"$f":"IF($A380>n_select,\"\",'1) Select data'!Z356)","v":""},{"$f":"IF($A380>n_select,\"\",'1) Select data'!AA356)","v":""},0,"",{"$f":"IF(AND($A380<=n_select,Validation!H$8,B380-C380*R_s<=V_ex1),B380-C380*R_s,0)","v":{"$error":"#VALUE!"}},{"$error":"#VALUE!"}]
[342,{"$f":"IF($A381>n_select,\"\",'1) Select data'!Z357)","v":""},{"$f":"IF($A381>n_select,\"\",'1) Select data'!AA357)","v":""},0,"",{"$f":"IF(AND($A381<=n_select,Validation!H$8,B381-C381*R_s<=V_ex1),B381-C381*R_s,0)","v":{"$error":"#VALUE!"}},{"$error":"#VALUE!"}]
[343,{"$f":"IF($A382>n_select,\"\",'1) Select data'!Z358)","v":""},{"$f":"IF($A382>n_select,\"\",'1) Select data'!AA358)","v":""},0,"",{"$f":"IF(AND($A382<=n_select,Validation!H$8,B382-C382*R_s<=V_ex1),B382-C382*R_s,0)","v":{"$error":"#VALUE!"}},{"$error":"#VALUE!"}]
[344,{"$f":"IF($A383>n_select,\"\",'1) Select data'!Z359)","v":""},{"$f":"IF($A383>n_select,\"\",'1) Select data'!AA359)","v":""},0,"",{"$f":"IF(AND($A383<=n_select,Validation!H$8,B383-C383*R_s<=V_ex1),B383-C383*R_s,0)","v":{"$error":"#VALUE!"}},{"$error":"#VALUE!"}]
[345,{"$f":"IF($A384>n_select,\"\",'1) Select data'!Z360)","v":""},{"$f":"IF($A384>n_select,\"\",'1) Select data'!AA360)","v":""},0,"",{"$f":"IF(AND($A384<=n_select,Validation!H$8,B384-C384*R_s<=V_ex1),B384-C384*R_s,0)","v":{"$error":"#VALUE!"}},{"$error":"#VALUE!"}]
[346,{"$f":"IF($A385>n_select,\"\",'1) Select data'!Z361)","v":""},{"$f":"IF($A385>n_select,\"\",'1) Select data'!AA361)","v":""},0,"",{"$f":"IF(AND($A385<=n_select,Validation!H$8,B385-C385*R_s<=V_ex1),B385-C385*R_s,0)","v":{"$error":"#VALUE!"}},{"$error":"#VALUE!"}]
[347,{"$f":"IF($A386>n_select,\"\",'1) Select data'!Z362)","v":""},{"$f":"IF($A386>n_select,\"\",'1) Select data'!AA362)","v":""},0,"",{"$f":"IF(AND($A386<=n_select,Validation!H$8,B386-C386*R_s<=V_ex1),B386-C386*R_s,0)","v":{"$error":"#VALUE!"}},{"$error":"#VALUE!"}]
[348,{"$f":"IF($A387>n_select,\"\",'1) Select data'!Z363)","v":""},{"$f":"IF($A387>n_select,\"\",'1) Select data'!AA363)","v":""},0,"",{"$f":"IF(AND($A387<=n_select,Validation!H$8,B387-C387*R_s<=V_ex1),B387-C387*R_s,0)","v":{"$error":"#VALUE!"}},{"$error":"#VALUE!"}]
[349,{"$f":"IF($A388>n_select,\"\",'1) Select data'!Z364)","v":""},{"$f":"IF($A388>n_select,\"\",'1) Select data'!AA364)","v":""},0,"",{"$f":"IF(AND($A388<=n_select,Validation!H$8,B388-C388*R_s<=V_ex1),B388-C388*R_s,0)","v":{"$error":"#VALUE!"}},{"$error":"#VALUE!"}]
[350,{"$f":"IF($A389>n_select,\"\",'1) Select data'!Z365)","v":""},{"$f":"IF($A389>n_select,\"\",'1) Select data'!AA365)","v":""},0,"",{"$f":"IF(AND($A389<=n_select,Validation!H$8,B389-C389*R_s<=V_ex1),B389-C389*R_s,0)","v":{"$error":"#VALUE!"}},{"$error":"#VALUE!"}]
[351,{"$f":"IF($A390>n_select,\"\",'1) Select data'!Z366)","v":""},{"$f":"IF($A390>n_select,\"\",'1) Select data'!AA366)","v":""},0,"",{"$f":"IF(AND($A390<=n_select,Validation!H$8,B390-C390*R_s<=V_ex1),B390-C390*R_s,0)","v":{"$error":"#VALUE!"}},{"$error":"#VALUE!"}]
[352,{"$f":"IF($A391>n_select,\"\",'1) Select data'!Z367)","v":""},{"$f":"IF($A391>n_select,\"\",'1) Select data'!AA367)","v":""},0,"",{"$f":"IF(AND($A391<=n_select,Validation!H$8,B391-C391*R_s<=V_ex1),B391-C391*R_s,0)","v":{"$error":"#VALUE!"}},{"$error":"#VALUE!"}]
[353,{"$f":"IF($A392>n_select,\"\",'1) Select data'!Z368)","v":""},{"$f":"IF($A392>n_select,\"\",'1) Select data'!AA368)","v":""},0,"",{"$f":"IF(AND($A392<=n_select,Validation!H$8,B392-C392*R_s<=V_ex1),B392-C392*R_s,0)","v":{"$error":"#VALUE!"}},{"$error":"#VALUE!"}]
[354,{"$f":"IF($A393>n_select,\"\",'1) Select data'!Z369)","v":""},{"$f":"IF($A393>n_select,\"\",'1) Select data'!AA369)","v":""},0,"",{"$f":"IF(AND($A393<=n_select,Validation!H$8,B393-C393*R_s<=V_ex1),B393-C393*R_s,0)","v":{"$error":"#VALUE!"}},{"$error":"#VALUE!"}]
[355,{"$f":"IF($A394>n_select,\"\",'1) Select data'!Z370)","v":""},{"$f":"IF($A394>n_select,\"\",'1) Select data'!AA370)","v":""},0,"",{"$f":"IF(AND($A394<=n_select,Validation!H$8,B394-C394*R_s<=V_ex1),B394-C394*R_s,0)","v":{"$error":"#VALUE!"}},{"$error":"#VALUE!"}]
[356,{"$f":"IF($A395>n_select,\"\",'1) Select data'!Z371)","v":""},{"$f":"IF($A395>n_select,\"\",'1) Select data'!AA371)","v":""},0,"",{"$f":"IF(AND($A395<=n_select,Validation!H$8,B395-C395*R_s<=V_ex1),B395-C395*R_s,0)","v":{"$error":"#VALUE!"}},{"$error":"#VALUE!"}]
[357,{"$f":"IF($A396>n_select,\"\",'1) Select data'!Z372)","v":""},{"$f":"IF($A396>n_select,\"\",'1) Select data'!AA372)","v":""},0,"",{"$f":"IF(AND($A396<=n_select,Validation!H$8,B396-C396*R_s<=V_ex1),B396-C396*R_s,0)","v":{"$error":"#VALUE!"}},{"$error":"#VALUE!"}]
[358,{"$f":"IF($A397>n_select,\"\",'1) Select data'!Z373)","v":""},{"$f":"IF($A397>n_select,\"\",'1) Select data'!AA373)","v":""},0,"",{"$f":"IF(AND($A397<=n_select,Validation!H$8,B397-C397*R_s<=V_ex1),B397-C397*R_s,0)","v":{"$error":"#VALUE!"}},{"$error":"#VALUE!"}]
[359,{"$f":"IF($A398>n_select,\"\",'1) Select data'!Z374)","v":""},{"$f":"IF($A398>n_select,\"\",'1) Select data'!AA374)","v":""},0,"",{"$f":"IF(AND($A398<=n_select,Validation!H$8,B398-C398*R_s<=V_ex1),B398-C398*R_s,0)","v":{"$error":"#VALUE!"}},{"$error":"#VALUE!"}]
[360,{"$f":"IF($A399>n_select,\"\",'1) Select data'!Z375)","v":""},{"$f":"IF($A399>n_select,\"\",'1) Select data'!AA375)","v":""},0,"",{"$f":"IF(AND($A399<=n_select,Validation!H$8,B399-C399*R_s<=V_ex1),B399-C399*R_s,0)","v":{"$error":"#VALUE!"}},{"$error":"#VALUE!"}]
[361,{"$f":"IF($A400>n_select,\"\",'1) Select data'!Z376)","v":""},{"$f":"IF($A400>n_select,\"\",'1) Select data'!AA376)","v":""},0,"",{"$f":"IF(AND($A400<=n_select,Validation!H$8,B400-C400*R_s<=V_ex1),B400-C400*R_s,0)","v":{"$error":"#VALUE!"}},{"$error":"#VALUE!"}]
[362,{"$f":"IF($A401>n_select,\"\",'1) Select data'!Z377)","v":""},{"$f":"IF($A401>n_select,\"\",'1) Select data'!AA377)","v":""},0,"",{"$f":"IF(AND($A401<=n_select,Validation!H$8,B401-C401*R_s<=V_ex1),B401-C401*R_s,0)","v":{"$error":"#VALUE!"}},{"$error":"#VALUE!"}]
[363,{"$f":"IF($A402>n_select,\"\",'1) Select data'!Z378)","v":""},{"$f":"IF($A402>n_select,\"\",'1) Select data'!AA378)","v":""},0,"",{"$f":"IF(AND($A402<=n_select,Validation!H$8,B402-C402*R_s<=V_ex1),B402-C402*R_s,0)","v":{"$error":"#VALUE!"}},{"$error":"#VALUE!"}]
[364,{"$f":"IF($A403>n_select,\"\",'1) Select data'!Z379)","v":""},{"$f":"IF($A403>n_select,\"\",'1) Select data'!AA379)","v":""},0,"",{"$f":"IF(AND($A403<=n_select,Validation!H$8,B403-C403*R_s<=V_ex1),B403-C403*R_s,0)","v":{"$error":"#VALUE!"}},{"$error":"#VALUE!"}]
[365,{"$f":"IF($A404>n_select,\"\",'1) Select data'!Z380)","v":""},{"$f":"IF($A404>n_select,\"\",'1) Select data'!AA380)","v":""},0,"",{"$f":"IF(AND($A404<=n_select,Validation!H$8,B404-C404*R_s<=V_ex1),B404-C404*R_s,0)","v":{"$error":"#VALUE!"}},{"$error":"#VALUE!"}]
[366,{"$f":"IF($A405>n_select,\"\",'1) Select data'!Z381)","v":""},{"$f":"IF($A405>n_select,\"\",'1) Select data'!AA381)","v":""},0,"",{"$f":"IF(AND($A405<=n_select,Validation!H$8,B405-C405*R_s<=V_ex1),B405-C405*R_s,0)","v":{"$error":"#VALUE!"}},{"$error":"#VALUE!"}]
[367,{"$f":"IF($A406>n_select,\"\",'1) Select data'!Z382)","v":""},{"$f":"IF($A406>n_select,\"\",'1) Select data'!AA382)","v":""},0,"",{"$f":"IF(AND($A406<=n_select,Validation!H$8,B406-C406*R_s<=V_ex1),B406-C406*R_s,0)","v":{"$error":"#VALUE!"}},{"$error":"#VALUE!"}]
[368,{"$f":"IF($A407>n_select,\"\",'1) Select data'!Z383)","v":""},{"$f":"IF($A407>n_select,\"\",'1) Select data'!AA383)","v":""},0,"",{"$f":"IF(AND($A407<=n_select,Validation!H$8,B407-C407*R_s<=V_ex1),B407-C407*R_s,0)","v":{"$error":"#VALUE!"}},{"$error":"#VALUE!"}]
[369,{"$f":"IF($A408>n_select,\"\",'1) Select data'!Z384)","v":""},{"$f":"IF($A408>n_select,\"\",'1) Select data'!AA384)","v":""},0,"",{"$f":"IF(AND($A408<=n_select,Validation!H$8,B408-C408*R_s<=V_ex1),B408-C408*R_s,0)","v":{"$error":"#VALUE!"}},{"$error":"#VALUE!"}]
[370,{"$f":"IF($A409>n_select,\"\",'1) Select data'!Z385)","v":""},{"$f":"IF($A409>n_select,\"\",'1) Select data'!AA385)","v":""},0,"",{"$f":"IF(AND($A409<=n_select,Validation!H$8,B409-C409*R_s<=V_ex1),B409-C409*R_s,0)","v":{"$error":"#VALUE!"}},{"$error":"#VALUE!"}]
[371,{"$f":"IF($A410>n_select,\"\",'1) Select data'!Z386)","v":""},{"$f":"IF($A410>n_select,\"\",'1) Select data'!AA386)","v":""},0,"",{"$f":"IF(AND($A410<=n_select,Validation!H$8,B410-C410*R_s<=V_ex1),B410-C410*R_s,0)","v":{"$error":"#VALUE!"}},{"$error":"#VALUE!"}]
[372,{"$f":"IF($A411>n_select,\"\",'1) Select data'!Z387)","v":""},{"$f":"IF($A411>n_select,\"\",'1) Select data'!AA387)","v":""},0,"",{"$f":"IF(AND($A411<=n_select,Validation!H$8,B411-C411*R_s<=V_ex1),B411-C411*R_s,0)","v":{"$error":"#VALUE!"}},{"$error":"#VALUE!"}]
[373,{"$f":"IF($A412>n_select,\"\",'1) Select data'!Z388)","v":""},{"$f":"IF($A412>n_select,\"\",'1) Select data'!AA388)","v":""},0,"",{"$f":"IF(AND($A412<=n_select,Validation!H$8,B412-C412*R_s<=V_ex1),B412-C412*R_s,0)","v":{"$error":"#VALUE!"}},{"$error":"#VALUE!"}]
[374,{"$f":"IF($A413>n_select,\"\",'1) Select data'!Z389)","v":""},{"$f":"IF($A413>n_select,\"\",'1) Select data'!AA389)","v":""},0,"",{"$f":"IF(AND($A413<=n_select,Validation!H$8,B413-C413*R_s<=V_ex1),B413-C413*R_s,0)","v":{"$error":"#VALUE!"}},{"$error":"#VALUE!"}]
[375,{"$f":"IF($A414>n_select,\"\",'1) Select data'!Z390)","v":""},{"$f":"IF($A414>n_select,\"\",'1) Select data'!AA390)","v":""},0,"",{"$f":"IF(AND($A414<=n_select,Validation!H$8,B414-C414*R_s<=V_ex1),B414-C414*R_s,0)","v":{"$error":"#VALUE!"}},{"$error":"#VALUE!"}]
[376,{"$f":"IF($A415>n_select,\"\",'1) Select data'!Z391)","v":""},{"$f":"IF($A415>n_select,\"\",'1) Select data'!AA391)","v":""},0,"",{"$f":"IF(AND($A415<=n_select,Validation!H$8,B415-C415*R_s<=V_ex1),B415-C415*R_s,0)","v":{"$error":"#VALUE!"}},{"$error":"#VALUE!"}]
[377,{"$f":"IF($A416>n_select,\"\",'1) Select data'!Z392)","v":""},{"$f":"IF($A416>n_select,\"\",'1) Select data'!AA392)","v":""},0,"",{"$f":"IF(AND($A416<=n_select,Validation!H$8,B416-C416*R_s<=V_ex1),B416-C416*R_s,0)","v":{"$error":"#VALUE!"}},{"$error":"#VALUE!"}]
[378,{"$f":"IF($A417>n_select,\"\",'1) Select data'!Z393)","v":""},{"$f":"IF($A417>n_select,\"\",'1) Select data'!AA393)","v":""},0,"",{"$f":"IF(AND($A417<=n_select,Validation!H$8,B417-C417*R_s<=V_ex1),B417-C417*R_s,0)","v":{"$error":"#VALUE!"}},{"$error":"#VALUE!"}]
[379,{"$f":"IF($A418>n_select,\"\",'1) Select data'!Z394)","v":""},{"$f":"IF($A418>n_select,\"\",'1) Select data'!AA394)","v":""},0,"",{"$f":"IF(AND($A418<=n_select,Validation!H$8,B418-C418*R_s<=V_ex1),B418-C418*R_s,0)","v":{"$error":"#VALUE!"}},{"$error":"#VALUE!"}]
[380,{"$f":"IF($A419>n_select,\"\",'1) Select data'!Z395)","v":""},{"$f":"IF($A419>n_select,\"\",'1) Select data'!AA395)","v":""},0,"",{"$f":"IF(AND($A419<=n_select,Validation!H$8,B419-C419*R_s<=V_ex1),B419-C419*R_s,0)","v":{"$error":"#VALUE!"}},{"$error":"#VALUE!"}]
[381,{"$f":"IF($A420>n_select,\"\",'1) Select data'!Z396)","v":""},{"$f":"IF($A420>n_select,\"\",'1) Select data'!AA396)","v":""},0,"",{"$f":"IF(AND($A420<=n_select,Validation!H$8,B420-C420*R_s<=V_ex1),B420-C420*R_s,0)","v":{"$error":"#VALUE!"}},{"$error":"#VALUE!"}]
[382,{"$f":"IF($A421>n_select,\"\",'1) Select data'!Z397)","v":""},{"$f":"IF($A421>n_select,\"\",'1) Select data'!AA397)","v":""},0,"",{"$f":"IF(AND($A421<=n_select,Validation!H$8,B421-C421*R_s<=V_ex1),B421-C421*R_s,0)","v":{"$error":"#VALUE!"}},{"$error":"#VALUE!"}]
[383,{"$f":"IF($A422>n_select,\"\",'1) Select data'!Z398)","v":""},{"$f":"IF($A422>n_select,\"\",'1) Select data'!AA398)","v":""},0,"",{"$f":"IF(AND($A422<=n_select,Validation!H$8,B422-C422*R_s<=V_ex1),B422-C422*R_s,0)","v":{"$error":"#VALUE!"}},{"$error":"#VALUE!"}]
[384,{"$f":"IF($A423>n_select,\"\",'1) Select data'!Z399)","v":""},{"$f":"IF($A423>n_select,\"\",'1) Select data'!AA399)","v":""},0,"",{"$f":"IF(AND($A423<=n_select,Validation!H$8,B423-C423*R_s<=V_ex1),B423-C423*R_s,0)","v":{"$error":"#VALUE!"}},{"$error":"#VALUE!"}]
[385,{"$f":"IF($A424>n_select,\"\",'1) Select data'!Z400)","v":""},{"$f":"IF($A424>n_select,\"\",'1) Select data'!AA400)","v":""},{"$f":"IF($A424>n_select,0,B424-C424*R_s)","v":0},{"$f":"IF($A424>n_select,\"\",C424)","v":""},{"$f":"IF(AND($A424<=n_select,Validation!H$8,B424-C424*R_s<=V_ex1),B424-C424*R_s,0)","v":{"$error":"#VALUE!"}},{"$f":"IF(F424<>0,E424,\"\")","v":{"$error":"#VALUE!"}}]
[386,{"$f":"IF($A425>n_select,\"\",'1) Select data'!Z401)","v":""},{"$f":"IF($A425>n_select,\"\",'1) Select data'!AA401)","v":""},0,"",{"$f":"IF(AND($A425<=n_select,Validation!H$8,B425-C425*R_s<=V_ex1),B425-C425*R_s,0)","v":{"$error":"#VALUE!"}},{"$error":"#VALUE!"}]
[387,{"$f":"IF($A426>n_select,\"\",'1) Select data'!Z402)","v":""},{"$f":"IF($A426>n_select,\"\",'1) Select data'!AA402)","v":""},0,"",{"$f":"IF(AND($A426<=n_select,Validation!H$8,B426-C426*R_s<=V_ex1),B426-C426*R_s,0)","v":{"$error":"#VALUE!"}},{"$error":"#VALUE!"}]
[388,{"$f":"IF($A427>n_select,\"\",'1) Select data'!Z403)","v":""},{"$f":"IF($A427>n_select,\"\",'1) Select data'!AA403)","v":""},0,"",{"$f":"IF(AND($A427<=n_select,Validation!H$8,B427-C427*R_s<=V_ex1),B427-C427*R_s,0)","v":{"$error":"#VALUE!"}},{"$error":"#VALUE!"}]
[389,{"$f":"IF($A428>n_select,\"\",'1) Select data'!Z404)","v":""},{"$f":"IF($A428>n_select,\"\",'1) Select data'!AA404)","v":""},0,"",{"$f":"IF(AND($A428<=n_select,Validation!H$8,B428-C428*R_s<=V_ex1),B428-C428*R_s,0)","v":{"$error":"#VALUE!"}},{"$error":"#VALUE!"}]
[390,{"$f":"IF($A429>n_select,\"\",'1) Select data'!Z405)","v":""},{"$f":"IF($A429>n_select,\"\",'1) Select data'!AA405)","v":""},0,"",{"$f":"IF(AND($A429<=n_select,Validation!H$8,B429-C429*R_s<=V_ex1),B429-C429*R_s,0)","v":{"$error":"#VALUE!"}},{"$error":"#VALUE!"}]
[391,{"$f":"IF($A430>n_select,\"\",'1) Select data'!Z406)","v":""},{"$f":"IF($A430>n_select,\"\",'1) Select data'!AA406)","v":""},0,"",{"$f":"IF(AND($A430<=n_select,Validation!H$8,B430-C430*R_s<=V_ex1),B430-C430*R_s,0)","v":{"$error":"#VALUE!"}},{"$error":"#VALUE!"}]
[392,{"$f":"IF($A431>n_select,\"\",'1) Select data'!Z407)","v":""},{"$f":"IF($A431>n_select,\"\",'1) Select data'!AA407)","v":""},0,"",{"$f":"IF(AND($A431<=n_select,Validation!H$8,B431-C431*R_s<=V_ex1),B431-C431*R_s,0)","v":{"$error":"#VALUE!"}},{"$error":"#VALUE!"}]
[393,{"$f":"IF($A432>n_select,\"\",'1) Select data'!Z408)","v":""},{"$f":"IF($A432>n_select,\"\",'1) Select data'!AA408)","v":""},0,"",{"$f":"IF(AND($A432<=n_select,Validation!H$8,B432-C432*R_s<=V_ex1),B432-C432*R_s,0)","v":{"$error":"#VALUE!"}},{"$error":"#VALUE!"}]
[394,{"$f":"IF($A433>n_select,\"\",'1) Select data'!Z409)","v":""},{"$f":"IF($A433>n_select,\"\",'1) Select data'!AA409)","v":""},0,"",{"$f":"IF(AND($A433<=n_select,Validation!H$8,B433-C433*R_s<=V_ex1),B433-C433*R_s,0)","v":{"$error":"#VALUE!"}},{"$error":"#VALUE!"}]
[395,{"$f":"IF($A434>n_select,\"\",'1) Select data'!Z410)","v":""},{"$f":"IF($A434>n_select,\"\",'1) Select data'!AA410)","v":""},0,"",{"$f":"IF(AND($A434<=n_select,Validation!H$8,B434-C434*R_s<=V_ex1),B434-C434*R_s,0)","v":{"$error":"#VALUE!"}},{"$error":"#VALUE!"}]
[396,{"$f":"IF($A435>n_select,\"\",'1) Select data'!Z411)","v":""},{"$f":"IF($A435>n_select,\"\",'1) Select data'!AA411)","v":""},0,"",{"$f":"IF(AND($A435<=n_select,Validation!H$8,B435-C435*R_s<=V_ex1),B435-C435*R_s,0)","v":{"$error":"#VALUE!"}},{"$error":"#VALUE!"}]
[397,{"$f":"IF($A436>n_select,\"\",'1) Select data'!Z412)","v":""},{"$f":"IF($A436>n_select,\"\",'1) Select data'!AA412)","v":""},0,"",{"$f":"IF(AND($A436<=n_select,Validation!H$8,B436-C436*R_s<=V_ex1),B436-C436*R_s,0)","v":{"$error":"#VALUE!"}},{"$error":"#VALUE!"}]
[398,{"$f":"IF($A437>n_select,\"\",'1) Select data'!Z413)","v":""},{"$f":"IF($A437>n_select,\"\",'1) Select data'!AA413)","v":""},0,"",{"$f":"IF(AND($A437<=n_select,Validation!H$8,B437-C437*R_s<=V_ex1),B437-C437*R_s,0)","v":{"$error":"#VALUE!"}},{"$error":"#VALUE!"}]
[399,{"$f":"IF($A438>n_select,\"\",'1) Select data'!Z414)","v":""},{"$f":"IF($A438>n_select,\"\",'1) Select data'!AA414)","v":""},0,"",{"$f":"IF(AND($A438<=n_select,Validation!H$8,B438-C438*R_s<=V_ex1),B438-C438*R_s,0)","v":{"$error":"#VALUE!"}},{"$error":"#VALUE!"}]
[400,{"$f":"IF($A439>n_select,\"\",'1) Select data'!Z415)","v":""},{"$f":"IF($A439>n_select,\"\",'1) Select data'!AA415)","v":""},0,"",{"$f":"IF(AND($A439<=n_select,Validation!H$8,B439-C439*R_s<=V_ex1),B439-C439*R_s,0)","v":{"$error":"#VALUE!"}},{"$error":"#VALUE!"}]
[401,{"$f":"IF($A440>n_select,\"\",'1) Select data'!Z416)","v":""},{"$f":"IF($A440>n_select,\"\",'1) Select data'!AA416)","v":""},0,"",{"$f":"IF(AND($A440<=n_select,Validation!H$8,B440-C440*R_s<=V_ex1),B440-C440*R_s,0)","v":{"$error":"#VALUE!"}},{"$error":"#VALUE!"}]
[402,{"$f":"IF($A441>n_select,\"\",'1) Select data'!Z417)","v":""},{"$f":"IF($A441>n_select,\"\",'1) Select data'!AA417)","v":""},0,"",{"$f":"IF(AND($A441<=n_select,Validation!H$8,B441-C441*R_s<=V_ex1),B441-C441*R_s,0)","v":{"$error":"#VALUE!"}},{"$error":"#VALUE!"}]
[403,{"$f":"IF($A442>n_select,\"\",'1) Select data'!Z418)","v":""},{"$f":"IF($A442>n_select,\"\",'1) Select data'!AA418)","v":""},0,"",{"$f":"IF(AND($A442<=n_select,Validation!H$8,B442-C442*R_s<=V_ex1),B442-C442*R_s,0)","v":{"$error":"#VALUE!"}},{"$error":"#VALUE!"}]
[404,{"$f":"IF($A443>n_select,\"\",'1) Select data'!Z419)","v":""},{"$f":"IF($A443>n_select,\"\",'1) Select data'!AA419)","v":""},0,"",{"$f":"IF(AND($A443<=n_select,Validation!H$8,B443-C443*R_s<=V_ex1),B443-C443*R_s,0)","v":{"$error":"#VALUE!"}},{"$error":"#VALUE!"}]
[405,{"$f":"IF($A444>n_select,\"\",'1) Select data'!Z420)","v":""},{"$f":"IF($A444>n_select,\"\",'1) Select data'!AA420)","v":""},0,"",{"$f":"IF(AND($A444<=n_select,Validation!H$8,B444-C444*R_s<=V_ex1),B444-C444*R_s,0)","v":{"$error":"#VALUE!"}},{"$error":"#VALUE!"}]
[406,{"$f":"IF($A445>n_select,\"\",'1) Select data'!Z421)","v":""},{"$f":"IF($A445>n_select,\"\",'1) Select data'!AA421)","v":""},0,"",{"$f":"IF(AND($A445<=n_select,Validation!H$8,B445-C445*R_s<=V_ex1),B445-C445*R_s,0)","v":{"$error":"#VALUE!"}},{"$error":"#VALUE!"}]
[407,{"$f":"IF($A446>n_select,\"\",'1) Select data'!Z422)","v":""},{"$f":"IF($A446>n_select,\"\",'1) Select data'!AA422)","v":""},0,"",{"$f":"IF(AND($A446<=n_select,Validation!H$8,B446-C446*R_s<=V_ex1),B446-C446*R_s,0)","v":{"$error":"#VALUE!"}},{"$error":"#VALUE!"}]
[408,{"$f":"IF($A447>n_select,\"\",'1) Select data'!Z423)","v":""},{"$f":"IF($A447>n_select,\"\",'1) Select data'!AA423)","v":""},0,"",{"$f":"IF(AND($A447<=n_select,Validation!H$8,B447-C447*R_s<=V_ex1),B447-C447*R_s,0)","v":{"$error":"#VALUE!"}},{"$error":"#VALUE!"}]
[409,{"$f":"IF($A448>n_select,\"\",'1) Select data'!Z424)","v":""},{"$f":"IF($A448>n_select,\"\",'1) Select data'!AA424)","v":""},0,"",{"$f":"IF(AND($A448<=n_select,Validation!H$8,B448-C448*R_s<=V_ex1),B448-C448*R_s,0)","v":{"$error":"#VALUE!"}},{"$error":"#VALUE!"}]
[410,{"$f":"IF($A449>n_select,\"\",'1) Select data'!Z425)","v":""},{"$f":"IF($A449>n_select,\"\",'1) Select data'!AA425)","v":""},0,"",{"$f":"IF(AND($A449<=n_select,Validation!H$8,B449-C449*R_s<=V_ex1),B449-C449*R_s,0)","v":{"$error":"#VALUE!"}},{"$error":"#VALUE!"}]
[411,{"$f":"IF($A450>n_select,\"\",'1) Select data'!Z426)","v":""},{"$f":"IF($A450>n_select,\"\",'1) Select data'!AA426)","v":""},0,"",{"$f":"IF(AND($A450<=n_select,Validation!H$8,B450-C450*R_s<=V_ex1),B450-C450*R_s,0)","v":{"$error":"#VALUE!"}},{"$error":"#VALUE!"}]
[412,{"$f":"IF($A451>n_select,\"\",'1) Select data'!Z427)","v":""},{"$f":"IF($A451>n_select,\"\",'1) Select data'!AA427)","v":""},0,"",{"$f":"IF(AND($A451<=n_select,Validation!H$8,B451-C451*R_s<=V_ex1),B451-C451*R_s,0)","v":{"$error":"#VALUE!"}},{"$error":"#VALUE!"}]
[413,{"$f":"IF($A452>n_select,\"\",'1) Select data'!Z428)","v":""},{"$f":"IF($A452>n_select,\"\",'1) Select data'!AA428)","v":""},0,"",{"$f":"IF(AND($A452<=n_select,Validation!H$8,B452-C452*R_s<=V_ex1),B452-C452*R_s,0)","v":{"$error":"#VALUE!"}},{"$error":"#VALUE!"}]
[414,{"$f":"IF($A453>n_select,\"\",'1) Select data'!Z429)","v":""},{"$f":"IF($A453>n_select,\"\",'1) Select data'!AA429)","v":""},0,"",{"$f":"IF(AND($A453<=n_select,Validation!H$8,B453-C453*R_s<=V_ex1),B453-C453*R_s,0)","v":{"$error":"#VALUE!"}},{"$error":"#VALUE!"}]
[415,{"$f":"IF($A454>n_select,\"\",'1) Select data'!Z430)","v":""},{"$f":"IF($A454>n_select,\"\",'1) Select data'!AA430)","v":""},0,"",{"$f":"IF(AND($A454<=n_select,Validation!H$8,B454-C454*R_s<=V_ex1),B454-C454*R_s,0)","v":{"$error":"#VALUE!"}},{"$error":"#VALUE!"}]
[416,{"$f":"IF($A455>n_select,\"\",'1) Select data'!Z431)","v":""},{"$f":"IF($A455>n_select,\"\",'1) Select data'!AA431)","v":""},0,"",{"$f":"IF(AND($A455<=n_select,Validation!H$8,B455-C455*R_s<=V_ex1),B455-C455*R_s,0)","v":{"$error":"#VALUE!"}},{"$error":"#VALUE!"}]
[417,{"$f":"IF($A456>n_select,\"\",'1) Select data'!Z432)","v":""},{"$f":"IF($A456>n_select,\"\",'1) Select data'!AA432)","v":""},0,"",{"$f":"IF(AND($A456<=n_select,Validation!H$8,B456-C456*R_s<=V_ex1),B456-C456*R_s,0)","v":{"$error":"#VALUE!"}},{"$error":"#VALUE!"}]
[418,{"$f":"IF($A457>n_select,\"\",'1) Select data'!Z433)","v":""},{"$f":"IF($A457>n_select,\"\",'1) Select data'!AA433)","v":""},0,"",{"$f":"IF(AND($A457<=n_select,Validation!H$8,B457-C457*R_s<=V_ex1),B457-C457*R_s,0)","v":{"$error":"#VALUE!"}},{"$error":"#VALUE!"}]
[419,{"$f":"IF($A458>n_select,\"\",'1) Select data'!Z434)","v":""},{"$f":"IF($A458>n_select,\"\",'1) Select data'!AA434)","v":""},0,"",{"$f":"IF(AND($A458<=n_select,Validation!H$8,B458-C458*R_s<=V_ex1),B458-C458*R_s,0)","v":{"$error":"#VALUE!"}},{"$error":"#VALUE!"}]
[420,{"$f":"IF($A459>n_select,\"\",'1) Select data'!Z435)","v":""},{"$f":"IF($A459>n_select,\"\",'1) Select data'!AA435)","v":""},0,"",{"$f":"IF(AND($A459<=n_select,Validation!H$8,B459-C459*R_s<=V_ex1),B459-C459*R_s,0)","v":{"$error":"#VALUE!"}},{"$error":"#VALUE!"}]
[421,{"$f":"IF($A460>n_select,\"\",'1) Select data'!Z436)","v":""},{"$f":"IF($A460>n_select,\"\",'1) Select data'!AA436)","v":""},0,"",{"$f":"IF(AND($A460<=n_select,Validation!H$8,B460-C460*R_s<=V_ex1),B460-C460*R_s,0)","v":{"$error":"#VALUE!"}},{"$error":"#VALUE!"}]
[422,{"$f":"IF($A461>n_select,\"\",'1) Select data'!Z437)","v":""},{"$f":"IF($A461>n_select,\"\",'1) Select data'!AA437)","v":""},0,"",{"$f":"IF(AND($A461<=n_select,Validation!H$8,B461-C461*R_s<=V_ex1),B461-C461*R_s,0)","v":{"$error":"#VALUE!"}},{"$error":"#VALUE!"}]
[423,{"$f":"IF($A462>n_select,\"\",'1) Select data'!Z438)","v":""},{"$f":"IF($A462>n_select,\"\",'1) Select data'!AA438)","v":""},0,"",{"$f":"IF(AND($A462<=n_select,Validation!H$8,B462-C462*R_s<=V_ex1),B462-C462*R_s,0)","v":{"$error":"#VALUE!"}},{"$error":"#VALUE!"}]
[424,{"$f":"IF($A463>n_select,\"\",'1) Select data'!Z439)","v":""},{"$f":"IF($A463>n_select,\"\",'1) Select data'!AA439)","v":""},0,"",{"$f":"IF(AND($A463<=n_select,Validation!H$8,B463-C463*R_s<=V_ex1),B463-C463*R_s,0)","v":{"$error":"#VALUE!"}},{"$error":"#VALUE!"}]
[425,{"$f":"IF($A464>n_select,\"\",'1) Select data'!Z440)","v":""},{"$f":"IF($A464>n_select,\"\",'1) Select data'!AA440)","v":""},0,"",{"$f":"IF(AND($A464<=n_select,Validation!H$8,B464-C464*R_s<=V_ex1),B464-C464*R_s,0)","v":{"$error":"#VALUE!"}},{"$error":"#VALUE!"}]
[426,{"$f":"IF($A465>n_select,\"\",'1) Select data'!Z441)","v":""},{"$f":"IF($A465>n_select,\"\",'1) Select data'!AA441)","v":""},0,"",{"$f":"IF(AND($A465<=n_select,Validation!H$8,B465-C465*R_s<=V_ex1),B465-C465*R_s,0)","v":{"$error":"#VALUE!"}},{"$error":"#VALUE!"}]
[427,{"$f":"IF($A466>n_select,\"\",'1) Select data'!Z442)","v":""},{"$f":"IF($A466>n_select,\"\",'1) Select data'!AA442)","v":""},0,"",{"$f":"IF(AND($A466<=n_select,Validation!H$8,B466-C466*R_s<=V_ex1),B466-C466*R_s,0)","v":{"$error":"#VALUE!"}},{"$error":"#VALUE!"}]
[428,{"$f":"IF($A467>n_select,\"\",'1) Select data'!Z443)","v":""},{"$f":"IF($A467>n_select,\"\",'1) Select data'!AA443)","v":""},0,"",{"$f":"IF(AND($A467<=n_select,Validation!H$8,B467-C467*R_s<=V_ex1),B467-C467*R_s,0)","v":{"$error":"#VALUE!"}},{"$error":"#VALUE!"}]
[429,{"$f":"IF($A468>n_select,\"\",'1) Select data'!Z444)","v":""},{"$f":"IF($A468>n_select,\"\",'1) Select data'!AA444)","v":""},0,"",{"$f":"IF(AND($A468<=n_select,Validation!H$8,B468-C468*R_s<=V_ex1),B468-C468*R_s,0)","v":{"$error":"#VALUE!"}},{"$error":"#VALUE!"}]
[430,{"$f":"IF($A469>n_select,\"\",'1) Select data'!Z445)","v":""},{"$f":"IF($A469>n_select,\"\",'1) Select data'!AA445)","v":""},0,"",{"$f":"IF(AND($A469<=n_select,Validation!H$8,B469-C469*R_s<=V_ex1),B469-C469*R_s,0)","v":{"$error":"#VALUE!"}},{"$error":"#VALUE!"}]
[431,{"$f":"IF($A470>n_select,\"\",'1) Select data'!Z446)","v":""},{"$f":"IF($A470>n_select,\"\",'1) Select data'!AA446)","v":""},0,"",{"$f":"IF(AND($A470<=n_select,Validation!H$8,B470-C470*R_s<=V_ex1),B470-C470*R_s,0)","v":{"$error":"#VALUE!"}},{"$error":"#VALUE!"}]
[432,{"$f":"IF($A471>n_select,\"\",'1) Select data'!Z447)","v":""},{"$f":"IF($A471>n_select,\"\",'1) Select data'!AA447)","v":""},0,"",{"$f":"IF(AND($A471<=n_select,Validation!H$8,B471-C471*R_s<=V_ex1),B471-C471*R_s,0)","v":{"$error":"#VALUE!"}},{"$error":"#VALUE!"}]
[433,{"$f":"IF($A472>n_select,\"\",'1) Select data'!Z448)","v":""},{"$f":"IF($A472>n_select,\"\",'1) Select data'!AA448)","v":""},0,"",{"$f":"IF(AND($A472<=n_select,Validation!H$8,B472-C472*R_s<=V_ex1),B472-C472*R_s,0)","v":{"$error":"#VALUE!"}},{"$error":"#VALUE!"}]
[434,{"$f":"IF($A473>n_select,\"\",'1) Select data'!Z449)","v":""},{"$f":"IF($A473>n_select,\"\",'1) Select data'!AA449)","v":""},0,"",{"$f":"IF(AND($A473<=n_select,Validation!H$8,B473-C473*R_s<=V_ex1),B473-C473*R_s,0)","v":{"$error":"#VALUE!"}},{"$error":"#VALUE!"}]
[435,{"$f":"IF($A474>n_select,\"\",'1) Select data'!Z450)","v":""},{"$f":"IF($A474>n_select,\"\",'1) Select data'!AA450)","v":""},0,"",{"$f":"IF(AND($A474<=n_select,Validation!H$8,B474-C474*R_s<=V_ex1),B474-C474*R_s,0)","v":{"$error":"#VALUE!"}},{"$error":"#VALUE!"}]
[436,{"$f":"IF($A475>n_select,\"\",'1) Select data'!Z451)","v":""},{"$f":"IF($A475>n_select,\"\",'1) Select data'!AA451)","v":""},0,"",{"$f":"IF(AND($A475<=n_select,Validation!H$8,B475-C475*R_s<=V_ex1),B475-C475*R_s,0)","v":{"$error":"#VALUE!"}},{"$error":"#VALUE!"}]
[437,{"$f":"IF($A476>n_select,\"\",'1) Select data'!Z452)","v":""},{"$f":"IF($A476>n_select,\"\",'1) Select data'!AA452)","v":""},0,"",{"$f":"IF(AND($A476<=n_select,Validation!H$8,B476-C476*R_s<=V_ex1),B476-C476*R_s,0)","v":{"$error":"#VALUE!"}},{"$error":"#VALUE!"}]
[438,{"$f":"IF($A477>n_select,\"\",'1) Select data'!Z453)","v":""},{"$f":"IF($A477>n_select,\"\",'1) Select data'!AA453)","v":""},0,"",{"$f":"IF(AND($A477<=n_select,Validation!H$8,B477-C477*R_s<=V_ex1),B477-C477*R_s,0)","v":{"$error":"#VALUE!"}},{"$error":"#VALUE!"}]
[439,{"$f":"IF($A478>n_select,\"\",'1) Select data'!Z454)","v":""},{"$f":"IF($A478>n_select,\"\",'1) Select data'!AA454)","v":""},0,"",{"$f":"IF(AND($A478<=n_select,Validation!H$8,B478-C478*R_s<=V_ex1),B478-C478*R_s,0)","v":{"$error":"#VALUE!"}},{"$error":"#VALUE!"}]
[440,{"$f":"IF($A479>n_select,\"\",'1) Select data'!Z455)","v":""},{"$f":"IF($A479>n_select,\"\",'1) Select data'!AA455)","v":""},0,"",{"$f":"IF(AND($A479<=n_select,Validation!H$8,B479-C479*R_s<=V_ex1),B479-C479*R_s,0)","v":{"$error":"#VALUE!"}},{"$error":"#VALUE!"}]
[441,{"$f":"IF($A480>n_select,\"\",'1) Select data'!Z456)","v":""},{"$f":"IF($A480>n_select,\"\",'1) Select data'!AA456)","v":""},0,"",{"$f":"IF(AND($A480<=n_select,Validation!H$8,B480-C480*R_s<=V_ex1),B480-C480*R_s,0)","v":{"$error":"#VALUE!"}},{"$error":"#VALUE!"}]
[442,{"$f":"IF($A481>n_select,\"\",'1) Select data'!Z457)","v":""},{"$f":"IF($A481>n_select,\"\",'1) Select data'!AA457)","v":""},0,"",{"$f":"IF(AND($A481<=n_select,Validation!H$8,B481-C481*R_s<=V_ex1),B481-C481*R_s,0)","v":{"$error":"#VALUE!"}},{"$error":"#VALUE!"}]
[443,{"$f":"IF($A482>n_select,\"\",'1) Select data'!Z458)","v":""},{"$f":"IF($A482>n_select,\"\",'1) Select data'!AA458)","v":""},0,"",{"$f":"IF(AND($A482<=n_select,Validation!H$8,B482-C482*R_s<=V_ex1),B482-C482*R_s,0)","v":{"$error":"#VALUE!"}},{"$error":"#VALUE!"}]
[444,{"$f":"IF($A483>n_select,\"\",'1) Select data'!Z459)","v":""},{"$f":"IF($A483>n_select,\"\",'1) Select data'!AA459)","v":""},0,"",{"$f":"IF(AND($A483<=n_select,Validation!H$8,B483-C483*R_s<=V_ex1),B483-C483*R_s,0)","v":{"$error":"#VALUE!"}},{"$error":"#VALUE!"}]
[445,{"$f":"IF($A484>n_select,\"\",'1) Select data'!Z460)","v":""},{"$f":"IF($A484>n_select,\"\",'1) Select data'!AA460)","v":""},0,"",{"$f":"IF(AND($A484<=n_select,Validation!H$8,B484-C484*R_s<=V_ex1),B484-C484*R_s,0)","v":{"$error":"#VALUE!"}},{"$error":"#VALUE!"}]
[446,{"$f":"IF($A485>n_select,\"\",'1) Select data'!Z461)","v":""},{"$f":"IF($A485>n_select,\"\",'1) Select data'!AA461)","v":""},0,"",{"$f":"IF(AND($A485<=n_select,Validation!H$8,B485-C485*R_s<=V_ex1),B485-C485*R_s,0)","v":{"$error":"#VALUE!"}},{"$error":"#VALUE!"}]
[447,{"$f":"IF($A486>n_select,\"\",'1) Select data'!Z462)","v":""},{"$f":"IF($A486>n_select,\"\",'1) Select data'!AA462)","v":""},0,"",{"$f":"IF(AND($A486<=n_select,Validation!H$8,B486-C486*R_s<=V_ex1),B486-C486*R_s,0)","v":{"$error":"#VALUE!"}},{"$error":"#VALUE!"}]
[448,{"$f":"IF($A487>n_select,\"\",'1) Select data'!Z463)","v":""},{"$f":"IF($A487>n_select,\"\",'1) Select data'!AA463)","v":""},0,"",{"$f":"IF(AND($A487<=n_select,Validation!H$8,B487-C487*R_s<=V_ex1),B487-C487*R_s,0)","v":{"$error":"#VALUE!"}},{"$error":"#VALUE!"}]
[449,{"$f":"IF($A488>n_select,\"\",'1) Select data'!Z464)","v":""},{"$f":"IF($A488>n_select,\"\",'1) Select data'!AA464)","v":""},{"$f":"IF($A488>n_select,0,B488-C488*R_s)","v":0},{"$f":"IF($A488>n_select,\"\",C488)","v":""},{"$f":"IF(AND($A488<=n_select,Validation!H$8,B488-C488*R_s<=V_ex1),B488-C488*R_s,0)","v":{"$error":"#VALUE!"}},{"$f":"IF(F488<>0,E488,\"\")","v":{"$error":"#VALUE!"}}]
[450,{"$f":"IF($A489>n_select,\"\",'1) Select data'!Z465)","v":""},{"$f":"IF($A489>n_select,\"\",'1) Select data'!AA465)","v":""},0,"",{"$f":"IF(AND($A489<=n_select,Validation!H$8,B489-C489*R_s<=V_ex1),B489-C489*R_s,0)","v":{"$error":"#VALUE!"}},{"$error":"#VALUE!"}]
[451,{"$f":"IF($A490>n_select,\"\",'1) Select data'!Z466)","v":""},{"$f":"IF($A490>n_select,\"\",'1) Select data'!AA466)","v":""},0,"",{"$f":"IF(AND($A490<=n_select,Validation!H$8,B490-C490*R_s<=V_ex1),B490-C490*R_s,0)","v":{"$error":"#VALUE!"}},{"$f":"IF(F490<>0,E490,\"\")","v":{"$error":"#VALUE!"}}]
[452,{"$f":"IF($A491>n_select,\"\",'1) Select data'!Z467)","v":""},{"$f":"IF($A491>n_select,\"\",'1) Select data'!AA467)","v":""},0,"",{"$f":"IF(AND($A491<=n_select,Validation!H$8,B491-C491*R_s<=V_ex1),B491-C491*R_s,0)","v":{"$error":"#VALUE!"}},{"$f":"IF(F491<>0,E491,\"\")","v":{"$error":"#VALUE!"}}]
[453,{"$f":"IF($A492>n_select,\"\",'1) Select data'!Z468)","v":""},{"$f":"IF($A492>n_select,\"\",'1) Select data'!AA468)","v":""},0,"",{"$f":"IF(AND($A492<=n_select,Validation!H$8,B492-C492*R_s<=V_ex1),B492-C492*R_s,0)","v":{"$error":"#VALUE!"}},{"$error":"#VALUE!"}]
[454,{"$f":"IF($A493>n_select,\"\",'1) Select data'!Z469)","v":""},{"$f":"IF($A493>n_select,\"\",'1) Select data'!AA469)","v":""},0,"",{"$f":"IF(AND($A493<=n_select,Validation!H$8,B493-C493*R_s<=V_ex1),B493-C493*R_s,0)","v":{"$error":"#VALUE!"}},{"$error":"#VALUE!"}]
[455,{"$f":"IF($A494>n_select,\"\",'1) Select data'!Z470)","v":""},{"$f":"IF($A494>n_select,\"\",'1) Select data'!AA470)","v":""},0,"",{"$f":"IF(AND($A494<=n_select,Validation!H$8,B494-C494*R_s<=V_ex1),B494-C494*R_s,0)","v":{"$error":"#VALUE!"}},{"$error":"#VALUE!"}]
[456,{"$f":"IF($A495>n_select,\"\",'1) Select data'!Z471)","v":""},{"$f":"IF($A495>n_select,\"\",'1) Select data'!AA471)","v":""},0,"",{"$f":"IF(AND($A495<=n_select,Validation!H$8,B495-C495*R_s<=V_ex1),B495-C495*R_s,0)","v":{"$error":"#VALUE!"}},{"$error":"#VALUE!"}]
[457,{"$f":"IF($A496>n_select,\"\",'1) Select data'!Z472)","v":""},{"$f":"IF($A496>n_select,\"\",'1) Select data'!AA472)","v":""},0,"",{"$f":"IF(AND($A496<=n_select,Validation!H$8,B496-C496*R_s<=V_ex1),B496-C496*R_s,0)","v":{"$error":"#VALUE!"}},{"$error":"#VALUE!"}]
[458,{"$f":"IF($A497>n_select,\"\",'1) Select data'!Z473)","v":""},{"$f":"IF($A497>n_select,\"\",'1) Select data'!AA473)","v":""},0,"",{"$f":"IF(AND($A497<=n_select,Validation!H$8,B497-C497*R_s<=V_ex1),B497-C497*R_s,0)","v":{"$error":"#VALUE!"}},{"$error":"#VALUE!"}]
[459,{"$f":"IF($A498>n_select,\"\",'1) Select data'!Z474)","v":""},{"$f":"IF($A498>n_select,\"\",'1) Select data'!AA474)","v":""},0,"",{"$f":"IF(AND($A498<=n_select,Validation!H$8,B498-C498*R_s<=V_ex1),B498-C498*R_s,0)","v":{"$error":"#VALUE!"}},{"$error":"#VALUE!"}]
[460,{"$f":"IF($A499>n_select,\"\",'1) Select data'!Z475)","v":""},{"$f":"IF($A499>n_select,\"\",'1) Select data'!AA475)","v":""},0,"",{"$f":"IF(AND($A499<=n_select,Validation!H$8,B499-C499*R_s<=V_ex1),B499-C499*R_s,0)","v":{"$error":"#VALUE!"}},{"$error":"#VALUE!"}]
[461,{"$f":"IF($A500>n_select,\"\",'1) Select data'!Z476)","v":""},{"$f":"IF($A500>n_select,\"\",'1) Select data'!AA476)","v":""},0,"",{"$f":"IF(AND($A500<=n_select,Validation!H$8,B500-C500*R_s<=V_ex1),B500-C500*R_s,0)","v":{"$error":"#VALUE!"}},{"$error":"#VALUE!"}]
[462,{"$f":"IF($A501>n_select,\"\",'1) Select data'!Z477)","v":""},{"$f":"IF($A501>n_select,\"\",'1) Select data'!AA477)","v":""},0,"",{"$f":"IF(AND($A501<=n_select,Validation!H$8,B501-C501*R_s<=V_ex1),B501-C501*R_s,0)","v":{"$error":"#VALUE!"}},{"$error":"#VALUE!"}]
[463,{"$f":"IF($A502>n_select,\"\",'1) Select data'!Z478)","v":""},{"$f":"IF($A502>n_select,\"\",'1) Select data'!AA478)","v":""},0,"",{"$f":"IF(AND($A502<=n_select,Validation!H$8,B502-C502*R_s<=V_ex1),B502-C502*R_s,0)","v":{"$error":"#VALUE!"}},{"$error":"#VALUE!"}]
[464,{"$f":"IF($A503>n_select,\"\",'1) Select data'!Z479)","v":""},{"$f":"IF($A503>n_select,\"\",'1) Select data'!AA479)","v":""},0,"",{"$f":"IF(AND($A503<=n_select,Validation!H$8,B503-C503*R_s<=V_ex1),B503-C503*R_s,0)","v":{"$error":"#VALUE!"}},{"$error":"#VALUE!"}]
[465,{"$f":"IF($A504>n_select,\"\",'1) Select data'!Z480)","v":""},{"$f":"IF($A504>n_select,\"\",'1) Select data'!AA480)","v":""},0,"",{"$f":"IF(AND($A504<=n_select,Validation!H$8,B504-C504*R_s<=V_ex1),B504-C504*R_s,0)","v":{"$error":"#VALUE!"}},{"$error":"#VALUE!"}]
[466,{"$f":"IF($A505>n_select,\"\",'1) Select data'!Z481)","v":""},{"$f":"IF($A505>n_select,\"\",'1) Select data'!AA481)","v":""},0,"",{"$f":"IF(AND($A505<=n_select,Validation!H$8,B505-C505*R_s<=V_ex1),B505-C505*R_s,0)","v":{"$error":"#VALUE!"}},{"$error":"#VALUE!"}]
[467,{"$f":"IF($A506>n_select,\"\",'1) Select data'!Z482)","v":""},{"$f":"IF($A506>n_select,\"\",'1) Select data'!AA482)","v":""},0,"",{"$f":"IF(AND($A506<=n_select,Validation!H$8,B506-C506*R_s<=V_ex1),B506-C506*R_s,0)","v":{"$error":"#VALUE!"}},{"$error":"#VALUE!"}]
[468,{"$f":"IF($A507>n_select,\"\",'1) Select data'!Z483)","v":""},{"$f":"IF($A507>n_select,\"\",'1) Select data'!AA483)","v":""},0,"",{"$f":"IF(AND($A507<=n_select,Validation!H$8,B507-C507*R_s<=V_ex1),B507-C507*R_s,0)","v":{"$error":"#VALUE!"}},{"$error":"#VALUE!"}]
[469,{"$f":"IF($A508>n_select,\"\",'1) Select data'!Z484)","v":""},{"$f":"IF($A508>n_select,\"\",'1) Select data'!AA484)","v":""},0,"",{"$f":"IF(AND($A508<=n_select,Validation!H$8,B508-C508*R_s<=V_ex1),B508-C508*R_s,0)","v":{"$error":"#VALUE!"}},{"$error":"#VALUE!"}]
[470,{"$f":"IF($A509>n_select,\"\",'1) Select data'!Z485)","v":""},{"$f":"IF($A509>n_select,\"\",'1) Select data'!AA485)","v":""},0,"",{"$f":"IF(AND($A509<=n_select,Validation!H$8,B509-C509*R_s<=V_ex1),B509-C509*R_s,0)","v":{"$error":"#VALUE!"}},{"$error":"#VALUE!"}]
[471,{"$f":"IF($A510>n_select,\"\",'1) Select data'!Z486)","v":""},{"$f":"IF($A510>n_select,\"\",'1) Select data'!AA486)","v":""},0,"",{"$f":"IF(AND($A510<=n_select,Validation!H$8,B510-C510*R_s<=V_ex1),B510-C510*R_s,0)","v":{"$error":"#VALUE!"}},{"$error":"#VALUE!"}]
[472,{"$f":"IF($A511>n_select,\"\",'1) Select data'!Z487)","v":""},{"$f":"IF($A511>n_select,\"\",'1) Select data'!AA487)","v":""},0,"",{"$f":"IF(AND($A511<=n_select,Validation!H$8,B511-C511*R_s<=V_ex1),B511-C511*R_s,0)","v":{"$error":"#VALUE!"}},{"$error":"#VALUE!"}]
[473,{"$f":"IF($A512>n_select,\"\",'1) Select data'!Z488)","v":""},{"$f":"IF($A512>n_select,\"\",'1) Select data'!AA488)","v":""},0,"",{"$f":"IF(AND($A512<=n_select,Validation!H$8,B512-C512*R_s<=V_ex1),B512-C512*R_s,0)","v":{"$error":"#VALUE!"}},{"$error":"#VALUE!"}]
[474,{"$f":"IF($A513>n_select,\"\",'1) Select data'!Z489)","v":""},{"$f":"IF($A513>n_select,\"\",'1) Select data'!AA489)","v":""},0,"",{"$f":"IF(AND($A513<=n_select,Validation!H$8,B513-C513*R_s<=V_ex1),B513-C513*R_s,0)","v":{"$error":"#VALUE!"}},{"$error":"#VALUE!"}]
[475,{"$f":"IF($A514>n_select,\"\",'1) Select data'!Z490)","v":""},{"$f":"IF($A514>n_select,\"\",'1) Select data'!AA490)","v":""},0,"",{"$f":"IF(AND($A514<=n_select,Validation!H$8,B514-C514*R_s<=V_ex1),B514-C514*R_s,0)","v":{"$error":"#VALUE!"}},{"$error":"#VALUE!"}]
[476,{"$f":"IF($A515>n_select,\"\",'1) Select data'!Z491)","v":""},{"$f":"IF($A515>n_select,\"\",'1) Select data'!AA491)","v":""},0,"",{"$f":"IF(AND($A515<=n_select,Validation!H$8,B515-C515*R_s<=V_ex1),B515-C515*R_s,0)","v":{"$error":"#VALUE!"}},{"$error":"#VALUE!"}]
[477,{"$f":"IF($A516>n_select,\"\",'1) Select data'!Z492)","v":""},{"$f":"IF($A516>n_select,\"\",'1) Select data'!AA492)","v":""},0,"",{"$f":"IF(AND($A516<=n_select,Validation!H$8,B516-C516*R_s<=V_ex1),B516-C516*R_s,0)","v":{"$error":"#VALUE!"}},{"$error":"#VALUE!"}]
[478,{"$f":"IF($A517>n_select,\"\",'1) Select data'!Z493)","v":""},{"$f":"IF($A517>n_select,\"\",'1) Select data'!AA493)","v":""},0,"",{"$f":"IF(AND($A517<=n_select,Validation!H$8,B517-C517*R_s<=V_ex1),B517-C517*R_s,0)","v":{"$error":"#VALUE!"}},{"$error":"#VALUE!"}]
[479,{"$f":"IF($A518>n_select,\"\",'1) Select data'!Z494)","v":""},{"$f":"IF($A518>n_select,\"\",'1) Select data'!AA494)","v":""},0,"",{"$f":"IF(AND($A518<=n_select,Validation!H$8,B518-C518*R_s<=V_ex1),B518-C518*R_s,0)","v":{"$error":"#VALUE!"}},{"$error":"#VALUE!"}]
[480,{"$f":"IF($A519>n_select,\"\",'1) Select data'!Z495)","v":""},{"$f":"IF($A519>n_select,\"\",'1) Select data'!AA495)","v":""},0,"",{"$f":"IF(AND($A519<=n_select,Validation!H$8,B519-C519*R_s<=V_ex1),B519-C519*R_s,0)","v":{"$error":"#VALUE!"}},{"$error":"#VALUE!"}]
[481,{"$f":"IF($A520>n_select,\"\",'1) Select data'!Z496)","v":""},{"$f":"IF($A520>n_select,\"\",'1) Select data'!AA496)","v":""},0,"",{"$f":"IF(AND($A520<=n_select,Validation!H$8,B520-C520*R_s<=V_ex1),B520-C520*R_s,0)","v":{"$error":"#VALUE!"}},{"$error":"#VALUE!"}]
[482,{"$f":"IF($A521>n_select,\"\",'1) Select data'!Z497)","v":""},{"$f":"IF($A521>n_select,\"\",'1) Select data'!AA497)","v":""},0,"",{"$f":"IF(AND($A521<=n_select,Validation!H$8,B521-C521*R_s<=V_ex1),B521-C521*R_s,0)","v":{"$error":"#VALUE!"}},{"$error":"#VALUE!"}]
[483,{"$f":"IF($A522>n_select,\"\",'1) Select data'!Z498)","v":""},{"$f":"IF($A522>n_select,\"\",'1) Select data'!AA498)","v":""},0,"",{"$f":"IF(AND($A522<=n_select,Validation!H$8,B522-C522*R_s<=V_ex1),B522-C522*R_s,0)","v":{"$error":"#VALUE!"}},{"$error":"#VALUE!"}]
[484,{"$f":"IF($A523>n_select,\"\",'1) Select data'!Z499)","v":""},{"$f":"IF($A523>n_select,\"\",'1) Select data'!AA499)","v":""},0,"",{"$f":"IF(AND($A523<=n_select,Validation!H$8,B523-C523*R_s<=V_ex1),B523-C523*R_s,0)","v":{"$error":"#VALUE!"}},{"$error":"#VALUE!"}]
[485,{"$f":"IF($A524>n_select,\"\",'1) Select data'!Z500)","v":""},{"$f":"IF($A524>n_select,\"\",'1) Select data'!AA500)","v":""},0,"",{"$f":"IF(AND($A524<=n_select,Validation!H$8,B524-C524*R_s<=V_ex1),B524-C524*R_s,0)","v":{"$error":"#VALUE!"}},{"$error":"#VALUE!"}]
[486,{"$f":"IF($A525>n_select,\"\",'1) Select data'!Z501)","v":""},{"$f":"IF($A525>n_select,\"\",'1) Select data'!AA501)","v":""},0,"",{"$f":"IF(AND($A525<=n_select,Validation!H$8,B525-C525*R_s<=V_ex1),B525-C525*R_s,0)","v":{"$error":"#VALUE!"}},{"$error":"#VALUE!"}]
[487,{"$f":"IF($A526>n_select,\"\",'1) Select data'!Z502)","v":""},{"$f":"IF($A526>n_select,\"\",'1) Select data'!AA502)","v":""},0,"",{"$f":"IF(AND($A526<=n_select,Validation!H$8,B526-C526*R_s<=V_ex1),B526-C526*R_s,0)","v":{"$error":"#VALUE!"}},{"$error":"#VALUE!"}]
[488,{"$f":"IF($A527>n_select,\"\",'1) Select data'!Z503)","v":""},{"$f":"IF($A527>n_select,\"\",'1) Select data'!AA503)","v":""},0,"",{"$f":"IF(AND($A527<=n_select,Validation!H$8,B527-C527*R_s<=V_ex1),B527-C527*R_s,0)","v":{"$error":"#VALUE!"}},{"$error":"#VALUE!"}]
[489,{"$f":"IF($A528>n_select,\"\",'1) Select data'!Z504)","v":""},{"$f":"IF($A528>n_select,\"\",'1) Select data'!AA504)","v":""},0,"",{"$f":"IF(AND($A528<=n_select,Validation!H$8,B528-C528*R_s<=V_ex1),B528-C528*R_s,0)","v":{"$error":"#VALUE!"}},{"$error":"#VALUE!"}]
[490,{"$f":"IF($A529>n_select,\"\",'1) Select data'!Z505)","v":""},{"$f":"IF($A529>n_select,\"\",'1) Select data'!AA505)","v":""},0,"",{"$f":"IF(AND($A529<=n_select,Validation!H$8,B529-C529*R_s<=V_ex1),B529-C529*R_s,0)","v":{"$error":"#VALUE!"}},{"$error":"#VALUE!"}]
[491,{"$f":"IF($A530>n_select,\"\",'1) Select data'!Z506)","v":""},{"$f":"IF($A530>n_select,\"\",'1) Select data'!AA506)","v":""},0,"",{"$f":"IF(AND($A530<=n_select,Validation!H$8,B530-C530*R_s<=V_ex1),B530-C530*R_s,0)","v":{"$error":"#VALUE!"}},{"$error":"#VALUE!"}]
[492,{"$f":"IF($A531>n_select,\"\",'1) Select data'!Z507)","v":""},{"$f":"IF($A531>n_select,\"\",'1) Select data'!AA507)","v":""},0,"",{"$f":"IF(AND($A531<=n_select,Validation!H$8,B531-C531*R_s<=V_ex1),B531-C531*R_s,0)","v":{"$error":"#VALUE!"}},{"$error":"#VALUE!"}]
[493,{"$f":"IF($A532>n_select,\"\",'1) Select data'!Z508)","v":""},{"$f":"IF($A532>n_select,\"\",'1) Select data'!AA508)","v":""},0,"",{"$f":"IF(AND($A532<=n_select,Validation!H$8,B532-C532*R_s<=V_ex1),B532-C532*R_s,0)","v":{"$error":"#VALUE!"}},{"$error":"#VALUE!"}]
[494,{"$f":"IF($A533>n_select,\"\",'1) Select data'!Z509)","v":""},{"$f":"IF($A533>n_select,\"\",'1) Select data'!AA509)","v":""},0,"",{"$f":"IF(AND($A533<=n_select,Validation!H$8,B533-C533*R_s<=V_ex1),B533-C533*R_s,0)","v":{"$error":"#VALUE!"}},{"$error":"#VALUE!"}]
[495,{"$f":"IF($A534>n_select,\"\",'1) Select data'!Z510)","v":""},{"$f":"IF($A534>n_select,\"\",'1) Select data'!AA510)","v":""},0,"",{"$f":"IF(AND($A534<=n_select,Validation!H$8,B534-C534*R_s<=V_ex1),B534-C534*R_s,0)","v":{"$error":"#VALUE!"}},{"$error":"#VALUE!"}]
[496,{"$f":"IF($A535>n_select,\"\",'1) Select data'!Z511)","v":""},{"$f":"IF($A535>n_select,\"\",'1) Select data'!AA511)","v":""},0,"",{"$f":"IF(AND($A535<=n_select,Validation!H$8,B535-C535*R_s<=V_ex1),B535-C535*R_s,0)","v":{"$error":"#VALUE!"}},{"$error":"#VALUE!"}]
[497,{"$f":"IF($A536>n_select,\"\",'1) Select data'!Z512)","v":""},{"$f":"IF($A536>n_select,\"\",'1) Select data'!AA512)","v":""},0,"",{"$f":"IF(AND($A536<=n_select,Validation!H$8,B536-C536*R_s<=V_ex1),B536-C536*R_s,0)","v":{"$error":"#VALUE!"}},{"$error":"#VALUE!"}]
[498,{"$f":"IF($A537>n_select,\"\",'1) Select data'!Z513)","v":""},{"$f":"IF($A537>n_select,\"\",'1) Select data'!AA513)","v":""},0,"",{"$f":"IF(AND($A537<=n_select,Validation!H$8,B537-C537*R_s<=V_ex1),B537-C537*R_s,0)","v":{"$error":"#VALUE!"}},{"$error":"#VALUE!"}]
[499,{"$f":"IF($A538>n_select,\"\",'1) Select data'!Z514)","v":""},{"$f":"IF($A538>n_select,\"\",'1) Select data'!AA514)","v":""},0,"",{"$f":"IF(AND($A538<=n_select,Validation!H$8,B538-C538*R_s<=V_ex1),B538-C538*R_s,0)","v":{"$error":"#VALUE!"}},{"$error":"#VALUE!"}]
[500,{"$f":"IF($A539>n_select,\"\",'1) Select data'!Z515)","v":""},{"$f":"IF($A539>n_select,\"\",'1) Select data'!AA515)","v":""},0,"",{"$f":"IF(AND($A539<=n_select,Validation!H$8,B539-C539*R_s<=V_ex1),B539-C539*R_s,0)","v":{"$error":"#VALUE!"}},{"$error":"#VALUE!"}]
[501,{"$f":"IF($A540>n_select,\"\",'1) Select data'!Z516)","v":""},{"$f":"IF($A540>n_select,\"\",'1) Select data'!AA516)","v":""},0,"",{"$f":"IF(AND($A540<=n_select,Validation!H$8,B540-C540*R_s<=V_ex1),B540-C540*R_s,0)","v":{"$error":"#VALUE!"}},{"$error":"#VALUE!"}]
[502,{"$f":"IF($A541>n_select,\"\",'1) Select data'!Z517)","v":""},{"$f":"IF($A541>n_select,\"\",'1) Select data'!AA517)","v":""},0,"",{"$f":"IF(AND($A541<=n_select,Validation!H$8,B541-C541*R_s<=V_ex1),B541-C541*R_s,0)","v":{"$error":"#VALUE!"}},{"$error":"#VALUE!"}]
[503,{"$f":"IF($A542>n_select,\"\",'1) Select data'!Z518)","v":""},{"$f":"IF($A542>n_select,\"\",'1) Select data'!AA518)","v":""},0,"",{"$f":"IF(AND($A542<=n_select,Validation!H$8,B542-C542*R_s<=V_ex1),B542-C542*R_s,0)","v":{"$error":"#VALUE!"}},{"$error":"#VALUE!"}]
[504,{"$f":"IF($A543>n_select,\"\",'1) Select data'!Z519)","v":""},{"$f":"IF($A543>n_select,\"\",'1) Select data'!AA519)","v":""},0,"",{"$f":"IF(AND($A543<=n_select,Validation!H$8,B543-C543*R_s<=V_ex1),B543-C543*R_s,0)","v":{"$error":"#VALUE!"}},{"$error":"#VALUE!"}]
[505,{"$f":"IF($A544>n_select,\"\",'1) Select data'!Z520)","v":""},{"$f":"IF($A544>n_select,\"\",'1) Select data'!AA520)","v":""},0,"",{"$f":"IF(AND($A544<=n_select,Validation!H$8,B544-C544*R_s<=V_ex1),B544-C544*R_s,0)","v":{"$error":"#VALUE!"}},{"$error":"#VALUE!"}]
[506,{"$f":"IF($A545>n_select,\"\",'1) Select data'!Z521)","v":""},{"$f":"IF($A545>n_select,\"\",'1) Select data'!AA521)","v":""},0,"",{"$f":"IF(AND($A545<=n_select,Validation!H$8,B545-C545*R_s<=V_ex1),B545-C545*R_s,0)","v":{"$error":"#VALUE!"}},{"$error":"#VALUE!"}]
[507,{"$f":"IF($A546>n_select,\"\",'1) Select data'!Z522)","v":""},{"$f":"IF($A546>n_select,\"\",'1) Select data'!AA522)","v":""},0,"",{"$f":"IF(AND($A546<=n_select,Validation!H$8,B546-C546*R_s<=V_ex1),B546-C546*R_s,0)","v":{"$error":"#VALUE!"}},{"$error":"#VALUE!"}]
[508,{"$f":"IF($A547>n_select,\"\",'1) Select data'!Z523)","v":""},{"$f":"IF($A547>n_select,\"\",'1) Select data'!AA523)","v":""},0,"",{"$f":"IF(AND($A547<=n_select,Validation!H$8,B547-C547*R_s<=V_ex1),B547-C547*R_s,0)","v":{"$error":"#VALUE!"}},{"$error":"#VALUE!"}]
[509,{"$f":"IF($A548>n_select,\"\",'1) Select data'!Z524)","v":""},{"$f":"IF($A548>n_select,\"\",'1) Select data'!AA524)","v":""},0,"",{"$f":"IF(AND($A548<=n_select,Validation!H$8,B548-C548*R_s<=V_ex1),B548-C548*R_s,0)","v":{"$error":"#VALUE!"}},{"$error":"#VALUE!"}]
[510,{"$f":"IF($A549>n_select,\"\",'1) Select data'!Z525)","v":""},{"$f":"IF($A549>n_select,\"\",'1) Select data'!AA525)","v":""},0,"",{"$f":"IF(AND($A549<=n_select,Validation!H$8,B549-C549*R_s<=V_ex1),B549-C549*R_s,0)","v":{"$error":"#VALUE!"}},{"$error":"#VALUE!"}]
[511,{"$f":"IF($A550>n_select,\"\",'1) Select data'!Z526)","v":""},{"$f":"IF($A550>n_select,\"\",'1) Select data'!AA526)","v":""},0,"",{"$f":"IF(AND($A550<=n_select,Validation!H$8,B550-C550*R_s<=V_ex1),B550-C550*R_s,0)","v":{"$error":"#VALUE!"}},{"$error":"#VALUE!"}]
[512,{"$f":"IF($A551>n_select,\"\",'1) Select data'!Z527)","v":""},{"$f":"IF($A551>n_select,\"\",'1) Select data'!AA527)","v":""},0,"",{"$f":"IF(AND($A551<=n_select,Validation!H$8,B551-C551*R_s<=V_ex1),B551-C551*R_s,0)","v":{"$error":"#VALUE!"}},{"$error":"#VALUE!"}]
[513,{"$f":"IF($A552>n_select,\"\",'1) Select data'!Z528)","v":""},{"$f":"IF($A552>n_select,\"\",'1) Select data'!AA528)","v":""},{"$f":"IF($A552>n_select,0,B552-C552*R_s)","v":0},{"$f":"IF($A552>n_select,\"\",C552)","v":""},{"$f":"IF(AND($A552<=n_select,Validation!H$8,B552-C552*R_s<=V_ex1),B552-C552*R_s,0)","v":{"$error":"#VALUE!"}},{"$error":"#VALUE!"}]
[514,{"$f":"IF($A553>n_select,\"\",'1) Select data'!Z529)","v":""},{"$f":"IF($A553>n_select,\"\",'1) Select data'!AA529)","v":""},0,"",{"$f":"IF(AND($A553<=n_select,Validation!H$8,B553-C553*R_s<=V_ex1),B553-C553*R_s,0)","v":{"$error":"#VALUE!"}},{"$error":"#VALUE!"}]
[515,{"$f":"IF($A554>n_select,\"\",'1) Select data'!Z530)","v":""},{"$f":"IF($A554>n_select,\"\",'1) Select data'!AA530)","v":""},0,"",{"$f":"IF(AND($A554<=n_select,Validation!H$8,B554-C554*R_s<=V_ex1),B554-C554*R_s,0)","v":{"$error":"#VALUE!"}},{"$error":"#VALUE!"}]
[516,{"$f":"IF($A555>n_select,\"\",'1) Select data'!Z531)","v":""},{"$f":"IF($A555>n_select,\"\",'1) Select data'!AA531)","v":""},0,"",{"$f":"IF(AND($A555<=n_select,Validation!H$8,B555-C555*R_s<=V_ex1),B555-C555*R_s,0)","v":{"$error":"#VALUE!"}},{"$f":"IF(F555<>0,E555,\"\")","v":{"$error":"#VALUE!"}}]
[517,{"$f":"IF($A556>n_select,\"\",'1) Select data'!Z532)","v":""},{"$f":"IF($A556>n_select,\"\",'1) Select data'!AA532)","v":""},0,"",{"$f":"IF(AND($A556<=n_select,Validation!H$8,B556-C556*R_s<=V_ex1),B556-C556*R_s,0)","v":{"$error":"#VALUE!"}},{"$error":"#VALUE!"}]
[518,{"$f":"IF($A557>n_select,\"\",'1) Select data'!Z533)","v":""},{"$f":"IF($A557>n_select,\"\",'1) Select data'!AA533)","v":""},0,"",{"$f":"IF(AND($A557<=n_select,Validation!H$8,B557-C557*R_s<=V_ex1),B557-C557*R_s,0)","v":{"$error":"#VALUE!"}},{"$error":"#VALUE!"}]
[519,{"$f":"IF($A558>n_select,\"\",'1) Select data'!Z534)","v":""},{"$f":"IF($A558>n_select,\"\",'1) Select data'!AA534)","v":""},0,"",{"$f":"IF(AND($A558<=n_select,Validation!H$8,B558-C558*R_s<=V_ex1),B558-C558*R_s,0)","v":{"$error":"#VALUE!"}},{"$error":"#VALUE!"}]
[520,{"$f":"IF($A559>n_select,\"\",'1) Select data'!Z535)","v":""},{"$f":"IF($A559>n_select,\"\",'1) Select data'!AA535)","v":""},0,"",{"$f":"IF(AND($A559<=n_select,Validation!H$8,B559-C559*R_s<=V_ex1),B559-C559*R_s,0)","v":{"$error":"#VALUE!"}},{"$error":"#VALUE!"}]
[521,{"$f":"IF($A560>n_select,\"\",'1) Select data'!Z536)","v":""},{"$f":"IF($A560>n_select,\"\",'1) Select data'!AA536)","v":""},0,"",{"$f":"IF(AND($A560<=n_select,Validation!H$8,B560-C560*R_s<=V_ex1),B560-C560*R_s,0)","v":{"$error":"#VALUE!"}},{"$error":"#VALUE!"}]
[522,{"$f":"IF($A561>n_select,\"\",'1) Select data'!Z537)","v":""},{"$f":"IF($A561>n_select,\"\",'1) Select data'!AA537)","v":""},0,"",{"$f":"IF(AND($A561<=n_select,Validation!H$8,B561-C561*R_s<=V_ex1),B561-C561*R_s,0)","v":{"$error":"#VALUE!"}},{"$error":"#VALUE!"}]
[523,{"$f":"IF($A562>n_select,\"\",'1) Select data'!Z538)","v":""},{"$f":"IF($A562>n_select,\"\",'1) Select data'!AA538)","v":""},0,"",{"$f":"IF(AND($A562<=n_select,Validation!H$8,B562-C562*R_s<=V_ex1),B562-C562*R_s,0)","v":{"$error":"#VALUE!"}},{"$error":"#VALUE!"}]
[524,{"$f":"IF($A563>n_select,\"\",'1) Select data'!Z539)","v":""},{"$f":"IF($A563>n_select,\"\",'1) Select data'!AA539)","v":""},0,"",{"$f":"IF(AND($A563<=n_select,Validation!H$8,B563-C563*R_s<=V_ex1),B563-C563*R_s,0)","v":{"$error":"#VALUE!"}},{"$error":"#VALUE!"}]
[525,{"$f":"IF($A564>n_select,\"\",'1) Select data'!Z540)","v":""},{"$f":"IF($A564>n_select,\"\",'1) Select data'!AA540)","v":""},0,"",{"$f":"IF(AND($A564<=n_select,Validation!H$8,B564-C564*R_s<=V_ex1),B564-C564*R_s,0)","v":{"$error":"#VALUE!"}},{"$error":"#VALUE!"}]
[526,{"$f":"IF($A565>n_select,\"\",'1) Select data'!Z541)","v":""},{"$f":"IF($A565>n_select,\"\",'1) Select data'!AA541)","v":""},0,"",{"$f":"IF(AND($A565<=n_select,Validation!H$8,B565-C565*R_s<=V_ex1),B565-C565*R_s,0)","v":{"$error":"#VALUE!"}},{"$error":"#VALUE!"}]
[527,{"$f":"IF($A566>n_select,\"\",'1) Select data'!Z542)","v":""},{"$f":"IF($A566>n_select,\"\",'1) Select data'!AA542)","v":""},0,"",{"$f":"IF(AND($A566<=n_select,Validation!H$8,B566-C566*R_s<=V_ex1),B566-C566*R_s,0)","v":{"$error":"#VALUE!"}},{"$error":"#VALUE!"}]
[528,{"$f":"IF($A567>n_select,\"\",'1) Select data'!Z543)","v":""},{"$f":"IF($A567>n_select,\"\",'1) Select data'!AA543)","v":""},0,"",{"$f":"IF(AND($A567<=n_select,Validation!H$8,B567-C567*R_s<=V_ex1),B567-C567*R_s,0)","v":{"$error":"#VALUE!"}},{"$error":"#VALUE!"}]
[529,{"$f":"IF($A568>n_select,\"\",'1) Select data'!Z544)","v":""},{"$f":"IF($A568>n_select,\"\",'1) Select data'!AA544)","v":""},0,"",{"$f":"IF(AND($A568<=n_select,Validation!H$8,B568-C568*R_s<=V_ex1),B568-C568*R_s,0)","v":{"$error":"#VALUE!"}},{"$error":"#VALUE!"}]
[530,{"$f":"IF($A569>n_select,\"\",'1) Select data'!Z545)","v":""},{"$f":"IF($A569>n_select,\"\",'1) Select data'!AA545)","v":""},0,"",{"$f":"IF(AND($A569<=n_select,Validation!H$8,B569-C569*R_s<=V_ex1),B569-C569*R_s,0)","v":{"$error":"#VALUE!"}},{"$error":"#VALUE!"}]
[531,{"$f":"IF($A570>n_select,\"\",'1) Select data'!Z546)","v":""},{"$f":"IF($A570>n_select,\"\",'1) Select data'!AA546)","v":""},0,"",{"$f":"IF(AND($A570<=n_select,Validation!H$8,B570-C570*R_s<=V_ex1),B570-C570*R_s,0)","v":{"$error":"#VALUE!"}},{"$error":"#VALUE!"}]
[532,{"$f":"IF($A571>n_select,\"\",'1) Select data'!Z547)","v":""},{"$f":"IF($A571>n_select,\"\",'1) Select data'!AA547)","v":""},0,"",{"$f":"IF(AND($A571<=n_select,Validation!H$8,B571-C571*R_s<=V_ex1),B571-C571*R_s,0)","v":{"$error":"#VALUE!"}},{"$error":"#VALUE!"}]
[533,{"$f":"IF($A572>n_select,\"\",'1) Select data'!Z548)","v":""},{"$f":"IF($A572>n_select,\"\",'1) Select data'!AA548)","v":""},0,"",{"$f":"IF(AND($A572<=n_select,Validation!H$8,B572-C572*R_s<=V_ex1),B572-C572*R_s,0)","v":{"$error":"#VALUE!"}},{"$error":"#VALUE!"}]
[534,{"$f":"IF($A573>n_select,\"\",'1) Select data'!Z549)","v":""},{"$f":"IF($A573>n_select,\"\",'1) Select data'!AA549)","v":""},0,"",{"$f":"IF(AND($A573<=n_select,Validation!H$8,B573-C573*R_s<=V_ex1),B573-C573*R_s,0)","v":{"$error":"#VALUE!"}},{"$error":"#VALUE!"}]
[535,{"$f":"IF($A574>n_select,\"\",'1) Select data'!Z550)","v":""},{"$f":"IF($A574>n_select,\"\",'1) Select data'!AA550)","v":""},0,"",{"$f":"IF(AND($A574<=n_select,Validation!H$8,B574-C574*R_s<=V_ex1),B574-C574*R_s,0)","v":{"$error":"#VALUE!"}},{"$error":"#VALUE!"}]
[536,{"$f":"IF($A575>n_select,\"\",'1) Select data'!Z551)","v":""},{"$f":"IF($A575>n_select,\"\",'1) Select data'!AA551)","v":""},0,"",{"$f":"IF(AND($A575<=n_select,Validation!H$8,B575-C575*R_s<=V_ex1),B575-C575*R_s,0)","v":{"$error":"#VALUE!"}},{"$error":"#VALUE!"}]
[537,{"$f":"IF($A576>n_select,\"\",'1) Select data'!Z552)","v":""},{"$f":"IF($A576>n_select,\"\",'1) Select data'!AA552)","v":""},0,"",{"$f":"IF(AND($A576<=n_select,Validation!H$8,B576-C576*R_s<=V_ex1),B576-C576*R_s,0)","v":{"$error":"#VALUE!"}},{"$error":"#VALUE!"}]
[538,{"$f":"IF($A577>n_select,\"\",'1) Select data'!Z553)","v":""},{"$f":"IF($A577>n_select,\"\",'1) Select data'!AA553)","v":""},0,"",{"$f":"IF(AND($A577<=n_select,Validation!H$8,B577-C577*R_s<=V_ex1),B577-C577*R_s,0)","v":{"$error":"#VALUE!"}},{"$error":"#VALUE!"}]
[539,{"$f":"IF($A578>n_select,\"\",'1) Select data'!Z554)","v":""},{"$f":"IF($A578>n_select,\"\",'1) Select data'!AA554)","v":""},0,"",{"$f":"IF(AND($A578<=n_select,Validation!H$8,B578-C578*R_s<=V_ex1),B578-C578*R_s,0)","v":{"$error":"#VALUE!"}},{"$error":"#VALUE!"}]
[540,{"$f":"IF($A579>n_select,\"\",'1) Select data'!Z555)","v":""},{"$f":"IF($A579>n_select,\"\",'1) Select data'!AA555)","v":""},0,"",{"$f":"IF(AND($A579<=n_select,Validation!H$8,B579-C579*R_s<=V_ex1),B579-C579*R_s,0)","v":{"$error":"#VALUE!"}},{"$error":"#VALUE!"}]
[541,{"$f":"IF($A580>n_select,\"\",'1) Select data'!Z556)","v":""},{"$f":"IF($A580>n_select,\"\",'1) Select data'!AA556)","v":""},0,"",{"$f":"IF(AND($A580<=n_select,Validation!H$8,B580-C580*R_s<=V_ex1),B580-C580*R_s,0)","v":{"$error":"#VALUE!"}},{"$error":"#VALUE!"}]
[542,{"$f":"IF($A581>n_select,\"\",'1) Select data'!Z557)","v":""},{"$f":"IF($A581>n_select,\"\",'1) Select data'!AA557)","v":""},0,"",{"$f":"IF(AND($A581<=n_select,Validation!H$8,B581-C581*R_s<=V_ex1),B581-C581*R_s,0)","v":{"$error":"#VALUE!"}},{"$error":"#VALUE!"}]
[543,{"$f":"IF($A582>n_select,\"\",'1) Select data'!Z558)","v":""},{"$f":"IF($A582>n_select,\"\",'1) Select data'!AA558)","v":""},0,"",{"$f":"IF(AND($A582<=n_select,Validation!H$8,B582-C582*R_s<=V_ex1),B582-C582*R_s,0)","v":{"$error":"#VALUE!"}},{"$error":"#VALUE!"}]
[544,{"$f":"IF($A583>n_select,\"\",'1) Select data'!Z559)","v":""},{"$f":"IF($A583>n_select,\"\",'1) Select data'!AA559)","v":""},0,"",{"$f":"IF(AND($A583<=n_select,Validation!H$8,B583-C583*R_s<=V_ex1),B583-C583*R_s,0)","v":{"$error":"#VALUE!"}},{"$error":"#VALUE!"}]
[545,{"$f":"IF($A584>n_select,\"\",'1) Select data'!Z560)","v":""},{"$f":"IF($A584>n_select,\"\",'1) Select data'!AA560)","v":""},0,"",{"$f":"IF(AND($A584<=n_select,Validation!H$8,B584-C584*R_s<=V_ex1),B584-C584*R_s,0)","v":{"$error":"#VALUE!"}},{"$error":"#VALUE!"}]
[546,{"$f":"IF($A585>n_select,\"\",'1) Select data'!Z561)","v":""},{"$f":"IF($A585>n_select,\"\",'1) Select data'!AA561)","v":""},0,"",{"$f":"IF(AND($A585<=n_select,Validation!H$8,B585-C585*R_s<=V_ex1),B585-C585*R_s,0)","v":{"$error":"#VALUE!"}},{"$error":"#VALUE!"}]
[547,{"$f":"IF($A586>n_select,\"\",'1) Select data'!Z562)","v":""},{"$f":"IF($A586>n_select,\"\",'1) Select data'!AA562)","v":""},0,"",{"$f":"IF(AND($A586<=n_select,Validation!H$8,B586-C586*R_s<=V_ex1),B586-C586*R_s,0)","v":{"$error":"#VALUE!"}},{"$error":"#VALUE!"}]
[548,{"$f":"IF($A587>n_select,\"\",'1) Select data'!Z563)","v":""},{"$f":"IF($A587>n_select,\"\",'1) Select data'!AA563)","v":""},0,"",{"$f":"IF(AND($A587<=n_select,Validation!H$8,B587-C587*R_s<=V_ex1),B587-C587*R_s,0)","v":{"$error":"#VALUE!"}},{"$error":"#VALUE!"}]
[549,{"$f":"IF($A588>n_select,\"\",'1) Select data'!Z564)","v":""},{"$f":"IF($A588>n_select,\"\",'1) Select data'!AA564)","v":""},0,"",{"$f":"IF(AND($A588<=n_select,Validation!H$8,B588-C588*R_s<=V_ex1),B588-C588*R_s,0)","v":{"$error":"#VALUE!"}},{"$error":"#VALUE!"}]
[550,{"$f":"IF($A589>n_select,\"\",'1) Select data'!Z565)","v":""},{"$f":"IF($A589>n_select,\"\",'1) Select data'!AA565)","v":""},0,"",{"$f":"IF(AND($A589<=n_select,Validation!H$8,B589-C589*R_s<=V_ex1),B589-C589*R_s,0)","v":{"$error":"#VALUE!"}},{"$error":"#VALUE!"}]
[551,{"$f":"IF($A590>n_select,\"\",'1) Select data'!Z566)","v":""},{"$f":"IF($A590>n_select,\"\",'1) Select data'!AA566)","v":""},0,"",{"$f":"IF(AND($A590<=n_select,Validation!H$8,B590-C590*R_s<=V_ex1),B590-C590*R_s,0)","v":{"$error":"#VALUE!"}},{"$error":"#VALUE!"}]
[552,{"$f":"IF($A591>n_select,\"\",'1) Select data'!Z567)","v":""},{"$f":"IF($A591>n_select,\"\",'1) Select data'!AA567)","v":""},0,"",{"$f":"IF(AND($A591<=n_select,Validation!H$8,B591-C591*R_s<=V_ex1),B591-C591*R_s,0)","v":{"$error":"#VALUE!"}},{"$error":"#VALUE!"}]
[553,{"$f":"IF($A592>n_select,\"\",'1) Select data'!Z568)","v":""},{"$f":"IF($A592>n_select,\"\",'1) Select data'!AA568)","v":""},0,"",{"$f":"IF(AND($A592<=n_select,Validation!H$8,B592-C592*R_s<=V_ex1),B592-C592*R_s,0)","v":{"$error":"#VALUE!"}},{"$error":"#VALUE!"}]
[554,{"$f":"IF($A593>n_select,\"\",'1) Select data'!Z569)","v":""},{"$f":"IF($A593>n_select,\"\",'1) Select data'!AA569)","v":""},0,"",{"$f":"IF(AND($A593<=n_select,Validation!H$8,B593-C593*R_s<=V_ex1),B593-C593*R_s,0)","v":{"$error":"#VALUE!"}},{"$error":"#VALUE!"}]
[555,{"$f":"IF($A594>n_select,\"\",'1) Select data'!Z570)","v":""},{"$f":"IF($A594>n_select,\"\",'1) Select data'!AA570)","v":""},0,"",{"$f":"IF(AND($A594<=n_select,Validation!H$8,B594-C594*R_s<=V_ex1),B594-C594*R_s,0)","v":{"$error":"#VALUE!"}},{"$error":"#VALUE!"}]
[556,{"$f":"IF($A595>n_select,\"\",'1) Select data'!Z571)","v":""},{"$f":"IF($A595>n_select,\"\",'1) Select data'!AA571)","v":""},0,"",{"$f":"IF(AND($A595<=n_select,Validation!H$8,B595-C595*R_s<=V_ex1),B595-C595*R_s,0)","v":{"$error":"#VALUE!"}},{"$error":"#VALUE!"}]
[557,{"$f":"IF($A596>n_select,\"\",'1) Select data'!Z572)","v":""},{"$f":"IF($A596>n_select,\"\",'1) Select data'!AA572)","v":""},0,"",{"$f":"IF(AND($A596<=n_select,Validation!H$8,B596-C596*R_s<=V_ex1),B596-C596*R_s,0)","v":{"$error":"#VALUE!"}},{"$error":"#VALUE!"}]
[558,{"$f":"IF($A597>n_select,\"\",'1) Select data'!Z573)","v":""},{"$f":"IF($A597>n_select,\"\",'1) Select data'!AA573)","v":""},0,"",{"$f":"IF(AND($A597<=n_select,Validation!H$8,B597-C597*R_s<=V_ex1),B597-C597*R_s,0)","v":{"$error":"#VALUE!"}},{"$error":"#VALUE!"}]
[559,{"$f":"IF($A598>n_select,\"\",'1) Select data'!Z574)","v":""},{"$f":"IF($A598>n_select,\"\",'1) Select data'!AA574)","v":""},0,"",{"$f":"IF(AND($A598<=n_select,Validation!H$8,B598-C598*R_s<=V_ex1),B598-C598*R_s,0)","v":{"$error":"#VALUE!"}},{"$error":"#VALUE!"}]
[560,{"$f":"IF($A599>n_select,\"\",'1) Select data'!Z575)","v":""},{"$f":"IF($A599>n_select,\"\",'1) Select data'!AA575)","v":""},0,"",{"$f":"IF(AND($A599<=n_select,Validation!H$8,B599-C599*R_s<=V_ex1),B599-C599*R_s,0)","v":{"$error":"#VALUE!"}},{"$error":"#VALUE!"}]
[561,{"$f":"IF($A600>n_select,\"\",'1) Select data'!Z576)","v":""},{"$f":"IF($A600>n_select,\"\",'1) Select data'!AA576)","v":""},0,"",{"$f":"IF(AND($A600<=n_select,Validation!H$8,B600-C600*R_s<=V_ex1),B600-C600*R_s,0)","v":{"$error":"#VALUE!"}},{"$error":"#VALUE!"}]
[562,{"$f":"IF($A601>n_select,\"\",'1) Select data'!Z577)","v":""},{"$f":"IF($A601>n_select,\"\",'1) Select data'!AA577)","v":""},0,"",{"$f":"IF(AND($A601<=n_select,Validation!H$8,B601-C601*R_s<=V_ex1),B601-C601*R_s,0)","v":{"$error":"#VALUE!"}},{"$error":"#VALUE!"}]
[563,{"$f":"IF($A602>n_select,\"\",'1) Select data'!Z578)","v":""},{"$f":"IF($A602>n_select,\"\",'1) Select data'!AA578)","v":""},0,"",{"$f":"IF(AND($A602<=n_select,Validation!H$8,B602-C602*R_s<=V_ex1),B602-C602*R_s,0)","v":{"$error":"#VALUE!"}},{"$error":"#VALUE!"}]
[564,{"$f":"IF($A603>n_select,\"\",'1) Select data'!Z579)","v":""},{"$f":"IF($A603>n_select,\"\",'1) Select data'!AA579)","v":""},0,"",{"$f":"IF(AND($A603<=n_select,Validation!H$8,B603-C603*R_s<=V_ex1),B603-C603*R_s,0)","v":{"$error":"#VALUE!"}},{"$error":"#VALUE!"}]
[565,{"$f":"IF($A604>n_select,\"\",'1) Select data'!Z580)","v":""},{"$f":"IF($A604>n_select,\"\",'1) Select data'!AA580)","v":""},0,"",{"$f":"IF(AND($A604<=n_select,Validation!H$8,B604-C604*R_s<=V_ex1),B604-C604*R_s,0)","v":{"$error":"#VALUE!"}},{"$error":"#VALUE!"}]
[566,{"$f":"IF($A605>n_select,\"\",'1) Select data'!Z581)","v":""},{"$f":"IF($A605>n_select,\"\",'1) Select data'!AA581)","v":""},0,"",{"$f":"IF(AND($A605<=n_select,Validation!H$8,B605-C605*R_s<=V_ex1),B605-C605*R_s,0)","v":{"$error":"#VALUE!"}},{"$error":"#VALUE!"}]
[567,{"$f":"IF($A606>n_select,\"\",'1) Select data'!Z582)","v":""},{"$f":"IF($A606>n_select,\"\",'1) Select data'!AA582)","v":""},0,"",{"$f":"IF(AND($A606<=n_select,Validation!H$8,B606-C606*R_s<=V_ex1),B606-C606*R_s,0)","v":{"$error":"#VALUE!"}},{"$error":"#VALUE!"}]
[568,{"$f":"IF($A607>n_select,\"\",'1) Select data'!Z583)","v":""},{"$f":"IF($A607>n_select,\"\",'1) Select data'!AA583)","v":""},0,"",{"$f":"IF(AND($A607<=n_select,Validation!H$8,B607-C607*R_s<=V_ex1),B607-C607*R_s,0)","v":{"$error":"#VALUE!"}},{"$error":"#VALUE!"}]
[569,{"$f":"IF($A608>n_select,\"\",'1) Select data'!Z584)","v":""},{"$f":"IF($A608>n_select,\"\",'1) Select data'!AA584)","v":""},0,"",{"$f":"IF(AND($A608<=n_select,Validation!H$8,B608-C608*R_s<=V_ex1),B608-C608*R_s,0)","v":{"$error":"#VALUE!"}},{"$error":"#VALUE!"}]
[570,{"$f":"IF($A609>n_select,\"\",'1) Select data'!Z585)","v":""},{"$f":"IF($A609>n_select,\"\",'1) Select data'!AA585)","v":""},0,"",{"$f":"IF(AND($A609<=n_select,Validation!H$8,B609-C609*R_s<=V_ex1),B609-C609*R_s,0)","v":{"$error":"#VALUE!"}},{"$error":"#VALUE!"}]
[571,{"$f":"IF($A610>n_select,\"\",'1) Select data'!Z586)","v":""},{"$f":"IF($A610>n_select,\"\",'1) Select data'!AA586)","v":""},0,"",{"$f":"IF(AND($A610<=n_select,Validation!H$8,B610-C610*R_s<=V_ex1),B610-C610*R_s,0)","v":{"$error":"#VALUE!"}},{"$error":"#VALUE!"}]
[572,{"$f":"IF($A611>n_select,\"\",'1) Select data'!Z587)","v":""},{"$f":"IF($A611>n_select,\"\",'1) Select data'!AA587)","v":""},0,"",{"$f":"IF(AND($A611<=n_select,Validation!H$8,B611-C611*R_s<=V_ex1),B611-C611*R_s,0)","v":{"$error":"#VALUE!"}},{"$error":"#VALUE!"}]
[573,{"$f":"IF($A612>n_select,\"\",'1) Select data'!Z588)","v":""},{"$f":"IF($A612>n_select,\"\",'1) Select data'!AA588)","v":""},0,"",{"$f":"IF(AND($A612<=n_select,Validation!H$8,B612-C612*R_s<=V_ex1),B612-C612*R_s,0)","v":{"$error":"#VALUE!"}},{"$error":"#VALUE!"}]
[574,{"$f":"IF($A613>n_select,\"\",'1) Select data'!Z589)","v":""},{"$f":"IF($A613>n_select,\"\",'1) Select data'!AA589)","v":""},0,"",{"$f":"IF(AND($A613<=n_select,Validation!H$8,B613-C613*R_s<=V_ex1),B613-C613*R_s,0)","v":{"$error":"#VALUE!"}},{"$error":"#VALUE!"}]
[575,{"$f":"IF($A614>n_select,\"\",'1) Select data'!Z590)","v":""},{"$f":"IF($A614>n_select,\"\",'1) Select data'!AA590)","v":""},0,"",{"$f":"IF(AND($A614<=n_select,Validation!H$8,B614-C614*R_s<=V_ex1),B614-C614*R_s,0)","v":{"$error":"#VALUE!"}},{"$error":"#VALUE!"}]
[576,{"$f":"IF($A615>n_select,\"\",'1) Select data'!Z591)","v":""},{"$f":"IF($A615>n_select,\"\",'1) Select data'!AA591)","v":""},0,"",{"$f":"IF(AND($A615<=n_select,Validation!H$8,B615-C615*R_s<=V_ex1),B615-C615*R_s,0)","v":{"$error":"#VALUE!"}},{"$error":"#VALUE!"}]
[577,{"$f":"IF($A616>n_select,\"\",'1) Select data'!Z592)","v":""},{"$f":"IF($A616>n_select,\"\",'1) Select data'!AA592)","v":""},{"$f":"IF($A616>n_select,0,B616-C616*R_s)","v":0},{"$f":"IF($A616>n_select,\"\",C616)","v":""},{"$f":"IF(AND($A616<=n_select,Validation!H$8,B616-C616*R_s<=V_ex1),B616-C616*R_s,0)","v":{"$error":"#VALUE!"}},{"$error":"#VALUE!"}]
[578,{"$f":"IF($A617>n_select,\"\",'1) Select data'!Z593)","v":""},{"$f":"IF($A617>n_select,\"\",'1) Select data'!AA593)","v":""},0,"",{"$f":"IF(AND($A617<=n_select,Validation!H$8,B617-C617*R_s<=V_ex1),B617-C617*R_s,0)","v":{"$error":"#VALUE!"}},{"$error":"#VALUE!"}]
[579,{"$f":"IF($A618>n_select,\"\",'1) Select data'!Z594)","v":""},{"$f":"IF($A618>n_select,\"\",'1) Select data'!AA594)","v":""},0,"",{"$f":"IF(AND($A618<=n_select,Validation!H$8,B618-C618*R_s<=V_ex1),B618-C618*R_s,0)","v":{"$error":"#VALUE!"}},{"$error":"#VALUE!"}]
[580,{"$f":"IF($A619>n_select,\"\",'1) Select data'!Z595)","v":""},{"$f":"IF($A619>n_select,\"\",'1) Select data'!AA595)","v":""},0,"",{"$f":"IF(AND($A619<=n_select,Validation!H$8,B619-C619*R_s<=V_ex1),B619-C619*R_s,0)","v":{"$error":"#VALUE!"}},{"$f":"IF(F619<>0,E619,\"\")","v":{"$error":"#VALUE!"}}]
[581,{"$f":"IF($A620>n_select,\"\",'1) Select data'!Z596)","v":""},{"$f":"IF($A620>n_select,\"\",'1) Select data'!AA596)","v":""},0,"",{"$f":"IF(AND($A620<=n_select,Validation!H$8,B620-C620*R_s<=V_ex1),B620-C620*R_s,0)","v":{"$error":"#VALUE!"}},{"$error":"#VALUE!"}]
[582,{"$f":"IF($A621>n_select,\"\",'1) Select data'!Z597)","v":""},{"$f":"IF($A621>n_select,\"\",'1) Select data'!AA597)","v":""},0,"",{"$f":"IF(AND($A621<=n_select,Validation!H$8,B621-C621*R_s<=V_ex1),B621-C621*R_s,0)","v":{"$error":"#VALUE!"}},{"$error":"#VALUE!"}]
[583,{"$f":"IF($A622>n_select,\"\",'1) Select data'!Z598)","v":""},{"$f":"IF($A622>n_select,\"\",'1) Select data'!AA598)","v":""},0,"",{"$f":"IF(AND($A622<=n_select,Validation!H$8,B622-C622*R_s<=V_ex1),B622-C622*R_s,0)","v":{"$error":"#VALUE!"}},{"$error":"#VALUE!"}]
[584,{"$f":"IF($A623>n_select,\"\",'1) Select data'!Z599)","v":""},{"$f":"IF($A623>n_select,\"\",'1) Select data'!AA599)","v":""},0,"",{"$f":"IF(AND($A623<=n_select,Validation!H$8,B623-C623*R_s<=V_ex1),B623-C623*R_s,0)","v":{"$error":"#VALUE!"}},{"$error":"#VALUE!"}]
[585,{"$f":"IF($A624>n_select,\"\",'1) Select data'!Z600)","v":""},{"$f":"IF($A624>n_select,\"\",'1) Select data'!AA600)","v":""},0,"",{"$f":"IF(AND($A624<=n_select,Validation!H$8,B624-C624*R_s<=V_ex1),B624-C624*R_s,0)","v":{"$error":"#VALUE!"}},{"$error":"#VALUE!"}]
[586,{"$f":"IF($A625>n_select,\"\",'1) Select data'!Z601)","v":""},{"$f":"IF($A625>n_select,\"\",'1) Select data'!AA601)","v":""},0,"",{"$f":"IF(AND($A625<=n_select,Validation!H$8,B625-C625*R_s<=V_ex1),B625-C625*R_s,0)","v":{"$error":"#VALUE!"}},{"$error":"#VALUE!"}]
[587,{"$f":"IF($A626>n_select,\"\",'1) Select data'!Z602)","v":""},{"$f":"IF($A626>n_select,\"\",'1) Select data'!AA602)","v":""},0,"",{"$f":"IF(AND($A626<=n_select,Validation!H$8,B626-C626*R_s<=V_ex1),B626-C626*R_s,0)","v":{"$error":"#VALUE!"}},{"$error":"#VALUE!"}]
[588,{"$f":"IF($A627>n_select,\"\",'1) Select data'!Z603)","v":""},{"$f":"IF($A627>n_select,\"\",'1) Select data'!AA603)","v":""},0,"",{"$f":"IF(AND($A627<=n_select,Validation!H$8,B627-C627*R_s<=V_ex1),B627-C627*R_s,0)","v":{"$error":"#VALUE!"}},{"$error":"#VALUE!"}]
[589,{"$f":"IF($A628>n_select,\"\",'1) Select data'!Z604)","v":""},{"$f":"IF($A628>n_select,\"\",'1) Select data'!AA604)","v":""},0,"",{"$f":"IF(AND($A628<=n_select,Validation!H$8,B628-C628*R_s<=V_ex1),B628-C628*R_s,0)","v":{"$error":"#VALUE!"}},{"$error":"#VALUE!"}]
[590,{"$f":"IF($A629>n_select,\"\",'1) Select data'!Z605)","v":""},{"$f":"IF($A629>n_select,\"\",'1) Select data'!AA605)","v":""},0,"",{"$f":"IF(AND($A629<=n_select,Validation!H$8,B629-C629*R_s<=V_ex1),B629-C629*R_s,0)","v":{"$error":"#VALUE!"}},{"$error":"#VALUE!"}]
[591,{"$f":"IF($A630>n_select,\"\",'1) Select data'!Z606)","v":""},{"$f":"IF($A630>n_select,\"\",'1) Select data'!AA606)","v":""},0,"",{"$f":"IF(AND($A630<=n_select,Validation!H$8,B630-C630*R_s<=V_ex1),B630-C630*R_s,0)","v":{"$error":"#VALUE!"}},{"$error":"#VALUE!"}]
[592,{"$f":"IF($A631>n_select,\"\",'1) Select data'!Z607)","v":""},{"$f":"IF($A631>n_select,\"\",'1) Select data'!AA607)","v":""},0,"",{"$f":"IF(AND($A631<=n_select,Validation!H$8,B631-C631*R_s<=V_ex1),B631-C631*R_s,0)","v":{"$error":"#VALUE!"}},{"$error":"#VALUE!"}]
[593,{"$f":"IF($A632>n_select,\"\",'1) Select data'!Z608)","v":""},{"$f":"IF($A632>n_select,\"\",'1) Select data'!AA608)","v":""},0,"",{"$f":"IF(AND($A632<=n_select,Validation!H$8,B632-C632*R_s<=V_ex1),B632-C632*R_s,0)","v":{"$error":"#VALUE!"}},{"$error":"#VALUE!"}]
[594,{"$f":"IF($A633>n_select,\"\",'1) Select data'!Z609)","v":""},{"$f":"IF($A633>n_select,\"\",'1) Select data'!AA609)","v":""},0,"",{"$f":"IF(AND($A633<=n_select,Validation!H$8,B633-C633*R_s<=V_ex1),B633-C633*R_s,0)","v":{"$error":"#VALUE!"}},{"$error":"#VALUE!"}]
[595,{"$f":"IF($A634>n_select,\"\",'1) Select data'!Z610)","v":""},{"$f":"IF($A634>n_select,\"\",'1) Select data'!AA610)","v":""},0,"",{"$f":"IF(AND($A634<=n_select,Validation!H$8,B634-C634*R_s<=V_ex1),B634-C634*R_s,0)","v":{"$error":"#VALUE!"}},{"$error":"#VALUE!"}]
[596,{"$f":"IF($A635>n_select,\"\",'1) Select data'!Z611)","v":""},{"$f":"IF($A635>n_select,\"\",'1) Select data'!AA611)","v":""},0,"",{"$f":"IF(AND($A635<=n_select,Validation!H$8,B635-C635*R_s<=V_ex1),B635-C635*R_s,0)","v":{"$error":"#VALUE!"}},{"$error":"#VALUE!"}]
[597,{"$f":"IF($A636>n_select,\"\",'1) Select data'!Z612)","v":""},{"$f":"IF($A636>n_select,\"\",'1) Select data'!AA612)","v":""},0,"",{"$f":"IF(AND($A636<=n_select,Validation!H$8,B636-C636*R_s<=V_ex1),B636-C636*R_s,0)","v":{"$error":"#VALUE!"}},{"$error":"#VALUE!"}]
[598,{"$f":"IF($A637>n_select,\"\",'1) Select data'!Z613)","v":""},{"$f":"IF($A637>n_select,\"\",'1) Select data'!AA613)","v":""},0,"",{"$f":"IF(AND($A637<=n_select,Validation!H$8,B637-C637*R_s<=V_ex1),B637-C637*R_s,0)","v":{"$error":"#VALUE!"}},{"$error":"#VALUE!"}]
[599,{"$f":"IF($A638>n_select,\"\",'1) Select data'!Z614)","v":""},{"$f":"IF($A638>n_select,\"\",'1) Select data'!AA614)","v":""},0,"",{"$f":"IF(AND($A638<=n_select,Validation!H$8,B638-C638*R_s<=V_ex1),B638-C638*R_s,0)","v":{"$error":"#VALUE!"}},{"$error":"#VALUE!"}]
[600,{"$f":"IF($A639>n_select,\"\",'1) Select data'!Z615)","v":""},{"$f":"IF($A639>n_select,\"\",'1) Select data'!AA615)","v":""},0,"",{"$f":"IF(AND($A639<=n_select,Validation!H$8,B639-C639*R_s<=V_ex1),B639-C639*R_s,0)","v":{"$error":"#VALUE!"}},{"$error":"#VALUE!"}]
[601,{"$f":"IF($A640>n_select,\"\",'1) Select data'!Z616)","v":""},{"$f":"IF($A640>n_select,\"\",'1) Select data'!AA616)","v":""},0,"",{"$f":"IF(AND($A640<=n_select,Validation!H$8,B640-C640*R_s<=V_ex1),B640-C640*R_s,0)","v":{"$error":"#VALUE!"}},{"$error":"#VALUE!"}]
[602,{"$f":"IF($A641>n_select,\"\",'1) Select data'!Z617)","v":""},{"$f":"IF($A641>n_select,\"\",'1) Select data'!AA617)","v":""},0,"",{"$f":"IF(AND($A641<=n_select,Validation!H$8,B641-C641*R_s<=V_ex1),B641-C641*R_s,0)","v":{"$error":"#VALUE!"}},{"$error":"#VALUE!"}]
[603,{"$f":"IF($A642>n_select,\"\",'1) Select data'!Z618)","v":""},{"$f":"IF($A642>n_select,\"\",'1) Select data'!AA618)","v":""},0,"",{"$f":"IF(AND($A642<=n_select,Validation!H$8,B642-C642*R_s<=V_ex1),B642-C642*R_s,0)","v":{"$error":"#VALUE!"}},{"$error":"#VALUE!"}]
[604,{"$f":"IF($A643>n_select,\"\",'1) Select data'!Z619)","v":""},{"$f":"IF($A643>n_select,\"\",'1) Select data'!AA619)","v":""},0,"",{"$f":"IF(AND($A643<=n_select,Validation!H$8,B643-C643*R_s<=V_ex1),B643-C643*R_s,0)","v":{"$error":"#VALUE!"}},{"$error":"#VALUE!"}]
[605,{"$f":"IF($A644>n_select,\"\",'1) Select data'!Z620)","v":""},{"$f":"IF($A644>n_select,\"\",'1) Select data'!AA620)","v":""},0,"",{"$f":"IF(AND($A644<=n_select,Validation!H$8,B644-C644*R_s<=V_ex1),B644-C644*R_s,0)","v":{"$error":"#VALUE!"}},{"$error":"#VALUE!"}]
[606,{"$f":"IF($A645>n_select,\"\",'1) Select data'!Z621)","v":""},{"$f":"IF($A645>n_select,\"\",'1) Select data'!AA621)","v":""},0,"",{"$f":"IF(AND($A645<=n_select,Validation!H$8,B645-C645*R_s<=V_ex1),B645-C645*R_s,0)","v":{"$error":"#VALUE!"}},{"$error":"#VALUE!"}]
[607,{"$f":"IF($A646>n_select,\"\",'1) Select data'!Z622)","v":""},{"$f":"IF($A646>n_select,\"\",'1) Select data'!AA622)","v":""},0,"",{"$f":"IF(AND($A646<=n_select,Validation!H$8,B646-C646*R_s<=V_ex1),B646-C646*R_s,0)","v":{"$error":"#VALUE!"}},{"$error":"#VALUE!"}]
[608,{"$f":"IF($A647>n_select,\"\",'1) Select data'!Z623)","v":""},{"$f":"IF($A647>n_select,\"\",'1) Select data'!AA623)","v":""},0,"",{"$f":"IF(AND($A647<=n_select,Validation!H$8,B647-C647*R_s<=V_ex1),B647-C647*R_s,0)","v":{"$error":"#VALUE!"}},{"$error":"#VALUE!"}]
[609,{"$f":"IF($A648>n_select,\"\",'1) Select data'!Z624)","v":""},{"$f":"IF($A648>n_select,\"\",'1) Select data'!AA624)","v":""},0,"",{"$f":"IF(AND($A648<=n_select,Validation!H$8,B648-C648*R_s<=V_ex1),B648-C648*R_s,0)","v":{"$error":"#VALUE!"}},{"$error":"#VALUE!"}]
[610,{"$f":"IF($A649>n_select,\"\",'1) Select data'!Z625)","v":""},{"$f":"IF($A649>n_select,\"\",'1) Select data'!AA625)","v":""},0,"",{"$f":"IF(AND($A649<=n_select,Validation!H$8,B649-C649*R_s<=V_ex1),B649-C649*R_s,0)","v":{"$error":"#VALUE!"}},{"$error":"#VALUE!"}]
[611,{"$f":"IF($A650>n_select,\"\",'1) Select data'!Z626)","v":""},{"$f":"IF($A650>n_select,\"\",'1) Select data'!AA626)","v":""},0,"",{"$f":"IF(AND($A650<=n_select,Validation!H$8,B650-C650*R_s<=V_ex1),B650-C650*R_s,0)","v":{"$error":"#VALUE!"}},{"$error":"#VALUE!"}]
[612,{"$f":"IF($A651>n_select,\"\",'1) Select data'!Z627)","v":""},{"$f":"IF($A651>n_select,\"\",'1) Select data'!AA627)","v":""},0,"",{"$f":"IF(AND($A651<=n_select,Validation!H$8,B651-C651*R_s<=V_ex1),B651-C651*R_s,0)","v":{"$error":"#VALUE!"}},{"$error":"#VALUE!"}]
[613,{"$f":"IF($A652>n_select,\"\",'1) Select data'!Z628)","v":""},{"$f":"IF($A652>n_select,\"\",'1) Select data'!AA628)","v":""},0,"",{"$f":"IF(AND($A652<=n_select,Validation!H$8,B652-C652*R_s<=V_ex1),B652-C652*R_s,0)","v":{"$error":"#VALUE!"}},{"$error":"#VALUE!"}]
[614,{"$f":"IF($A653>n_select,\"\",'1) Select data'!Z629)","v":""},{"$f":"IF($A653>n_select,\"\",'1) Select data'!AA629)","v":""},0,"",{"$f":"IF(AND($A653<=n_select,Validation!H$8,B653-C653*R_s<=V_ex1),B653-C653*R_s,0)","v":{"$error":"#VALUE!"}},{"$error":"#VALUE!"}]
[615,{"$f":"IF($A654>n_select,\"\",'1) Select data'!Z630)","v":""},{"$f":"IF($A654>n_select,\"\",'1) Select data'!AA630)","v":""},0,"",{"$f":"IF(AND($A654<=n_select,Validation!H$8,B654-C654*R_s<=V_ex1),B654-C654*R_s,0)","v":{"$error":"#VALUE!"}},{"$error":"#VALUE!"}]
[616,{"$f":"IF($A655>n_select,\"\",'1) Select data'!Z631)","v":""},{"$f":"IF($A655>n_select,\"\",'1) Select data'!AA631)","v":""},0,"",{"$f":"IF(AND($A655<=n_select,Validation!H$8,B655-C655*R_s<=V_ex1),B655-C655*R_s,0)","v":{"$error":"#VALUE!"}},{"$error":"#VALUE!"}]
[617,{"$f":"IF($A656>n_select,\"\",'1) Select data'!Z632)","v":""},{"$f":"IF($A656>n_select,\"\",'1) Select data'!AA632)","v":""},0,"",{"$f":"IF(AND($A656<=n_select,Validation!H$8,B656-C656*R_s<=V_ex1),B656-C656*R_s,0)","v":{"$error":"#VALUE!"}},{"$error":"#VALUE!"}]
[618,{"$f":"IF($A657>n_select,\"\",'1) Select data'!Z633)","v":""},{"$f":"IF($A657>n_select,\"\",'1) Select data'!AA633)","v":""},0,"",{"$f":"IF(AND($A657<=n_select,Validation!H$8,B657-C657*R_s<=V_ex1),B657-C657*R_s,0)","v":{"$error":"#VALUE!"}},{"$error":"#VALUE!"}]
[619,{"$f":"IF($A658>n_select,\"\",'1) Select data'!Z634)","v":""},{"$f":"IF($A658>n_select,\"\",'1) Select data'!AA634)","v":""},0,"",{"$f":"IF(AND($A658<=n_select,Validation!H$8,B658-C658*R_s<=V_ex1),B658-C658*R_s,0)","v":{"$error":"#VALUE!"}},{"$error":"#VALUE!"}]
[620,{"$f":"IF($A659>n_select,\"\",'1) Select data'!Z635)","v":""},{"$f":"IF($A659>n_select,\"\",'1) Select data'!AA635)","v":""},0,"",{"$f":"IF(AND($A659<=n_select,Validation!H$8,B659-C659*R_s<=V_ex1),B659-C659*R_s,0)","v":{"$error":"#VALUE!"}},{"$error":"#VALUE!"}]
[621,{"$f":"IF($A660>n_select,\"\",'1) Select data'!Z636)","v":""},{"$f":"IF($A660>n_select,\"\",'1) Select data'!AA636)","v":""},0,"",{"$f":"IF(AND($A660<=n_select,Validation!H$8,B660-C660*R_s<=V_ex1),B660-C660*R_s,0)","v":{"$error":"#VALUE!"}},{"$error":"#VALUE!"}]
[622,{"$f":"IF($A661>n_select,\"\",'1) Select data'!Z637)","v":""},{"$f":"IF($A661>n_select,\"\",'1) Select data'!AA637)","v":""},0,"",{"$f":"IF(AND($A661<=n_select,Validation!H$8,B661-C661*R_s<=V_ex1),B661-C661*R_s,0)","v":{"$error":"#VALUE!"}},{"$error":"#VALUE!"}]
[623,{"$f":"IF($A662>n_select,\"\",'1) Select data'!Z638)","v":""},{"$f":"IF($A662>n_select,\"\",'1) Select data'!AA638)","v":""},0,"",{"$f":"IF(AND($A662<=n_select,Validation!H$8,B662-C662*R_s<=V_ex1),B662-C662*R_s,0)","v":{"$error":"#VALUE!"}},{"$error":"#VALUE!"}]
[624,{"$f":"IF($A663>n_select,\"\",'1) Select data'!Z639)","v":""},{"$f":"IF($A663>n_select,\"\",'1) Select data'!AA639)","v":""},0,"",{"$f":"IF(AND($A663<=n_select,Validation!H$8,B663-C663*R_s<=V_ex1),B663-C663*R_s,0)","v":{"$error":"#VALUE!"}},{"$error":"#VALUE!"}]
[625,{"$f":"IF($A664>n_select,\"\",'1) Select data'!Z640)","v":""},{"$f":"IF($A664>n_select,\"\",'1) Select data'!AA640)","v":""},0,"",{"$f":"IF(AND($A664<=n_select,Validation!H$8,B664-C664*R_s<=V_ex1),B664-C664*R_s,0)","v":{"$error":"#VALUE!"}},{"$error":"#VALUE!"}]
[626,{"$f":"IF($A665>n_select,\"\",'1) Select data'!Z641)","v":""},{"$f":"IF($A665>n_select,\"\",'1) Select data'!AA641)","v":""},0,"",{"$f":"IF(AND($A665<=n_select,Validation!H$8,B665-C665*R_s<=V_ex1),B665-C665*R_s,0)","v":{"$error":"#VALUE!"}},{"$error":"#VALUE!"}]
[627,{"$f":"IF($A666>n_select,\"\",'1) Select data'!Z642)","v":""},{"$f":"IF($A666>n_select,\"\",'1) Select data'!AA642)","v":""},0,"",{"$f":"IF(AND($A666<=n_select,Validation!H$8,B666-C666*R_s<=V_ex1),B666-C666*R_s,0)","v":{"$error":"#VALUE!"}},{"$error":"#VALUE!"}]
[628,{"$f":"IF($A667>n_select,\"\",'1) Select data'!Z643)","v":""},{"$f":"IF($A667>n_select,\"\",'1) Select data'!AA643)","v":""},0,"",{"$f":"IF(AND($A667<=n_select,Validation!H$8,B667-C667*R_s<=V_ex1),B667-C667*R_s,0)","v":{"$error":"#VALUE!"}},{"$error":"#VALUE!"}]
[629,{"$f":"IF($A668>n_select,\"\",'1) Select data'!Z644)","v":""},{"$f":"IF($A668>n_select,\"\",'1) Select data'!AA644)","v":""},0,"",{"$f":"IF(AND($A668<=n_select,Validation!H$8,B668-C668*R_s<=V_ex1),B668-C668*R_s,0)","v":{"$error":"#VALUE!"}},{"$error":"#VALUE!"}]
[630,{"$f":"IF($A669>n_select,\"\",'1) Select data'!Z645)","v":""},{"$f":"IF($A669>n_select,\"\",'1) Select data'!AA645)","v":""},0,"",{"$f":"IF(AND($A669<=n_select,Validation!H$8,B669-C669*R_s<=V_ex1),B669-C669*R_s,0)","v":{"$error":"#VALUE!"}},{"$error":"#VALUE!"}]
[631,{"$f":"IF($A670>n_select,\"\",'1) Select data'!Z646)","v":""},{"$f":"IF($A670>n_select,\"\",'1) Select data'!AA646)","v":""},0,"",{"$f":"IF(AND($A670<=n_select,Validation!H$8,B670-C670*R_s<=V_ex1),B670-C670*R_s,0)","v":{"$error":"#VALUE!"}},{"$error":"#VALUE!"}]
[632,{"$f":"IF($A671>n_select,\"\",'1) Select data'!Z647)","v":""},{"$f":"IF($A671>n_select,\"\",'1) Select data'!AA647)","v":""},0,"",{"$f":"IF(AND($A671<=n_select,Validation!H$8,B671-C671*R_s<=V_ex1),B671-C671*R_s,0)","v":{"$error":"#VALUE!"}},{"$error":"#VALUE!"}]
[633,{"$f":"IF($A672>n_select,\"\",'1) Select data'!Z648)","v":""},{"$f":"IF($A672>n_select,\"\",'1) Select data'!AA648)","v":""},0,"",{"$f":"IF(AND($A672<=n_select,Validation!H$8,B672-C672*R_s<=V_ex1),B672-C672*R_s,0)","v":{"$error":"#VALUE!"}},{"$error":"#VALUE!"}]
[634,{"$f":"IF($A673>n_select,\"\",'1) Select data'!Z649)","v":""},{"$f":"IF($A673>n_select,\"\",'1) Select data'!AA649)","v":""},0,"",{"$f":"IF(AND($A673<=n_select,Validation!H$8,B673-C673*R_s<=V_ex1),B673-C673*R_s,0)","v":{"$error":"#VALUE!"}},{"$error":"#VALUE!"}]
[635,{"$f":"IF($A674>n_select,\"\",'1) Select data'!Z650)","v":""},{"$f":"IF($A674>n_select,\"\",'1) Select data'!AA650)","v":""},0,"",{"$f":"IF(AND($A674<=n_select,Validation!H$8,B674-C674*R_s<=V_ex1),B674-C674*R_s,0)","v":{"$error":"#VALUE!"}},{"$error":"#VALUE!"}]
[636,{"$f":"IF($A675>n_select,\"\",'1) Select data'!Z651)","v":""},{"$f":"IF($A675>n_select,\"\",'1) Select data'!AA651)","v":""},0,"",{"$f":"IF(AND($A675<=n_select,Validation!H$8,B675-C675*R_s<=V_ex1),B675-C675*R_s,0)","v":{"$error":"#VALUE!"}},{"$error":"#VALUE!"}]
[637,{"$f":"IF($A676>n_select,\"\",'1) Select data'!Z652)","v":""},{"$f":"IF($A676>n_select,\"\",'1) Select data'!AA652)","v":""},0,"",{"$f":"IF(AND($A676<=n_select,Validation!H$8,B676-C676*R_s<=V_ex1),B676-C676*R_s,0)","v":{"$error":"#VALUE!"}},{"$error":"#VALUE!"}]
[638,{"$f":"IF($A677>n_select,\"\",'1) Select data'!Z653)","v":""},{"$f":"IF($A677>n_select,\"\",'1) Select data'!AA653)","v":""},0,"",{"$f":"IF(AND($A677<=n_select,Validation!H$8,B677-C677*R_s<=V_ex1),B677-C677*R_s,0)","v":{"$error":"#VALUE!"}},{"$error":"#VALUE!"}]
[639,{"$f":"IF($A678>n_select,\"\",'1) Select data'!Z654)","v":""},{"$f":"IF($A678>n_select,\"\",'1) Select data'!AA654)","v":""},0,"",{"$f":"IF(AND($A678<=n_select,Validation!H$8,B678-C678*R_s<=V_ex1),B678-C678*R_s,0)","v":{"$error":"#VALUE!"}},{"$error":"#VALUE!"}]
[640,{"$f":"IF($A679>n_select,\"\",'1) Select data'!Z655)","v":""},{"$f":"IF($A679>n_select,\"\",'1) Select data'!AA655)","v":""},0,"",{"$f":"IF(AND($A679<=n_select,Validation!H$8,B679-C679*R_s<=V_ex1),B679-C679*R_s,0)","v":{"$error":"#VALUE!"}},{"$error":"#VALUE!"}]
[641,{"$f":"IF($A680>n_select,\"\",'1) Select data'!Z656)","v":""},{"$f":"IF($A680>n_select,\"\",'1) Select data'!AA656)","v":""},{"$f":"IF($A680>n_select,0,B680-C680*R_s)","v":0},{"$f":"IF($A680>n_select,\"\",C680)","v":""},{"$f":"IF(AND($A680<=n_select,Validation!H$8,B680-C680*R_s<=V_ex1),B680-C680*R_s,0)","v":{"$error":"#VALUE!"}},{"$error":"#VALUE!"}]
[642,{"$f":"IF($A681>n_select,\"\",'1) Select data'!Z657)","v":""},{"$f":"IF($A681>n_select,\"\",'1) Select data'!AA657)","v":""},0,"",{"$f":"IF(AND($A681<=n_select,Validation!H$8,B681-C681*R_s<=V_ex1),B681-C681*R_s,0)","v":{"$error":"#VALUE!"}},{"$error":"#VALUE!"}]
[643,{"$f":"IF($A682>n_select,\"\",'1) Select data'!Z658)","v":""},{"$f":"IF($A682>n_select,\"\",'1) Select data'!AA658)","v":""},0,"",{"$f":"IF(AND($A682<=n_select,Validation!H$8,B682-C682*R_s<=V_ex1),B682-C682*R_s,0)","v":{"$error":"#VALUE!"}},{"$error":"#VALUE!"}]
[644,{"$f":"IF($A683>n_select,\"\",'1) Select data'!Z659)","v":""},{"$f":"IF($A683>n_select,\"\",'1) Select data'!AA659)","v":""},0,"",{"$f":"IF(AND($A683<=n_select,Validation!H$8,B683-C683*R_s<=V_ex1),B683-C683*R_s,0)","v":{"$error":"#VALUE!"}},{"$f":"IF(F683<>0,E683,\"\")","v":{"$error":"#VALUE!"}}]
[645,{"$f":"IF($A684>n_select,\"\",'1) Select data'!Z660)","v":""},{"$f":"IF($A684>n_select,\"\",'1) Select data'!AA660)","v":""},0,"",{"$f":"IF(AND($A684<=n_select,Validation!H$8,B684-C684*R_s<=V_ex1),B684-C684*R_s,0)","v":{"$error":"#VALUE!"}},{"$error":"#VALUE!"}]
[646,{"$f":"IF($A685>n_select,\"\",'1) Select data'!Z661)","v":""},{"$f":"IF($A685>n_select,\"\",'1) Select data'!AA661)","v":""},0,"",{"$f":"IF(AND($A685<=n_select,Validation!H$8,B685-C685*R_s<=V_ex1),B685-C685*R_s,0)","v":{"$error":"#VALUE!"}},{"$error":"#VALUE!"}]
[647,{"$f":"IF($A686>n_select,\"\",'1) Select data'!Z662)","v":""},{"$f":"IF($A686>n_select,\"\",'1) Select data'!AA662)","v":""},0,"",{"$f":"IF(AND($A686<=n_select,Validation!H$8,B686-C686*R_s<=V_ex1),B686-C686*R_s,0)","v":{"$error":"#VALUE!"}},{"$error":"#VALUE!"}]
[648,{"$f":"IF($A687>n_select,\"\",'1) Select data'!Z663)","v":""},{"$f":"IF($A687>n_select,\"\",'1) Select data'!AA663)","v":""},0,"",{"$f":"IF(AND($A687<=n_select,Validation!H$8,B687-C687*R_s<=V_ex1),B687-C687*R_s,0)","v":{"$error":"#VALUE!"}},{"$error":"#VALUE!"}]
[649,{"$f":"IF($A688>n_select,\"\",'1) Select data'!Z664)","v":""},{"$f":"IF($A688>n_select,\"\",'1) Select data'!AA664)","v":""},0,"",{"$f":"IF(AND($A688<=n_select,Validation!H$8,B688-C688*R_s<=V_ex1),B688-C688*R_s,0)","v":{"$error":"#VALUE!"}},{"$error":"#VALUE!"}]
[650,{"$f":"IF($A689>n_select,\"\",'1) Select data'!Z665)","v":""},{"$f":"IF($A689>n_select,\"\",'1) Select data'!AA665)","v":""},0,"",{"$f":"IF(AND($A689<=n_select,Validation!H$8,B689-C689*R_s<=V_ex1),B689-C689*R_s,0)","v":{"$error":"#VALUE!"}},{"$error":"#VALUE!"}]
[651,{"$f":"IF($A690>n_select,\"\",'1) Select data'!Z666)","v":""},{"$f":"IF($A690>n_select,\"\",'1) Select data'!AA666)","v":""},0,"",{"$f":"IF(AND($A690<=n_select,Validation!H$8,B690-C690*R_s<=V_ex1),B690-C690*R_s,0)","v":{"$error":"#VALUE!"}},{"$error":"#VALUE!"}]
[652,{"$f":"IF($A691>n_select,\"\",'1) Select data'!Z667)","v":""},{"$f":"IF($A691>n_select,\"\",'1) Select data'!AA667)","v":""},0,"",{"$f":"IF(AND($A691<=n_select,Validation!H$8,B691-C691*R_s<=V_ex1),B691-C691*R_s,0)","v":{"$error":"#VALUE!"}},{"$error":"#VALUE!"}]
[653,{"$f":"IF($A692>n_select,\"\",'1) Select data'!Z668)","v":""},{"$f":"IF($A692>n_select,\"\",'1) Select data'!AA668)","v":""},0,"",{"$f":"IF(AND($A692<=n_select,Validation!H$8,B692-C692*R_s<=V_ex1),B692-C692*R_s,0)","v":{"$error":"#VALUE!"}},{"$error":"#VALUE!"}]
[654,{"$f":"IF($A693>n_select,\"\",'1) Select data'!Z669)","v":""},{"$f":"IF($A693>n_select,\"\",'1) Select data'!AA669)","v":""},0,"",{"$f":"IF(AND($A693<=n_select,Validation!H$8,B693-C693*R_s<=V_ex1),B693-C693*R_s,0)","v":{"$error":"#VALUE!"}},{"$error":"#VALUE!"}]
[655,{"$f":"IF($A694>n_select,\"\",'1) Select data'!Z670)","v":""},{"$f":"IF($A694>n_select,\"\",'1) Select data'!AA670)","v":""},0,"",{"$f":"IF(AND($A694<=n_select,Validation!H$8,B694-C694*R_s<=V_ex1),B694-C694*R_s,0)","v":{"$error":"#VALUE!"}},{"$error":"#VALUE!"}]
[656,{"$f":"IF($A695>n_select,\"\",'1) Select data'!Z671)","v":""},{"$f":"IF($A695>n_select,\"\",'1) Select data'!AA671)","v":""},0,"",{"$f":"IF(AND($A695<=n_select,Validation!H$8,B695-C695*R_s<=V_ex1),B695-C695*R_s,0)","v":{"$error":"#VALUE!"}},{"$error":"#VALUE!"}]
[657,{"$f":"IF($A696>n_select,\"\",'1) Select data'!Z672)","v":""},{"$f":"IF($A696>n_select,\"\",'1) Select data'!AA672)","v":""},0,"",{"$f":"IF(AND($A696<=n_select,Validation!H$8,B696-C696*R_s<=V_ex1),B696-C696*R_s,0)","v":{"$error":"#VALUE!"}},{"$error":"#VALUE!"}]
[658,{"$f":"IF($A697>n_select,\"\",'1) Select data'!Z673)","v":""},{"$f":"IF($A697>n_select,\"\",'1) Select data'!AA673)","v":""},0,"",{"$f":"IF(AND($A697<=n_select,Validation!H$8,B697-C697*R_s<=V_ex1),B697-C697*R_s,0)","v":{"$error":"#VALUE!"}},{"$error":"#VALUE!"}]
[659,{"$f":"IF($A698>n_select,\"\",'1) Select data'!Z674)","v":""},{"$f":"IF($A698>n_select,\"\",'1) Select data'!AA674)","v":""},0,"",{"$f":"IF(AND($A698<=n_select,Validation!H$8,B698-C698*R_s<=V_ex1),B698-C698*R_s,0)","v":{"$error":"#VALUE!"}},{"$error":"#VALUE!"}]
[660,{"$f":"IF($A699>n_select,\"\",'1) Select data'!Z675)","v":""},{"$f":"IF($A699>n_select,\"\",'1) Select data'!AA675)","v":""},0,"",{"$f":"IF(AND($A699<=n_select,Validation!H$8,B699-C699*R_s<=V_ex1),B699-C699*R_s,0)","v":{"$error":"#VALUE!"}},{"$error":"#VALUE!"}]
[661,{"$f":"IF($A700>n_select,\"\",'1) Select data'!Z676)","v":""},{"$f":"IF($A700>n_select,\"\",'1) Select data'!AA676)","v":""},0,"",{"$f":"IF(AND($A700<=n_select,Validation!H$8,B700-C700*R_s<=V_ex1),B700-C700*R_s,0)","v":{"$error":"#VALUE!"}},{"$error":"#VALUE!"}]
[662,{"$f":"IF($A701>n_select,\"\",'1) Select data'!Z677)","v":""},{"$f":"IF($A701>n_select,\"\",'1) Select data'!AA677)","v":""},0,"",{"$f":"IF(AND($A701<=n_select,Validation!H$8,B701-C701*R_s<=V_ex1),B701-C701*R_s,0)","v":{"$error":"#VALUE!"}},{"$error":"#VALUE!"}]
[663,{"$f":"IF($A702>n_select,\"\",'1) Select data'!Z678)","v":""},{"$f":"IF($A702>n_select,\"\",'1) Select data'!AA678)","v":""},0,"",{"$f":"IF(AND($A702<=n_select,Validation!H$8,B702-C702*R_s<=V_ex1),B702-C702*R_s,0)","v":{"$error":"#VALUE!"}},{"$error":"#VALUE!"}]
[664,{"$f":"IF($A703>n_select,\"\",'1) Select data'!Z679)","v":""},{"$f":"IF($A703>n_select,\"\",'1) Select data'!AA679)","v":""},0,"",{"$f":"IF(AND($A703<=n_select,Validation!H$8,B703-C703*R_s<=V_ex1),B703-C703*R_s,0)","v":{"$error":"#VALUE!"}},{"$error":"#VALUE!"}]
[665,{"$f":"IF($A704>n_select,\"\",'1) Select data'!Z680)","v":""},{"$f":"IF($A704>n_select,\"\",'1) Select data'!AA680)","v":""},0,"",{"$f":"IF(AND($A704<=n_select,Validation!H$8,B704-C704*R_s<=V_ex1),B704-C704*R_s,0)","v":{"$error":"#VALUE!"}},{"$error":"#VALUE!"}]
[666,{"$f":"IF($A705>n_select,\"\",'1) Select data'!Z681)","v":""},{"$f":"IF($A705>n_select,\"\",'1) Select data'!AA681)","v":""},0,"",{"$f":"IF(AND($A705<=n_select,Validation!H$8,B705-C705*R_s<=V_ex1),B705-C705*R_s,0)","v":{"$error":"#VALUE!"}},{"$error":"#VALUE!"}]
[667,{"$f":"IF($A706>n_select,\"\",'1) Select data'!Z682)","v":""},{"$f":"IF($A706>n_select,\"\",'1) Select data'!AA682)","v":""},0,"",{"$f":"IF(AND($A706<=n_select,Validation!H$8,B706-C706*R_s<=V_ex1),B706-C706*R_s,0)","v":{"$error":"#VALUE!"}},{"$error":"#VALUE!"}]
[668,{"$f":"IF($A707>n_select,\"\",'1) Select data'!Z683)","v":""},{"$f":"IF($A707>n_select,\"\",'1) Select data'!AA683)","v":""},0,"",{"$f":"IF(AND($A707<=n_select,Validation!H$8,B707-C707*R_s<=V_ex1),B707-C707*R_s,0)","v":{"$error":"#VALUE!"}},{"$error":"#VALUE!"}]
[669,{"$f":"IF($A708>n_select,\"\",'1) Select data'!Z684)","v":""},{"$f":"IF($A708>n_select,\"\",'1) Select data'!AA684)","v":""},0,"",{"$f":"IF(AND($A708<=n_select,Validation!H$8,B708-C708*R_s<=V_ex1),B708-C708*R_s,0)","v":{"$error":"#VALUE!"}},{"$error":"#VALUE!"}]
[670,{"$f":"IF($A709>n_select,\"\",'1) Select data'!Z685)","v":""},{"$f":"IF($A709>n_select,\"\",'1) Select data'!AA685)","v":""},0,"",{"$f":"IF(AND($A709<=n_select,Validation!H$8,B709-C709*R_s<=V_ex1),B709-C709*R_s,0)","v":{"$error":"#VALUE!"}},{"$error":"#VALUE!"}]
[671,{"$f":"IF($A710>n_select,\"\",'1) Select data'!Z686)","v":""},{"$f":"IF($A710>n_select,\"\",'1) Select data'!AA686)","v":""},0,"",{"$f":"IF(AND($A710<=n_select,Validation!H$8,B710-C710*R_s<=V_ex1),B710-C710*R_s,0)","v":{"$error":"#VALUE!"}},{"$error":"#VALUE!"}]
[672,{"$f":"IF($A711>n_select,\"\",'1) Select data'!Z687)","v":""},{"$f":"IF($A711>n_select,\"\",'1) Select data'!AA687)","v":""},0,"",{"$f":"IF(AND($A711<=n_select,Validation!H$8,B711-C711*R_s<=V_ex1),B711-C711*R_s,0)","v":{"$error":"#VALUE!"}},{"$error":"#VALUE!"}]
[673,{"$f":"IF($A712>n_select,\"\",'1) Select data'!Z688)","v":""},{"$f":"IF($A712>n_select,\"\",'1) Select data'!AA688)","v":""},0,"",{"$f":"IF(AND($A712<=n_select,Validation!H$8,B712-C712*R_s<=V_ex1),B712-C712*R_s,0)","v":{"$error":"#VALUE!"}},{"$error":"#VALUE!"}]
[674,{"$f":"IF($A713>n_select,\"\",'1) Select data'!Z689)","v":""},{"$f":"IF($A713>n_select,\"\",'1) Select data'!AA689)","v":""},0,"",{"$f":"IF(AND($A713<=n_select,Validation!H$8,B713-C713*R_s<=V_ex1),B713-C713*R_s,0)","v":{"$error":"#VALUE!"}},{"$error":"#VALUE!"}]
[675,{"$f":"IF($A714>n_select,\"\",'1) Select data'!Z690)","v":""},{"$f":"IF($A714>n_select,\"\",'1) Select data'!AA690)","v":""},0,"",{"$f":"IF(AND($A714<=n_select,Validation!H$8,B714-C714*R_s<=V_ex1),B714-C714*R_s,0)","v":{"$error":"#VALUE!"}},{"$error":"#VALUE!"}]
[676,{"$f":"IF($A715>n_select,\"\",'1) Select data'!Z691)","v":""},{"$f":"IF($A715>n_select,\"\",'1) Select data'!AA691)","v":""},0,"",{"$f":"IF(AND($A715<=n_select,Validation!H$8,B715-C715*R_s<=V_ex1),B715-C715*R_s,0)","v":{"$error":"#VALUE!"}},{"$error":"#VALUE!"}]
[677,{"$f":"IF($A716>n_select,\"\",'1) Select data'!Z692)","v":""},{"$f":"IF($A716>n_select,\"\",'1) Select data'!AA692)","v":""},0,"",{"$f":"IF(AND($A716<=n_select,Validation!H$8,B716-C716*R_s<=V_ex1),B716-C716*R_s,0)","v":{"$error":"#VALUE!"}},{"$error":"#VALUE!"}]
[678,{"$f":"IF($A717>n_select,\"\",'1) Select data'!Z693)","v":""},{"$f":"IF($A717>n_select,\"\",'1) Select data'!AA693)","v":""},0,"",{"$f":"IF(AND($A717<=n_select,Validation!H$8,B717-C717*R_s<=V_ex1),B717-C717*R_s,0)","v":{"$error":"#VALUE!"}},{"$error":"#VALUE!"}]
[679,{"$f":"IF($A718>n_select,\"\",'1) Select data'!Z694)","v":""},{"$f":"IF($A718>n_select,\"\",'1) Select data'!AA694)","v":""},0,"",{"$f":"IF(AND($A718<=n_select,Validation!H$8,B718-C718*R_s<=V_ex1),B718-C718*R_s,0)","v":{"$error":"#VALUE!"}},{"$error":"#VALUE!"}]
[680,{"$f":"IF($A719>n_select,\"\",'1) Select data'!Z695)","v":""},{"$f":"IF($A719>n_select,\"\",'1) Select data'!AA695)","v":""},0,"",{"$f":"IF(AND($A719<=n_select,Validation!H$8,B719-C719*R_s<=V_ex1),B719-C719*R_s,0)","v":{"$error":"#VALUE!"}},{"$error":"#VALUE!"}]
[681,{"$f":"IF($A720>n_select,\"\",'1) Select data'!Z696)","v":""},{"$f":"IF($A720>n_select,\"\",'1) Select data'!AA696)","v":""},0,"",{"$f":"IF(AND($A720<=n_select,Validation!H$8,B720-C720*R_s<=V_ex1),B720-C720*R_s,0)","v":{"$error":"#VALUE!"}},{"$error":"#VALUE!"}]
[682,{"$f":"IF($A721>n_select,\"\",'1) Select data'!Z697)","v":""},{"$f":"IF($A721>n_select,\"\",'1) Select data'!AA697)","v":""},0,"",{"$f":"IF(AND($A721<=n_select,Validation!H$8,B721-C721*R_s<=V_ex1),B721-C721*R_s,0)","v":{"$error":"#VALUE!"}},{"$error":"#VALUE!"}]
[683,{"$f":"IF($A722>n_select,\"\",'1) Select data'!Z698)","v":""},{"$f":"IF($A722>n_select,\"\",'1) Select data'!AA698)","v":""},0,"",{"$f":"IF(AND($A722<=n_select,Validation!H$8,B722-C722*R_s<=V_ex1),B722-C722*R_s,0)","v":{"$error":"#VALUE!"}},{"$error":"#VALUE!"}]
[684,{"$f":"IF($A723>n_select,\"\",'1) Select data'!Z699)","v":""},{"$f":"IF($A723>n_select,\"\",'1) Select data'!AA699)","v":""},0,"",{"$f":"IF(AND($A723<=n_select,Validation!H$8,B723-C723*R_s<=V_ex1),B723-C723*R_s,0)","v":{"$error":"#VALUE!"}},{"$error":"#VALUE!"}]
[685,{"$f":"IF($A724>n_select,\"\",'1) Select data'!Z700)","v":""},{"$f":"IF($A724>n_select,\"\",'1) Select data'!AA700)","v":""},0,"",{"$f":"IF(AND($A724<=n_select,Validation!H$8,B724-C724*R_s<=V_ex1),B724-C724*R_s,0)","v":{"$error":"#VALUE!"}},{"$error":"#VALUE!"}]
[686,{"$f":"IF($A725>n_select,\"\",'1) Select data'!Z701)","v":""},{"$f":"IF($A725>n_select,\"\",'1) Select data'!AA701)","v":""},0,"",{"$f":"IF(AND($A725<=n_select,Validation!H$8,B725-C725*R_s<=V_ex1),B725-C725*R_s,0)","v":{"$error":"#VALUE!"}},{"$error":"#VALUE!"}]
[687,{"$f":"IF($A726>n_select,\"\",'1) Select data'!Z702)","v":""},{"$f":"IF($A726>n_select,\"\",'1) Select data'!AA702)","v":""},0,"",{"$f":"IF(AND($A726<=n_select,Validation!H$8,B726-C726*R_s<=V_ex1),B726-C726*R_s,0)","v":{"$error":"#VALUE!"}},{"$error":"#VALUE!"}]
[688,{"$f":"IF($A727>n_select,\"\",'1) Select data'!Z703)","v":""},{"$f":"IF($A727>n_select,\"\",'1) Select data'!AA703)","v":""},0,"",{"$f":"IF(AND($A727<=n_select,Validation!H$8,B727-C727*R_s<=V_ex1),B727-C727*R_s,0)","v":{"$error":"#VALUE!"}},{"$error":"#VALUE!"}]
[689,{"$f":"IF($A728>n_select,\"\",'1) Select data'!Z704)","v":""},{"$f":"IF($A728>n_select,\"\",'1) Select data'!AA704)","v":""},0,"",{"$f":"IF(AND($A728<=n_select,Validation!H$8,B728-C728*R_s<=V_ex1),B728-C728*R_s,0)","v":{"$error":"#VALUE!"}},{"$error":"#VALUE!"}]
[690,{"$f":"IF($A729>n_select,\"\",'1) Select data'!Z705)","v":""},{"$f":"IF($A729>n_select,\"\",'1) Select data'!AA705)","v":""},0,"",{"$f":"IF(AND($A729<=n_select,Validation!H$8,B729-C729*R_s<=V_ex1),B729-C729*R_s,0)","v":{"$error":"#VALUE!"}},{"$error":"#VALUE!"}]
[691,{"$f":"IF($A730>n_select,\"\",'1) Select data'!Z706)","v":""},{"$f":"IF($A730>n_select,\"\",'1) Select data'!AA706)","v":""},0,"",{"$f":"IF(AND($A730<=n_select,Validation!H$8,B730-C730*R_s<=V_ex1),B730-C730*R_s,0)","v":{"$error":"#VALUE!"}},{"$error":"#VALUE!"}]
[692,{"$f":"IF($A731>n_select,\"\",'1) Select data'!Z707)","v":""},{"$f":"IF($A731>n_select,\"\",'1) Select data'!AA707)","v":""},0,"",{"$f":"IF(AND($A731<=n_select,Validation!H$8,B731-C731*R_s<=V_ex1),B731-C731*R_s,0)","v":{"$error":"#VALUE!"}},{"$error":"#VALUE!"}]
[693,{"$f":"IF($A732>n_select,\"\",'1) Select data'!Z708)","v":""},{"$f":"IF($A732>n_select,\"\",'1) Select data'!AA708)","v":""},0,"",{"$f":"IF(AND($A732<=n_select,Validation!H$8,B732-C732*R_s<=V_ex1),B732-C732*R_s,0)","v":{"$error":"#VALUE!"}},{"$error":"#VALUE!"}]
[694,{"$f":"IF($A733>n_select,\"\",'1) Select data'!Z709)","v":""},{"$f":"IF($A733>n_select,\"\",'1) Select data'!AA709)","v":""},0,"",{"$f":"IF(AND($A733<=n_select,Validation!H$8,B733-C733*R_s<=V_ex1),B733-C733*R_s,0)","v":{"$error":"#VALUE!"}},{"$error":"#VALUE!"}]
[695,{"$f":"IF($A734>n_select,\"\",'1) Select data'!Z710)","v":""},{"$f":"IF($A734>n_select,\"\",'1) Select data'!AA710)","v":""},0,"",{"$f":"IF(AND($A734<=n_select,Validation!H$8,B734-C734*R_s<=V_ex1),B734-C734*R_s,0)","v":{"$error":"#VALUE!"}},{"$error":"#VALUE!"}]
[696,{"$f":"IF($A735>n_select,\"\",'1) Select data'!Z711)","v":""},{"$f":"IF($A735>n_select,\"\",'1) Select data'!AA711)","v":""},0,"",{"$f":"IF(AND($A735<=n_select,Validation!H$8,B735-C735*R_s<=V_ex1),B735-C735*R_s,0)","v":{"$error":"#VALUE!"}},{"$error":"#VALUE!"}]
[697,{"$f":"IF($A736>n_select,\"\",'1) Select data'!Z712)","v":""},{"$f":"IF($A736>n_select,\"\",'1) Select data'!AA712)","v":""},0,"",{"$f":"IF(AND($A736<=n_select,Validation!H$8,B736-C736*R_s<=V_ex1),B736-C736*R_s,0)","v":{"$error":"#VALUE!"}},{"$error":"#VALUE!"}]
[698,{"$f":"IF($A737>n_select,\"\",'1) Select data'!Z713)","v":""},{"$f":"IF($A737>n_select,\"\",'1) Select data'!AA713)","v":""},0,"",{"$f":"IF(AND($A737<=n_select,Validation!H$8,B737-C737*R_s<=V_ex1),B737-C737*R_s,0)","v":{"$error":"#VALUE!"}},{"$error":"#VALUE!"}]
[699,{"$f":"IF($A738>n_select,\"\",'1) Select data'!Z714)","v":""},{"$f":"IF($A738>n_select,\"\",'1) Select data'!AA714)","v":""},0,"",{"$f":"IF(AND($A738<=n_select,Validation!H$8,B738-C738*R_s<=V_ex1),B738-C738*R_s,0)","v":{"$error":"#VALUE!"}},{"$error":"#VALUE!"}]
[700,{"$f":"IF($A739>n_select,\"\",'1) Select data'!Z715)","v":""},{"$f":"IF($A739>n_select,\"\",'1) Select data'!AA715)","v":""},0,"",{"$f":"IF(AND($A739<=n_select,Validation!H$8,B739-C739*R_s<=V_ex1),B739-C739*R_s,0)","v":{"$error":"#VALUE!"}},{"$error":"#VALUE!"}]
[701,{"$f":"IF($A740>n_select,\"\",'1) Select data'!Z716)","v":""},{"$f":"IF($A740>n_select,\"\",'1) Select data'!AA716)","v":""},0,"",{"$f":"IF(AND($A740<=n_select,Validation!H$8,B740-C740*R_s<=V_ex1),B740-C740*R_s,0)","v":{"$error":"#VALUE!"}},{"$error":"#VALUE!"}]
[702,{"$f":"IF($A741>n_select,\"\",'1) Select data'!Z717)","v":""},{"$f":"IF($A741>n_select,\"\",'1) Select data'!AA717)","v":""},0,"",{"$f":"IF(AND($A741<=n_select,Validation!H$8,B741-C741*R_s<=V_ex1),B741-C741*R_s,0)","v":{"$error":"#VALUE!"}},{"$error":"#VALUE!"}]
[703,{"$f":"IF($A742>n_select,\"\",'1) Select data'!Z718)","v":""},{"$f":"IF($A742>n_select,\"\",'1) Select data'!AA718)","v":""},0,"",{"$f":"IF(AND($A742<=n_select,Validation!H$8,B742-C742*R_s<=V_ex1),B742-C742*R_s,0)","v":{"$error":"#VALUE!"}},{"$error":"#VALUE!"}]
[704,{"$f":"IF($A743>n_select,\"\",'1) Select data'!Z719)","v":""},{"$f":"IF($A743>n_select,\"\",'1) Select data'!AA719)","v":""},0,"",{"$f":"IF(AND($A743<=n_select,Validation!H$8,B743-C743*R_s<=V_ex1),B743-C743*R_s,0)","v":{"$error":"#VALUE!"}},{"$error":"#VALUE!"}]
[705,{"$f":"IF($A744>n_select,\"\",'1) Select data'!Z720)","v":""},{"$f":"IF($A744>n_select,\"\",'1) Select data'!AA720)","v":""},{"$f":"IF($A744>n_select,0,B744-C744*R_s)","v":0},{"$f":"IF($A744>n_select,\"\",C744)","v":""},{"$f":"IF(AND($A744<=n_select,Validation!H$8,B744-C744*R_s<=V_ex1),B744-C744*R_s,0)","v":{"$error":"#VALUE!"}},{"$error":"#VALUE!"}]
[706,{"$f":"IF($A745>n_select,\"\",'1) Select data'!Z721)","v":""},{"$f":"IF($A745>n_select,\"\",'1) Select data'!AA721)","v":""},0,"",{"$f":"IF(AND($A745<=n_select,Validation!H$8,B745-C745*R_s<=V_ex1),B745-C745*R_s,0)","v":{"$error":"#VALUE!"}},{"$error":"#VALUE!"}]
[707,{"$f":"IF($A746>n_select,\"\",'1) Select data'!Z722)","v":""},{"$f":"IF($A746>n_select,\"\",'1) Select data'!AA722)","v":""},0,"",{"$f":"IF(AND($A746<=n_select,Validation!H$8,B746-C746*R_s<=V_ex1),B746-C746*R_s,0)","v":{"$error":"#VALUE!"}},{"$error":"#VALUE!"}]
[708,{"$f":"IF($A747>n_select,\"\",'1) Select data'!Z723)","v":""},{"$f":"IF($A747>n_select,\"\",'1) Select data'!AA723)","v":""},0,"",{"$f":"IF(AND($A747<=n_select,Validation!H$8,B747-C747*R_s<=V_ex1),B747-C747*R_s,0)","v":{"$error":"#VALUE!"}},{"$f":"IF(F747<>0,E747,\"\")","v":{"$error":"#VALUE!"}}]
[709,{"$f":"IF($A748>n_select,\"\",'1) Select data'!Z724)","v":""},{"$f":"IF($A748>n_select,\"\",'1) Select data'!AA724)","v":""},0,"",{"$f":"IF(AND($A748<=n_select,Validation!H$8,B748-C748*R_s<=V_ex1),B748-C748*R_s,0)","v":{"$error":"#VALUE!"}},{"$error":"#VALUE!"}]
[710,{"$f":"IF($A749>n_select,\"\",'1) Select data'!Z725)","v":""},{"$f":"IF($A749>n_select,\"\",'1) Select data'!AA725)","v":""},0,"",{"$f":"IF(AND($A749<=n_select,Validation!H$8,B749-C749*R_s<=V_ex1),B749-C749*R_s,0)","v":{"$error":"#VALUE!"}},{"$error":"#VALUE!"}]
[711,{"$f":"IF($A750>n_select,\"\",'1) Select data'!Z726)","v":""},{"$f":"IF($A750>n_select,\"\",'1) Select data'!AA726)","v":""},0,"",{"$f":"IF(AND($A750<=n_select,Validation!H$8,B750-C750*R_s<=V_ex1),B750-C750*R_s,0)","v":{"$error":"#VALUE!"}},{"$error":"#VALUE!"}]
[712,{"$f":"IF($A751>n_select,\"\",'1) Select data'!Z727)","v":""},{"$f":"IF($A751>n_select,\"\",'1) Select data'!AA727)","v":""},0,"",{"$f":"IF(AND($A751<=n_select,Validation!H$8,B751-C751*R_s<=V_ex1),B751-C751*R_s,0)","v":{"$error":"#VALUE!"}},{"$error":"#VALUE!"}]
[713,{"$f":"IF($A752>n_select,\"\",'1) Select data'!Z728)","v":""},{"$f":"IF($A752>n_select,\"\",'1) Select data'!AA728)","v":""},0,"",{"$f":"IF(AND($A752<=n_select,Validation!H$8,B752-C752*R_s<=V_ex1),B752-C752*R_s,0)","v":{"$error":"#VALUE!"}},{"$error":"#VALUE!"}]
[714,{"$f":"IF($A753>n_select,\"\",'1) Select data'!Z729)","v":""},{"$f":"IF($A753>n_select,\"\",'1) Select data'!AA729)","v":""},0,"",{"$f":"IF(AND($A753<=n_select,Validation!H$8,B753-C753*R_s<=V_ex1),B753-C753*R_s,0)","v":{"$error":"#VALUE!"}},{"$error":"#VALUE!"}]
[715,{"$f":"IF($A754>n_select,\"\",'1) Select data'!Z730)","v":""},{"$f":"IF($A754>n_select,\"\",'1) Select data'!AA730)","v":""},0,"",{"$f":"IF(AND($A754<=n_select,Validation!H$8,B754-C754*R_s<=V_ex1),B754-C754*R_s,0)","v":{"$error":"#VALUE!"}},{"$error":"#VALUE!"}]
[716,{"$f":"IF($A755>n_select,\"\",'1) Select data'!Z731)","v":""},{"$f":"IF($A755>n_select,\"\",'1) Select data'!AA731)","v":""},0,"",{"$f":"IF(AND($A755<=n_select,Validation!H$8,B755-C755*R_s<=V_ex1),B755-C755*R_s,0)","v":{"$error":"#VALUE!"}},{"$error":"#VALUE!"}]
[717,{"$f":"IF($A756>n_select,\"\",'1) Select data'!Z732)","v":""},{"$f":"IF($A756>n_select,\"\",'1) Select data'!AA732)","v":""},0,"",{"$f":"IF(AND($A756<=n_select,Validation!H$8,B756-C756*R_s<=V_ex1),B756-C756*R_s,0)","v":{"$error":"#VALUE!"}},{"$error":"#VALUE!"}]
[718,{"$f":"IF($A757>n_select,\"\",'1) Select data'!Z733)","v":""},{"$f":"IF($A757>n_select,\"\",'1) Select data'!AA733)","v":""},0,"",{"$f":"IF(AND($A757<=n_select,Validation!H$8,B757-C757*R_s<=V_ex1),B757-C757*R_s,0)","v":{"$error":"#VALUE!"}},{"$error":"#VALUE!"}]

{"sheet":"3) Built-in voltage compensatio","index":4,"n_rows":753,"n_cols":17,"rows_kept":753,"cut":false,"hidden":false,"merged":[[33,1,33,2],[33,3,33,4],[33,5,33,6],[17,1,17,10],[0,1,0,17],[2,1,2,10],[3,1,3,10],[7,1,7,10],[9,1,11,3],[13,1,13,10],[20,1,22,3]]}
[null,"3) Compensate for built-in voltage"]
[]
[null,"• If the I-V curve in figure 3.1 is divided into distinct regions, then built-in voltage could be the cause."]
[null,"• Try adjusting the estimated built-in voltage value below to straighten the middle and upper region of the curve"]
[]
[null,"Estimated built-in voltage",-0.2,"V"]
[]
[null,"• Is this value reasonable? (Typically approximately -0.5< ~Vbi <0.5V, depending on electrodes)"]
[]
[null,0]
[]
[]
[]
[null,{"$f":"IF(B10=1,\"• Voltages will be excluded if built-in voltage compensation changes current by more than a factor of 10.\",\"\")","v":""}]
[null,{"$f":"IF(B10=1,\"V <\",\"\")","v":""},{"$f":"MAX(K36:K753)","v":0},{"$f":"IF(B10=1,\"V\",\"\")","v":""}]
[null,null,{"$f":"IF(B10=1,\"will be excluded\",\"\")","v":""}]
[]
[null,{"$f":"IF(B10=2,\"• Built-in voltage compensation will not be used.\",\"\")","v":""}]
[]
[]
[null,"Record notes /  comments here"]
[]
[]
[]
[]
[null,"V_BI correction",{"$f":"B10=1","v":false}]
[null,"V_BI value",{"$f":"IF(C26,C6,0)","v":0},"V"]
[null,"Exclude V_int <",{"$f":"IF(B10=1,C15,0)","v":0},"V"]
[null,"Number of points remaining",{"$f":"COUNT(G36:G753)","v":0}]
[]
[]
[]
[]
[null,"Previous data",null,"V_BI compensated data",null,"Retained compensated data",null,"Uncorrected current at this voltage"]
[null,"Voltage (V)","Current (A)","Voltage (V)","Current (A)","Voltage (V)","Current (A)","Current (A)","Index",null,"Voltages where current change is too large (V)",null,null,null,null,"direction",{"$f":"IF('2) Check for series resistance'!B40>'2) Check for series resistance'!B41,-1,1)","v":1}]
[1,{"$f":"IF(A36<=n_select,'2) Check for series resistance'!F40,0)","v":0},{"$f":"IF(A36<=n_select,'2) Check for series resistance'!G40,\"\")","v":""},{"$f":"IF(B36<>0,B36-$C$6,0)","v":0},{"$f":"IF(D36<>0,C36,\"\")","v":""},{"$f":"IF(AND(Validation!E$10,B36<>0,D36>=V_ex2),B36-V_bi,0)","v":0},{"$f":"IF(F36<>0,E36,\"\")","v":""},{"$f":"INDEX(C$36:C$753,I36)+(INDEX(C$36:C$753,I36+1)-INDEX(C$36:C$753,I36))*(D36-INDEX(B$36:B$753,I36))/(INDEX(B$36:B$753,I36+1)-INDEX(B$36:B$753,I36))","v":{"$error":"#N/A"}},{"$f":"MATCH(D36*direction,J$36:J$753,1)","v":{"$error":"#N/A"}},null,{"$f":"IF(AND(B36<>0,COUNT(H36)>0),IF(AND(D36<>0,OR(H36/E36>10,E36/H36>10)),D36,\"\"),\"\")","v":""}]
[2,{"$f":"IF(A37<=n_select,'2) Check for series resistance'!F41,0)","v":0},{"$f":"IF(A37<=n_select,'2) Check for series resistance'!G41,\"\")","v":""},{"$f":"IF(B37<>0,B37-$C$6,0)","v":0},{"$f":"IF(D37<>0,C37,\"\")","v":""},{"$f":"IF(AND(Validation!E$10,B37<>0,D37>=V_ex2),B37-V_bi,0)","v":0},{"$f":"IF(F37<>0,E37,\"\")","v":""},{"$f":"INDEX(C$36:C$753,I37)+(INDEX(C$36:C$753,I37+1)-INDEX(C$36:C$753,I37))*(D37-INDEX(B$36:B$753,I37))/(INDEX(B$36:B$753,I37+1)-INDEX(B$36:B$753,I37))","v":{"$error":"#N/A"}},{"$error":"#N/A"},{"$f":"IF(B37<>0,direction*B37,\"\")","v":""},{"$f":"IF(AND(B37<>0,COUNT(H37)>0),IF(AND(D37<>0,OR(H37/E37>10,E37/H37>10)),D37,\"\"),\"\")","v":""}]
[3,{"$f":"IF(A38<=n_select,'2) Check for series resistance'!F42,0)","v":0},{"$f":"IF(A38<=n_select,'2) Check for series resistance'!G42,\"\")","v":""},0,"",{"$f":"IF(AND(Validation!E$10,B38<>0,D38>=V_ex2),B38-V_bi,0)","v":0},"",{"$error":"#N/A"},{"$error":"#N/A"},"",""]
[4,{"$f":"IF(A39<=n_select,'2) Check for series resistance'!F43,0)","v":0},{"$f":"IF(A39<=n_select,'2) Check for series resistance'!G43,\"\")","v":""},0,"",{"$f":"IF(AND(Validation!E$10,B39<>0,D39>=V_ex2),B39-V_bi,0)","v":0},"",{"$error":"#N/A"},{"$error":"#N/A"},"",""]
[5,{"$f":"IF(A40<=n_select,'2) Check for series resistance'!F44,0)","v":0},{"$f":"IF(A40<=n_select,'2) Check for series resistance'!G44,\"\")","v":""},0,"",{"$f":"IF(AND(Validation!E$10,B40<>0,D40>=V_ex2),B40-V_bi,0)","v":0},"",{"$error":"#N/A"},{"$error":"#N/A"},"",""]
[6,{"$f":"IF(A41<=n_select,'2) Check for series resistance'!F45,0)","v":0},{"$f":"IF(A41<=n_select,'2) Check for series resistance'!G45,\"\")","v":""},0,"",{"$f":"IF(AND(Validation!E$10,B41<>0,D41>=V_ex2),B41-V_bi,0)","v":0},"",{"$error":"#N/A"},{"$error":"#N/A"},"",""]
[7,{"$f":"IF(A42<=n_select,'2) Check for series resistance'!F46,0)","v":0},{"$f":"IF(A42<=n_select,'2) Check for series resistance'!G46,\"\")","v":""},0,"",{"$f":"IF(AND(Validation!E$10,B42<>0,D42>=V_ex2),B42-V_bi,0)","v":0},"",{"$error":"#N/A"},{"$error":"#N/A"},"",""]
[8,{"$f":"IF(A43<=n_select,'2) Check for series resistance'!F47,0)","v":0},{"$f":"IF(A43<=n_select,'2) Check for series resistance'!G47,\"\")","v":""},0,"",{"$f":"IF(AND(Validation!E$10,B43<>0,D43>=V_ex2),B43-V_bi,0)","v":0},"",{"$error":"#N/A"},{"$error":"#N/A"},"",""]
[9,{"$f":"IF(A44<=n_select,'2) Check for series resistance'!F48,0)","v":0},{"$f":"IF(A44<=n_select,'2) Check for series resistance'!G48,\"\")","v":""},0,"",{"$f":"IF(AND(Validation!E$10,B44<>0,D44>=V_ex2),B44-V_bi,0)","v":0},"",{"$error":"#N/A"},{"$error":"#N/A"},"",""]
[10,{"$f":"IF(A45<=n_select,'2) Check for series resistance'!F49,0)","v":0},{"$f":"IF(A45<=n_select,'2) Check for series resistance'!G49,\"\")","v":""},0,"",{"$f":"IF(AND(Validation!E$10,B45<>0,D45>=V_ex2),B45-V_bi,0)","v":0},"",{"$error":"#N/A"},{"$error":"#N/A"},"",""]
[11,{"$f":"IF(A46<=n_select,'2) Check for series resistance'!F50,0)","v":0},{"$f":"IF(A46<=n_select,'2) Check for series resistance'!G50,\"\")","v":""},0,"",{"$f":"IF(AND(Validation!E$10,B46<>0,D46>=V_ex2),B46-V_bi,0)","v":0},"",{"$error":"#N/A"},{"$error":"#N/A"},"",""]
[12,{"$f":"IF(A47<=n_select,'2) Check for series resistance'!F51,0)","v":0},{"$f":"IF(A47<=n_select,'2) Check for series resistance'!G51,\"\")","v":""},0,"",{"$f":"IF(AND(Validation!E$10,B47<>0,D47>=V_ex2),B47-V_bi,0)","v":0},"",{"$error":"#N/A"},{"$error":"#N/A"},"",""]
[13,{"$f":"IF(A48<=n_select,'2) Check for series resistance'!F52,0)","v":0},{"$f":"IF(A48<=n_select,'2) Check for series resistance'!G52,\"\")","v":""},0,"",{"$f":"IF(AND(Validation!E$10,B48<>0,D48>=V_ex2),B48-V_bi,0)","v":0},"",{"$error":"#N/A"},{"$error":"#N/A"},"",""]
[14,{"$f":"IF(A49<=n_select,'2) Check for series resistance'!F53,0)","v":0},{"$f":"IF(A49<=n_select,'2) Check for series resistance'!G53,\"\")","v":""},0,"",{"$f":"IF(AND(Validation!E$10,B49<>0,D49>=V_ex2),B49-V_bi,0)","v":0},"",{"$error":"#N/A"},{"$error":"#N/A"},"",""]
[15,{"$f":"IF(A50<=n_select,'2) Check for series resistance'!F54,0)","v":0},{"$f":"IF(A50<=n_select,'2) Check for series resistance'!G54,\"\")","v":""},0,"",{"$f":"IF(AND(Validation!E$10,B50<>0,D50>=V_ex2),B50-V_bi,0)","v":0},"",{"$error":"#N/A"},{"$error":"#N/A"},"",""]
[16,{"$f":"IF(A51<=n_select,'2) Check for series resistance'!F55,0)","v":0},{"$f":"IF(A51<=n_select,'2) Check for series resistance'!G55,\"\")","v":""},0,"",{"$f":"IF(AND(Validation!E$10,B51<>0,D51>=V_ex2),B51-V_bi,0)","v":0},"",{"$error":"#N/A"},{"$error":"#N/A"},"",""]
[17,{"$f":"IF(A52<=n_select,'2) Check for series resistance'!F56,0)","v":0},{"$f":"IF(A52<=n_select,'2) Check for series resistance'!G56,\"\")","v":""},0,"",{"$f":"IF(AND(Validation!E$10,B52<>0,D52>=V_ex2),B52-V_bi,0)","v":0},"",{"$error":"#N/A"},{"$error":"#N/A"},"",""]
[18,{"$f":"IF(A53<=n_select,'2) Check for series resistance'!F57,0)","v":0},{"$f":"IF(A53<=n_select,'2) Check for series resistance'!G57,\"\")","v":""},0,"",{"$f":"IF(AND(Validation!E$10,B53<>0,D53>=V_ex2),B53-V_bi,0)","v":0},"",{"$error":"#N/A"},{"$error":"#N/A"},"",""]
[19,{"$f":"IF(A54<=n_select,'2) Check for series resistance'!F58,0)","v":0},{"$f":"IF(A54<=n_select,'2) Check for series resistance'!G58,\"\")","v":""},0,"",{"$f":"IF(AND(Validation!E$10,B54<>0,D54>=V_ex2),B54-V_bi,0)","v":0},"",{"$error":"#N/A"},{"$error":"#N/A"},"",""]
[20,{"$f":"IF(A55<=n_select,'2) Check for series resistance'!F59,0)","v":0},{"$f":"IF(A55<=n_select,'2) Check for series resistance'!G59,\"\")","v":""},0,"",{"$f":"IF(AND(Validation!E$10,B55<>0,D55>=V_ex2),B55-V_bi,0)","v":0},"",{"$error":"#N/A"},{"$error":"#N/A"},"",""]
[21,{"$f":"IF(A56<=n_select,'2) Check for series resistance'!F60,0)","v":0},{"$f":"IF(A56<=n_select,'2) Check for series resistance'!G60,\"\")","v":""},0,"",{"$f":"IF(AND(Validation!E$10,B56<>0,D56>=V_ex2),B56-V_bi,0)","v":0},"",{"$error":"#N/A"},{"$error":"#N/A"},"",""]
[22,{"$f":"IF(A57<=n_select,'2) Check for series resistance'!F61,0)","v":0},{"$f":"IF(A57<=n_select,'2) Check for series resistance'!G61,\"\")","v":""},0,"",{"$f":"IF(AND(Validation!E$10,B57<>0,D57>=V_ex2),B57-V_bi,0)","v":0},"",{"$error":"#N/A"},{"$error":"#N/A"},"",""]
[23,{"$f":"IF(A58<=n_select,'2) Check for series resistance'!F62,0)","v":0},{"$f":"IF(A58<=n_select,'2) Check for series resistance'!G62,\"\")","v":""},0,"",{"$f":"IF(AND(Validation!E$10,B58<>0,D58>=V_ex2),B58-V_bi,0)","v":0},"",{"$error":"#N/A"},{"$error":"#N/A"},"",""]
[24,{"$f":"IF(A59<=n_select,'2) Check for series resistance'!F63,0)","v":0},{"$f":"IF(A59<=n_select,'2) Check for series resistance'!G63,\"\")","v":""},0,"",{"$f":"IF(AND(Validation!E$10,B59<>0,D59>=V_ex2),B59-V_bi,0)","v":0},"",{"$error":"#N/A"},{"$error":"#N/A"},"",""]
[25,{"$f":"IF(A60<=n_select,'2) Check for series resistance'!F64,0)","v":0},{"$f":"IF(A60<=n_select,'2) Check for series resistance'!G64,\"\")","v":""},0,"",{"$f":"IF(AND(Validation!E$10,B60<>0,D60>=V_ex2),B60-V_bi,0)","v":0},"",{"$error":"#N/A"},{"$error":"#N/A"},"",""]
[26,{"$f":"IF(A61<=n_select,'2) Check for series resistance'!F65,0)","v":0},{"$f":"IF(A61<=n_select,'2) Check for series resistance'!G65,\"\")","v":""},0,"",{"$f":"IF(AND(Validation!E$10,B61<>0,D61>=V_ex2),B61-V_bi,0)","v":0},"",{"$error":"#N/A"},{"$error":"#N/A"},"",""]
[27,{"$f":"IF(A62<=n_select,'2) Check for series resistance'!F66,0)","v":0},{"$f":"IF(A62<=n_select,'2) Check for series resistance'!G66,\"\")","v":""},0,"",{"$f":"IF(AND(Validation!E$10,B62<>0,D62>=V_ex2),B62-V_bi,0)","v":0},"",{"$error":"#N/A"},{"$error":"#N/A"},"",""]
[28,{"$f":"IF(A63<=n_select,'2) Check for series resistance'!F67,0)","v":0},{"$f":"IF(A63<=n_select,'2) Check for series resistance'!G67,\"\")","v":""},0,"",{"$f":"IF(AND(Validation!E$10,B63<>0,D63>=V_ex2),B63-V_bi,0)","v":0},"",{"$error":"#N/A"},{"$error":"#N/A"},"",""]
[29,{"$f":"IF(A64<=n_select,'2) Check for series resistance'!F68,0)","v":0},{"$f":"IF(A64<=n_select,'2) Check for series resistance'!G68,\"\")","v":""},0,"",{"$f":"IF(AND(Validation!E$10,B64<>0,D64>=V_ex2),B64-V_bi,0)","v":0},"",{"$error":"#N/A"},{"$error":"#N/A"},"",""]
[30,{"$f":"IF(A65<=n_select,'2) Check for series resistance'!F69,0)","v":0},{"$f":"IF(A65<=n_select,'2) Check for series resistance'!G69,\"\")","v":""},0,"",{"$f":"IF(AND(Validation!E$10,B65<>0,D65>=V_ex2),B65-V_bi,0)","v":0},"",{"$error":"#N/A"},{"$error":"#N/A"},"",""]
[31,{"$f":"IF(A66<=n_select,'2) Check for series resistance'!F70,0)","v":0},{"$f":"IF(A66<=n_select,'2) Check for series resistance'!G70,\"\")","v":""},0,"",{"$f":"IF(AND(Validation!E$10,B66<>0,D66>=V_ex2),B66-V_bi,0)","v":0},"",{"$error":"#N/A"},{"$error":"#N/A"},"",""]
[32,{"$f":"IF(A67<=n_select,'2) Check for series resistance'!F71,0)","v":0},{"$f":"IF(A67<=n_select,'2) Check for series resistance'!G71,\"\")","v":""},0,"",{"$f":"IF(AND(Validation!E$10,B67<>0,D67>=V_ex2),B67-V_bi,0)","v":0},"",{"$error":"#N/A"},{"$error":"#N/A"},"",""]
[33,{"$f":"IF(A68<=n_select,'2) Check for series resistance'!F72,0)","v":0},{"$f":"IF(A68<=n_select,'2) Check for series resistance'!G72,\"\")","v":""},0,"",{"$f":"IF(AND(Validation!E$10,B68<>0,D68>=V_ex2),B68-V_bi,0)","v":0},"",{"$error":"#N/A"},{"$error":"#N/A"},"",""]
[34,{"$f":"IF(A69<=n_select,'2) Check for series resistance'!F73,0)","v":0},{"$f":"IF(A69<=n_select,'2) Check for series resistance'!G73,\"\")","v":""},0,"",{"$f":"IF(AND(Validation!E$10,B69<>0,D69>=V_ex2),B69-V_bi,0)","v":0},"",{"$error":"#N/A"},{"$error":"#N/A"},"",""]
[35,{"$f":"IF(A70<=n_select,'2) Check for series resistance'!F74,0)","v":0},{"$f":"IF(A70<=n_select,'2) Check for series resistance'!G74,\"\")","v":""},0,"",{"$f":"IF(AND(Validation!E$10,B70<>0,D70>=V_ex2),B70-V_bi,0)","v":0},"",{"$error":"#N/A"},{"$error":"#N/A"},"",""]
[36,{"$f":"IF(A71<=n_select,'2) Check for series resistance'!F75,0)","v":0},{"$f":"IF(A71<=n_select,'2) Check for series resistance'!G75,\"\")","v":""},0,"",{"$f":"IF(AND(Validation!E$10,B71<>0,D71>=V_ex2),B71-V_bi,0)","v":0},"",{"$error":"#N/A"},{"$error":"#N/A"},"",""]
[37,{"$f":"IF(A72<=n_select,'2) Check for series resistance'!F76,0)","v":0},{"$f":"IF(A72<=n_select,'2) Check for series resistance'!G76,\"\")","v":""},0,"",{"$f":"IF(AND(Validation!E$10,B72<>0,D72>=V_ex2),B72-V_bi,0)","v":0},"",{"$error":"#N/A"},{"$error":"#N/A"},"",""]
[38,{"$f":"IF(A73<=n_select,'2) Check for series resistance'!F77,0)","v":0},{"$f":"IF(A73<=n_select,'2) Check for series resistance'!G77,\"\")","v":""},0,"",{"$f":"IF(AND(Validation!E$10,B73<>0,D73>=V_ex2),B73-V_bi,0)","v":0},"",{"$error":"#N/A"},{"$error":"#N/A"},"",""]
[39,{"$f":"IF(A74<=n_select,'2) Check for series resistance'!F78,0)","v":0},{"$f":"IF(A74<=n_select,'2) Check for series resistance'!G78,\"\")","v":""},0,"",{"$f":"IF(AND(Validation!E$10,B74<>0,D74>=V_ex2),B74-V_bi,0)","v":0},"",{"$error":"#N/A"},{"$error":"#N/A"},"",""]
[40,{"$f":"IF(A75<=n_select,'2) Check for series resistance'!F79,0)","v":0},{"$f":"IF(A75<=n_select,'2) Check for series resistance'!G79,\"\")","v":""},0,"",{"$f":"IF(AND(Validation!E$10,B75<>0,D75>=V_ex2),B75-V_bi,0)","v":0},"",{"$error":"#N/A"},{"$error":"#N/A"},"",""]
[41,{"$f":"IF(A76<=n_select,'2) Check for series resistance'!F80,0)","v":0},{"$f":"IF(A76<=n_select,'2) Check for series resistance'!G80,\"\")","v":""},0,"",{"$f":"IF(AND(Validation!E$10,B76<>0,D76>=V_ex2),B76-V_bi,0)","v":0},"",{"$error":"#N/A"},{"$error":"#N/A"},"",""]
[42,{"$f":"IF(A77<=n_select,'2) Check for series resistance'!F81,0)","v":0},{"$f":"IF(A77<=n_select,'2) Check for series resistance'!G81,\"\")","v":""},0,"",{"$f":"IF(AND(Validation!E$10,B77<>0,D77>=V_ex2),B77-V_bi,0)","v":0},"",{"$error":"#N/A"},{"$error":"#N/A"},"",""]
[43,{"$f":"IF(A78<=n_select,'2) Check for series resistance'!F82,0)","v":0},{"$f":"IF(A78<=n_select,'2) Check for series resistance'!G82,\"\")","v":""},0,"",{"$f":"IF(AND(Validation!E$10,B78<>0,D78>=V_ex2),B78-V_bi,0)","v":0},"",{"$error":"#N/A"},{"$error":"#N/A"},"",""]
[44,{"$f":"IF(A79<=n_select,'2) Check for series resistance'!F83,0)","v":0},{"$f":"IF(A79<=n_select,'2) Check for series resistance'!G83,\"\")","v":""},0,"",{"$f":"IF(AND(Validation!E$10,B79<>0,D79>=V_ex2),B79-V_bi,0)","v":0},"",{"$error":"#N/A"},{"$error":"#N/A"},"",""]
[45,{"$f":"IF(A80<=n_select,'2) Check for series resistance'!F84,0)","v":0},{"$f":"IF(A80<=n_select,'2) Check for series resistance'!G84,\"\")","v":""},0,"",{"$f":"IF(AND(Validation!E$10,B80<>0,D80>=V_ex2),B80-V_bi,0)","v":0},"",{"$error":"#N/A"},{"$error":"#N/A"},"",""]
[46,{"$f":"IF(A81<=n_select,'2) Check for series resistance'!F85,0)","v":0},{"$f":"IF(A81<=n_select,'2) Check for series resistance'!G85,\"\")","v":""},0,"",{"$f":"IF(AND(Validation!E$10,B81<>0,D81>=V_ex2),B81-V_bi,0)","v":0},"",{"$error":"#N/A"},{"$error":"#N/A"},"",""]
[47,{"$f":"IF(A82<=n_select,'2) Check for series resistance'!F86,0)","v":0},{"$f":"IF(A82<=n_select,'2) Check for series resistance'!G86,\"\")","v":""},0,"",{"$f":"IF(AND(Validation!E$10,B82<>0,D82>=V_ex2),B82-V_bi,0)","v":0},"",{"$error":"#N/A"},{"$error":"#N/A"},"",""]
[48,{"$f":"IF(A83<=n_select,'2) Check for series resistance'!F87,0)","v":0},{"$f":"IF(A83<=n_select,'2) Check for series resistance'!G87,\"\")","v":""},0,"",{"$f":"IF(AND(Validation!E$10,B83<>0,D83>=V_ex2),B83-V_bi,0)","v":0},"",{"$error":"#N/A"},{"$error":"#N/A"},"",""]
[49,{"$f":"IF(A84<=n_select,'2) Check for series resistance'!F88,0)","v":0},{"$f":"IF(A84<=n_select,'2) Check for series resistance'!G88,\"\")","v":""},0,"",{"$f":"IF(AND(Validation!E$10,B84<>0,D84>=V_ex2),B84-V_bi,0)","v":0},"",{"$error":"#N/A"},{"$error":"#N/A"},"",""]
[50,{"$f":"IF(A85<=n_select,'2) Check for series resistance'!F89,0)","v":0},{"$f":"IF(A85<=n_select,'2) Check for series resistance'!G89,\"\")","v":""},0,"",{"$f":"IF(AND(Validation!E$10,B85<>0,D85>=V_ex2),B85-V_bi,0)","v":0},"",{"$error":"#N/A"},{"$error":"#N/A"},"",""]
[51,{"$f":"IF(A86<=n_select,'2) Check for series resistance'!F90,0)","v":0},{"$f":"IF(A86<=n_select,'2) Check for series resistance'!G90,\"\")","v":""},0,"",{"$f":"IF(AND(Validation!E$10,B86<>0,D86>=V_ex2),B86-V_bi,0)","v":0},"",{"$error":"#N/A"},{"$error":"#N/A"},"",""]
[52,{"$f":"IF(A87<=n_select,'2) Check for series resistance'!F91,0)","v":0},{"$f":"IF(A87<=n_select,'2) Check for series resistance'!G91,\"\")","v":""},0,"",{"$f":"IF(AND(Validation!E$10,B87<>0,D87>=V_ex2),B87-V_bi,0)","v":0},"",{"$error":"#N/A"},{"$error":"#N/A"},"",""]
[53,{"$f":"IF(A88<=n_select,'2) Check for series resistance'!F92,0)","v":0},{"$f":"IF(A88<=n_select,'2) Check for series resistance'!G92,\"\")","v":""},0,"",{"$f":"IF(AND(Validation!E$10,B88<>0,D88>=V_ex2),B88-V_bi,0)","v":0},"",{"$error":"#N/A"},{"$error":"#N/A"},"",""]
[54,{"$f":"IF(A89<=n_select,'2) Check for series resistance'!F93,0)","v":0},{"$f":"IF(A89<=n_select,'2) Check for series resistance'!G93,\"\")","v":""},0,"",{"$f":"IF(AND(Validation!E$10,B89<>0,D89>=V_ex2),B89-V_bi,0)","v":0},"",{"$error":"#N/A"},{"$error":"#N/A"},"",""]
[55,{"$f":"IF(A90<=n_select,'2) Check for series resistance'!F94,0)","v":0},{"$f":"IF(A90<=n_select,'2) Check for series resistance'!G94,\"\")","v":""},0,"",{"$f":"IF(AND(Validation!E$10,B90<>0,D90>=V_ex2),B90-V_bi,0)","v":0},"",{"$error":"#N/A"},{"$error":"#N/A"},"",""]
[56,{"$f":"IF(A91<=n_select,'2) Check for series resistance'!F95,0)","v":0},{"$f":"IF(A91<=n_select,'2) Check for series resistance'!G95,\"\")","v":""},0,"",{"$f":"IF(AND(Validation!E$10,B91<>0,D91>=V_ex2),B91-V_bi,0)","v":0},"",{"$error":"#N/A"},{"$error":"#N/A"},"",""]
[57,{"$f":"IF(A92<=n_select,'2) Check for series resistance'!F96,0)","v":0},{"$f":"IF(A92<=n_select,'2) Check for series resistance'!G96,\"\")","v":""},0,"",{"$f":"IF(AND(Validation!E$10,B92<>0,D92>=V_ex2),B92-V_bi,0)","v":0},"",{"$error":"#N/A"},{"$error":"#N/A"},"",""]
[58,{"$f":"IF(A93<=n_select,'2) Check for series resistance'!F97,0)","v":0},{"$f":"IF(A93<=n_select,'2) Check for series resistance'!G97,\"\")","v":""},0,"",{"$f":"IF(AND(Validation!E$10,B93<>0,D93>=V_ex2),B93-V_bi,0)","v":0},"",{"$error":"#N/A"},{"$error":"#N/A"},"",""]
[59,{"$f":"IF(A94<=n_select,'2) Check for series resistance'!F98,0)","v":0},{"$f":"IF(A94<=n_select,'2) Check for series resistance'!G98,\"\")","v":""},0,"",{"$f":"IF(AND(Validation!E$10,B94<>0,D94>=V_ex2),B94-V_bi,0)","v":0},"",{"$error":"#N/A"},{"$error":"#N/A"},"",""]
[60,{"$f":"IF(A95<=n_select,'2) Check for series resistance'!F99,0)","v":0},{"$f":"IF(A95<=n_select,'2) Check for series resistance'!G99,\"\")","v":""},0,"",{"$f":"IF(AND(Validation!E$10,B95<>0,D95>=V_ex2),B95-V_bi,0)","v":0},"",{"$error":"#N/A"},{"$error":"#N/A"},"",""]
[61,{"$f":"IF(A96<=n_select,'2) Check for series resistance'!F100,0)","v":0},{"$f":"IF(A96<=n_select,'2) Check for series resistance'!G100,\"\")","v":""},0,"",{"$f":"IF(AND(Validation!E$10,B96<>0,D96>=V_ex2),B96-V_bi,0)","v":0},"",{"$error":"#N/A"},{"$error":"#N/A"},"",""]
[62,{"$f":"IF(A97<=n_select,'2) Check for series resistance'!F101,0)","v":0},{"$f":"IF(A97<=n_select,'2) Check for series resistance'!G101,\"\")","v":""},0,"",{"$f":"IF(AND(Validation!E$10,B97<>0,D97>=V_ex2),B97-V_bi,0)","v":0},"",{"$error":"#N/A"},{"$error":"#N/A"},"",""]
[63,{"$f":"IF(A98<=n_select,'2) Check for series resistance'!F102,0)","v":0},{"$f":"IF(A98<=n_select,'2) Check for series resistance'!G102,\"\")","v":""},0,"",{"$f":"IF(AND(Validation!E$10,B98<>0,D98>=V_ex2),B98-V_bi,0)","v":0},"",{"$error":"#N/A"},{"$error":"#N/A"},"",""]
[64,{"$f":"IF(A99<=n_select,'2) Check for series resistance'!F103,0)","v":0},{"$f":"IF(A99<=n_select,'2) Check for series resistance'!G103,\"\")","v":""},0,"",{"$f":"IF(AND(Validation!E$10,B99<>0,D99>=V_ex2),B99-V_bi,0)","v":0},"",{"$error":"#N/A"},{"$error":"#N/A"},"",""]
[65,{"$f":"IF(A100<=n_select,'2) Check for series resistance'!F104,0)","v":0},{"$f":"IF(A100<=n_select,'2) Check for series resistance'!G104,\"\")","v":""},0,"",{"$f":"IF(AND(Validation!E$10,B100<>0,D100>=V_ex2),B100-V_bi,0)","v":0},"",{"$error":"#N/A"},{"$f":"MATCH(D100*direction,J$36:J$753,1)","v":{"$error":"#N/A"}},"",""]
[66,{"$f":"IF(A101<=n_select,'2) Check for series resistance'!F105,0)","v":0},{"$f":"IF(A101<=n_select,'2) Check for series resistance'!G105,\"\")","v":""},{"$f":"IF(B101<>0,B101-$C$6,0)","v":0},{"$f":"IF(D101<>0,C101,\"\")","v":""},{"$f":"IF(AND(Validation!E$10,B101<>0,D101>=V_ex2),B101-V_bi,0)","v":0},{"$f":"IF(F101<>0,E101,\"\")","v":""},{"$f":"INDEX(C$36:C$753,I101)+(INDEX(C$36:C$753,I101+1)-INDEX(C$36:C$753,I101))*(D101-INDEX(B$36:B$753,I101))/(INDEX(B$36:B$753,I101+1)-INDEX(B$36:B$753,I101))","v":{"$error":"#N/A"}},{"$error":"#N/A"},{"$f":"IF(B101<>0,direction*B101,\"\")","v":""},{"$f":"IF(AND(B101<>0,COUNT(H101)>0),IF(AND(D101<>0,OR(H101/E101>10,E101/H101>10)),D101,\"\"),\"\")","v":""}]
[67,{"$f":"IF(A102<=n_select,'2) Check for series resistance'!F106,0)","v":0},{"$f":"IF(A102<=n_select,'2) Check for series resistance'!G106,\"\")","v":""},0,"",{"$f":"IF(AND(Validation!E$10,B102<>0,D102>=V_ex2),B102-V_bi,0)","v":0},"",{"$error":"#N/A"},{"$error":"#N/A"},"",""]
[68,{"$f":"IF(A103<=n_select,'2) Check for series resistance'!F107,0)","v":0},{"$f":"IF(A103<=n_select,'2) Check for series resistance'!G107,\"\")","v":""},0,"",{"$f":"IF(AND(Validation!E$10,B103<>0,D103>=V_ex2),B103-V_bi,0)","v":0},"",{"$error":"#N/A"},{"$error":"#N/A"},"",""]
[69,{"$f":"IF(A104<=n_select,'2) Check for series resistance'!F108,0)","v":0},{"$f":"IF(A104<=n_select,'2) Check for series resistance'!G108,\"\")","v":""},0,"",{"$f":"IF(AND(Validation!E$10,B104<>0,D104>=V_ex2),B104-V_bi,0)","v":0},"",{"$error":"#N/A"},{"$error":"#N/A"},"",""]
[70,{"$f":"IF(A105<=n_select,'2) Check for series resistance'!F109,0)","v":0},{"$f":"IF(A105<=n_select,'2) Check for series resistance'!G109,\"\")","v":""},0,"",{"$f":"IF(AND(Validation!E$10,B105<>0,D105>=V_ex2),B105-V_bi,0)","v":0},"",{"$error":"#N/A"},{"$error":"#N/A"},"",""]
[71,{"$f":"IF(A106<=n_select,'2) Check for series resistance'!F110,0)","v":0},{"$f":"IF(A106<=n_select,'2) Check for series resistance'!G110,\"\")","v":""},0,"",{"$f":"IF(AND(Validation!E$10,B106<>0,D106>=V_ex2),B106-V_bi,0)","v":0},"",{"$error":"#N/A"},{"$error":"#N/A"},"",""]
[72,{"$f":"IF(A107<=n_select,'2) Check for series resistance'!F111,0)","v":0},{"$f":"IF(A107<=n_select,'2) Check for series resistance'!G111,\"\")","v":""},0,"",{"$f":"IF(AND(Validation!E$10,B107<>0,D107>=V_ex2),B107-V_bi,0)","v":0},"",{"$error":"#N/A"},{"$error":"#N/A"},"",""]
[73,{"$f":"IF(A108<=n_select,'2) Check for series resistance'!F112,0)","v":0},{"$f":"IF(A108<=n_select,'2) Check for series resistance'!G112,\"\")","v":""},0,"",{"$f":"IF(AND(Validation!E$10,B108<>0,D108>=V_ex2),B108-V_bi,0)","v":0},"",{"$error":"#N/A"},{"$error":"#N/A"},"",""]
[74,{"$f":"IF(A109<=n_select,'2) Check for series resistance'!F113,0)","v":0},{"$f":"IF(A109<=n_select,'2) Check for series resistance'!G113,\"\")","v":""},0,"",{"$f":"IF(AND(Validation!E$10,B109<>0,D109>=V_ex2),B109-V_bi,0)","v":0},"",{"$error":"#N/A"},{"$error":"#N/A"},"",""]
[75,{"$f":"IF(A110<=n_select,'2) Check for series resistance'!F114,0)","v":0},{"$f":"IF(A110<=n_select,'2) Check for series resistance'!G114,\"\")","v":""},0,"",{"$f":"IF(AND(Validation!E$10,B110<>0,D110>=V_ex2),B110-V_bi,0)","v":0},"",{"$error":"#N/A"},{"$error":"#N/A"},"",""]
[76,{"$f":"IF(A111<=n_select,'2) Check for series resistance'!F115,0)","v":0},{"$f":"IF(A111<=n_select,'2) Check for series resistance'!G115,\"\")","v":""},0,"",{"$f":"IF(AND(Validation!E$10,B111<>0,D111>=V_ex2),B111-V_bi,0)","v":0},"",{"$error":"#N/A"},{"$error":"#N/A"},"",""]
[77,{"$f":"IF(A112<=n_select,'2) Check for series resistance'!F116,0)","v":0},{"$f":"IF(A112<=n_select,'2) Check for series resistance'!G116,\"\")","v":""},0,"",{"$f":"IF(AND(Validation!E$10,B112<>0,D112>=V_ex2),B112-V_bi,0)","v":0},"",{"$error":"#N/A"},{"$error":"#N/A"},"",""]
[78,{"$f":"IF(A113<=n_select,'2) Check for series resistance'!F117,0)","v":0},{"$f":"IF(A113<=n_select,'2) Check for series resistance'!G117,\"\")","v":""},0,"",{"$f":"IF(AND(Validation!E$10,B113<>0,D113>=V_ex2),B113-V_bi,0)","v":0},"",{"$error":"#N/A"},{"$error":"#N/A"},"",""]
[79,{"$f":"IF(A114<=n_select,'2) Check for series resistance'!F118,0)","v":0},{"$f":"IF(A114<=n_select,'2) Check for series resistance'!G118,\"\")","v":""},0,"",{"$f":"IF(AND(Validation!E$10,B114<>0,D114>=V_ex2),B114-V_bi,0)","v":0},"",{"$error":"#N/A"},{"$error":"#N/A"},"",""]
[80,{"$f":"IF(A115<=n_select,'2) Check for series resistance'!F119,0)","v":0},{"$f":"IF(A115<=n_select,'2) Check for series resistance'!G119,\"\")","v":""},0,"",{"$f":"IF(AND(Validation!E$10,B115<>0,D115>=V_ex2),B115-V_bi,0)","v":0},"",{"$error":"#N/A"},{"$error":"#N/A"},"",""]
[81,{"$f":"IF(A116<=n_select,'2) Check for series resistance'!F120,0)","v":0},{"$f":"IF(A116<=n_select,'2) Check for series resistance'!G120,\"\")","v":""},0,"",{"$f":"IF(AND(Validation!E$10,B116<>0,D116>=V_ex2),B116-V_bi,0)","v":0},"",{"$error":"#N/A"},{"$error":"#N/A"},"",""]
[82,{"$f":"IF(A117<=n_select,'2) Check for series resistance'!F121,0)","v":0},{"$f":"IF(A117<=n_select,'2) Check for series resistance'!G121,\"\")","v":""},0,"",{"$f":"IF(AND(Validation!E$10,B117<>0,D117>=V_ex2),B117-V_bi,0)","v":0},"",{"$error":"#N/A"},{"$error":"#N/A"},"",""]
[83,{"$f":"IF(A118<=n_select,'2) Check for series resistance'!F122,0)","v":0},{"$f":"IF(A118<=n_select,'2) Check for series resistance'!G122,\"\")","v":""},0,"",{"$f":"IF(AND(Validation!E$10,B118<>0,D118>=V_ex2),B118-V_bi,0)","v":0},"",{"$error":"#N/A"},{"$error":"#N/A"},"",""]
[84,{"$f":"IF(A119<=n_select,'2) Check for series resistance'!F123,0)","v":0},{"$f":"IF(A119<=n_select,'2) Check for series resistance'!G123,\"\")","v":""},0,"",{"$f":"IF(AND(Validation!E$10,B119<>0,D119>=V_ex2),B119-V_bi,0)","v":0},"",{"$error":"#N/A"},{"$error":"#N/A"},"",""]
[85,{"$f":"IF(A120<=n_select,'2) Check for series resistance'!F124,0)","v":0},{"$f":"IF(A120<=n_select,'2) Check for series resistance'!G124,\"\")","v":""},0,"",{"$f":"IF(AND(Validation!E$10,B120<>0,D120>=V_ex2),B120-V_bi,0)","v":0},"",{"$error":"#N/A"},{"$error":"#N/A"},"",""]
[86,{"$f":"IF(A121<=n_select,'2) Check for series resistance'!F125,0)","v":0},{"$f":"IF(A121<=n_select,'2) Check for series resistance'!G125,\"\")","v":""},0,"",{"$f":"IF(AND(Validation!E$10,B121<>0,D121>=V_ex2),B121-V_bi,0)","v":0},"",{"$error":"#N/A"},{"$error":"#N/A"},"",""]
[87,{"$f":"IF(A122<=n_select,'2) Check for series resistance'!F126,0)","v":0},{"$f":"IF(A122<=n_select,'2) Check for series resistance'!G126,\"\")","v":""},0,"",{"$f":"IF(AND(Validation!E$10,B122<>0,D122>=V_ex2),B122-V_bi,0)","v":0},"",{"$error":"#N/A"},{"$error":"#N/A"},"",""]
[88,{"$f":"IF(A123<=n_select,'2) Check for series resistance'!F127,0)","v":0},{"$f":"IF(A123<=n_select,'2) Check for series resistance'!G127,\"\")","v":""},0,"",{"$f":"IF(AND(Validation!E$10,B123<>0,D123>=V_ex2),B123-V_bi,0)","v":0},"",{"$error":"#N/A"},{"$error":"#N/A"},"",""]
[89,{"$f":"IF(A124<=n_select,'2) Check for series resistance'!F128,0)","v":0},{"$f":"IF(A124<=n_select,'2) Check for series resistance'!G128,\"\")","v":""},0,"",{"$f":"IF(AND(Validation!E$10,B124<>0,D124>=V_ex2),B124-V_bi,0)","v":0},"",{"$error":"#N/A"},{"$error":"#N/A"},"",""]
[90,{"$f":"IF(A125<=n_select,'2) Check for series resistance'!F129,0)","v":0},{"$f":"IF(A125<=n_select,'2) Check for series resistance'!G129,\"\")","v":""},0,"",{"$f":"IF(AND(Validation!E$10,B125<>0,D125>=V_ex2),B125-V_bi,0)","v":0},"",{"$error":"#N/A"},{"$error":"#N/A"},"",""]
[91,{"$f":"IF(A126<=n_select,'2) Check for series resistance'!F130,0)","v":0},{"$f":"IF(A126<=n_select,'2) Check for series resistance'!G130,\"\")","v":""},0,"",{"$f":"IF(AND(Validation!E$10,B126<>0,D126>=V_ex2),B126-V_bi,0)","v":0},"",{"$error":"#N/A"},{"$error":"#N/A"},"",""]
[92,{"$f":"IF(A127<=n_select,'2) Check for series resistance'!F131,0)","v":0},{"$f":"IF(A127<=n_select,'2) Check for series resistance'!G131,\"\")","v":""},0,"",{"$f":"IF(AND(Validation!E$10,B127<>0,D127>=V_ex2),B127-V_bi,0)","v":0},"",{"$error":"#N/A"},{"$error":"#N/A"},"",""]
[93,{"$f":"IF(A128<=n_select,'2) Check for series resistance'!F132,0)","v":0},{"$f":"IF(A128<=n_select,'2) Check for series resistance'!G132,\"\")","v":""},0,"",{"$f":"IF(AND(Validation!E$10,B128<>0,D128>=V_ex2),B128-V_bi,0)","v":0},"",{"$error":"#N/A"},{"$error":"#N/A"},"",""]
[94,{"$f":"IF(A129<=n_select,'2) Check for series resistance'!F133,0)","v":0},{"$f":"IF(A129<=n_select,'2) Check for series resistance'!G133,\"\")","v":""},0,"",{"$f":"IF(AND(Validation!E$10,B129<>0,D129>=V_ex2),B129-V_bi,0)","v":0},"",{"$error":"#N/A"},{"$error":"#N/A"},"",""]
[95,{"$f":"IF(A130<=n_select,'2) Check for series resistance'!F134,0)","v":0},{"$f":"IF(A130<=n_select,'2) Check for series resistance'!G134,\"\")","v":""},0,"",{"$f":"IF(AND(Validation!E$10,B130<>0,D130>=V_ex2),B130-V_bi,0)","v":0},"",{"$error":"#N/A"},{"$error":"#N/A"},"",""]
[96,{"$f":"IF(A131<=n_select,'2) Check for series resistance'!F135,0)","v":0},{"$f":"IF(A131<=n_select,'2) Check for series resistance'!G135,\"\")","v":""},0,"",{"$f":"IF(AND(Validation!E$10,B131<>0,D131>=V_ex2),B131-V_bi,0)","v":0},"",{"$error":"#N/A"},{"$error":"#N/A"},"",""]
[97,{"$f":"IF(A132<=n_select,'2) Check for series resistance'!F136,0)","v":0},{"$f":"IF(A132<=n_select,'2) Check for series resistance'!G136,\"\")","v":""},0,"",{"$f":"IF(AND(Validation!E$10,B132<>0,D132>=V_ex2),B132-V_bi,0)","v":0},"",{"$error":"#N/A"},{"$error":"#N/A"},"",""]
[98,{"$f":"IF(A133<=n_select,'2) Check for series resistance'!F137,0)","v":0},{"$f":"IF(A133<=n_select,'2) Check for series resistance'!G137,\"\")","v":""},0,"",{"$f":"IF(AND(Validation!E$10,B133<>0,D133>=V_ex2),B133-V_bi,0)","v":0},"",{"$error":"#N/A"},{"$error":"#N/A"},"",""]
[99,{"$f":"IF(A134<=n_select,'2) Check for series resistance'!F138,0)","v":0},{"$f":"IF(A134<=n_select,'2) Check for series resistance'!G138,\"\")","v":""},0,"",{"$f":"IF(AND(Validation!E$10,B134<>0,D134>=V_ex2),B134-V_bi,0)","v":0},"",{"$error":"#N/A"},{"$error":"#N/A"},"",""]
[100,{"$f":"IF(A135<=n_select,'2) Check for series resistance'!F139,0)","v":0},{"$f":"IF(A135<=n_select,'2) Check for series resistance'!G139,\"\")","v":""},0,"",{"$f":"IF(AND(Validation!E$10,B135<>0,D135>=V_ex2),B135-V_bi,0)","v":0},"",{"$error":"#N/A"},{"$error":"#N/A"},"",""]
[101,{"$f":"IF(A136<=n_select,'2) Check for series resistance'!F140,0)","v":0},{"$f":"IF(A136<=n_select,'2) Check for series resistance'!G140,\"\")","v":""},0,"",{"$f":"IF(AND(Validation!E$10,B136<>0,D136>=V_ex2),B136-V_bi,0)","v":0},"",{"$error":"#N/A"},{"$error":"#N/A"},"",""]
[102,{"$f":"IF(A137<=n_select,'2) Check for series resistance'!F141,0)","v":0},{"$f":"IF(A137<=n_select,'2) Check for series resistance'!G141,\"\")","v":""},0,"",{"$f":"IF(AND(Validation!E$10,B137<>0,D137>=V_ex2),B137-V_bi,0)","v":0},"",{"$error":"#N/A"},{"$error":"#N/A"},"",""]
[103,{"$f":"IF(A138<=n_select,'2) Check for series resistance'!F142,0)","v":0},{"$f":"IF(A138<=n_select,'2) Check for series resistance'!G142,\"\")","v":""},0,"",{"$f":"IF(AND(Validation!E$10,B138<>0,D138>=V_ex2),B138-V_bi,0)","v":0},"",{"$error":"#N/A"},{"$error":"#N/A"},"",""]
[104,{"$f":"IF(A139<=n_select,'2) Check for series resistance'!F143,0)","v":0},{"$f":"IF(A139<=n_select,'2) Check for series resistance'!G143,\"\")","v":""},0,"",{"$f":"IF(AND(Validation!E$10,B139<>0,D139>=V_ex2),B139-V_bi,0)","v":0},"",{"$error":"#N/A"},{"$error":"#N/A"},"",""]
[105,{"$f":"IF(A140<=n_select,'2) Check for series resistance'!F144,0)","v":0},{"$f":"IF(A140<=n_select,'2) Check for series resistance'!G144,\"\")","v":""},0,"",{"$f":"IF(AND(Validation!E$10,B140<>0,D140>=V_ex2),B140-V_bi,0)","v":0},"",{"$error":"#N/A"},{"$error":"#N/A"},"",""]
[106,{"$f":"IF(A141<=n_select,'2) Check for series resistance'!F145,0)","v":0},{"$f":"IF(A141<=n_select,'2) Check for series resistance'!G145,\"\")","v":""},0,"",{"$f":"IF(AND(Validation!E$10,B141<>0,D141>=V_ex2),B141-V_bi,0)","v":0},"",{"$error":"#N/A"},{"$error":"#N/A"},"",""]
[107,{"$f":"IF(A142<=n_select,'2) Check for series resistance'!F146,0)","v":0},{"$f":"IF(A142<=n_select,'2) Check for series resistance'!G146,\"\")","v":""},0,"",{"$f":"IF(AND(Validation!E$10,B142<>0,D142>=V_ex2),B142-V_bi,0)","v":0},"",{"$error":"#N/A"},{"$error":"#N/A"},"",""]
[108,{"$f":"IF(A143<=n_select,'2) Check for series resistance'!F147,0)","v":0},{"$f":"IF(A143<=n_select,'2) Check for series resistance'!G147,\"\")","v":""},0,"",{"$f":"IF(AND(Validation!E$10,B143<>0,D143>=V_ex2),B143-V_bi,0)","v":0},"",{"$error":"#N/A"},{"$error":"#N/A"},"",""]
[109,{"$f":"IF(A144<=n_select,'2) Check for series resistance'!F148,0)","v":0},{"$f":"IF(A144<=n_select,'2) Check for series resistance'!G148,\"\")","v":""},0,"",{"$f":"IF(AND(Validation!E$10,B144<>0,D144>=V_ex2),B144-V_bi,0)","v":0},"",{"$error":"#N/A"},{"$error":"#N/A"},"",""]
[110,{"$f":"IF(A145<=n_select,'2) Check for series resistance'!F149,0)","v":0},{"$f":"IF(A145<=n_select,'2) Check for series resistance'!G149,\"\")","v":""},0,"",{"$f":"IF(AND(Validation!E$10,B145<>0,D145>=V_ex2),B145-V_bi,0)","v":0},"",{"$error":"#N/A"},{"$error":"#N/A"},"",""]
[111,{"$f":"IF(A146<=n_select,'2) Check for series resistance'!F150,0)","v":0},{"$f":"IF(A146<=n_select,'2) Check for series resistance'!G150,\"\")","v":""},0,"",{"$f":"IF(AND(Validation!E$10,B146<>0,D146>=V_ex2),B146-V_bi,0)","v":0},"",{"$error":"#N/A"},{"$error":"#N/A"},"",""]
[112,{"$f":"IF(A147<=n_select,'2) Check for series resistance'!F151,0)","v":0},{"$f":"IF(A147<=n_select,'2) Check for series resistance'!G151,\"\")","v":""},0,"",{"$f":"IF(AND(Validation!E$10,B147<>0,D147>=V_ex2),B147-V_bi,0)","v":0},"",{"$error":"#N/A"},{"$error":"#N/A"},"",""]
[113,{"$f":"IF(A148<=n_select,'2) Check for series resistance'!F152,0)","v":0},{"$f":"IF(A148<=n_select,'2) Check for series resistance'!G152,\"\")","v":""},0,"",{"$f":"IF(AND(Validation!E$10,B148<>0,D148>=V_ex2),B148-V_bi,0)","v":0},"",{"$error":"#N/A"},{"$error":"#N/A"},"",""]
[114,{"$f":"IF(A149<=n_select,'2) Check for series resistance'!F153,0)","v":0},{"$f":"IF(A149<=n_select,'2) Check for series resistance'!G153,\"\")","v":""},0,"",{"$f":"IF(AND(Validation!E$10,B149<>0,D149>=V_ex2),B149-V_bi,0)","v":0},"",{"$error":"#N/A"},{"$error":"#N/A"},"",""]
[115,{"$f":"IF(A150<=n_select,'2) Check for series resistance'!F154,0)","v":0},{"$f":"IF(A150<=n_select,'2) Check for series resistance'!G154,\"\")","v":""},0,"",{"$f":"IF(AND(Validation!E$10,B150<>0,D150>=V_ex2),B150-V_bi,0)","v":0},"",{"$error":"#N/A"},{"$error":"#N/A"},"",""]
[116,{"$f":"IF(A151<=n_select,'2) Check for series resistance'!F155,0)","v":0},{"$f":"IF(A151<=n_select,'2) Check for series resistance'!G155,\"\")","v":""},0,"",{"$f":"IF(AND(Validation!E$10,B151<>0,D151>=V_ex2),B151-V_bi,0)","v":0},"",{"$error":"#N/A"},{"$error":"#N/A"},"",""]
[117,{"$f":"IF(A152<=n_select,'2) Check for series resistance'!F156,0)","v":0},{"$f":"IF(A152<=n_select,'2) Check for series resistance'!G156,\"\")","v":""},0,"",{"$f":"IF(AND(Validation!E$10,B152<>0,D152>=V_ex2),B152-V_bi,0)","v":0},"",{"$error":"#N/A"},{"$error":"#N/A"},"",""]
[118,{"$f":"IF(A153<=n_select,'2) Check for series resistance'!F157,0)","v":0},{"$f":"IF(A153<=n_select,'2) Check for series resistance'!G157,\"\")","v":""},0,"",{"$f":"IF(AND(Validation!E$10,B153<>0,D153>=V_ex2),B153-V_bi,0)","v":0},"",{"$error":"#N/A"},{"$error":"#N/A"},"",""]
[119,{"$f":"IF(A154<=n_select,'2) Check for series resistance'!F158,0)","v":0},{"$f":"IF(A154<=n_select,'2) Check for series resistance'!G158,\"\")","v":""},0,"",{"$f":"IF(AND(Validation!E$10,B154<>0,D154>=V_ex2),B154-V_bi,0)","v":0},"",{"$error":"#N/A"},{"$error":"#N/A"},"",""]
[120,{"$f":"IF(A155<=n_select,'2) Check for series resistance'!F159,0)","v":0},{"$f":"IF(A155<=n_select,'2) Check for series resistance'!G159,\"\")","v":""},0,"",{"$f":"IF(AND(Validation!E$10,B155<>0,D155>=V_ex2),B155-V_bi,0)","v":0},"",{"$error":"#N/A"},{"$error":"#N/A"},"",""]
[121,{"$f":"IF(A156<=n_select,'2) Check for series resistance'!F160,0)","v":0},{"$f":"IF(A156<=n_select,'2) Check for series resistance'!G160,\"\")","v":""},0,"",{"$f":"IF(AND(Validation!E$10,B156<>0,D156>=V_ex2),B156-V_bi,0)","v":0},"",{"$error":"#N/A"},{"$error":"#N/A"},"",""]
[122,{"$f":"IF(A157<=n_select,'2) Check for series resistance'!F161,0)","v":0},{"$f":"IF(A157<=n_select,'2) Check for series resistance'!G161,\"\")","v":""},0,"",{"$f":"IF(AND(Validation!E$10,B157<>0,D157>=V_ex2),B157-V_bi,0)","v":0},"",{"$error":"#N/A"},{"$error":"#N/A"},"",""]
[123,{"$f":"IF(A158<=n_select,'2) Check for series resistance'!F162,0)","v":0},{"$f":"IF(A158<=n_select,'2) Check for series resistance'!G162,\"\")","v":""},0,"",{"$f":"IF(AND(Validation!E$10,B158<>0,D158>=V_ex2),B158-V_bi,0)","v":0},"",{"$error":"#N/A"},{"$error":"#N/A"},"",""]
[124,{"$f":"IF(A159<=n_select,'2) Check for series resistance'!F163,0)","v":0},{"$f":"IF(A159<=n_select,'2) Check for series resistance'!G163,\"\")","v":""},0,"",{"$f":"IF(AND(Validation!E$10,B159<>0,D159>=V_ex2),B159-V_bi,0)","v":0},"",{"$error":"#N/A"},{"$error":"#N/A"},"",""]
[125,{"$f":"IF(A160<=n_select,'2) Check for series resistance'!F164,0)","v":0},{"$f":"IF(A160<=n_select,'2) Check for series resistance'!G164,\"\")","v":""},0,"",{"$f":"IF(AND(Validation!E$10,B160<>0,D160>=V_ex2),B160-V_bi,0)","v":0},"",{"$error":"#N/A"},{"$error":"#N/A"},"",""]
[126,{"$f":"IF(A161<=n_select,'2) Check for series resistance'!F165,0)","v":0},{"$f":"IF(A161<=n_select,'2) Check for series resistance'!G165,\"\")","v":""},0,"",{"$f":"IF(AND(Validation!E$10,B161<>0,D161>=V_ex2),B161-V_bi,0)","v":0},"",{"$error":"#N/A"},{"$error":"#N/A"},"",""]
[127,{"$f":"IF(A162<=n_select,'2) Check for series resistance'!F166,0)","v":0},{"$f":"IF(A162<=n_select,'2) Check for series resistance'!G166,\"\")","v":""},0,"",{"$f":"IF(AND(Validation!E$10,B162<>0,D162>=V_ex2),B162-V_bi,0)","v":0},"",{"$error":"#N/A"},{"$error":"#N/A"},"",""]
[128,{"$f":"IF(A163<=n_select,'2) Check for series resistance'!F167,0)","v":0},{"$f":"IF(A163<=n_select,'2) Check for series resistance'!G167,\"\")","v":""},0,"",{"$f":"IF(AND(Validation!E$10,B163<>0,D163>=V_ex2),B163-V_bi,0)","v":0},"",{"$error":"#N/A"},{"$error":"#N/A"},"",""]
[129,{"$f":"IF(A164<=n_select,'2) Check for series resistance'!F168,0)","v":0},{"$f":"IF(A164<=n_select,'2) Check for series resistance'!G168,\"\")","v":""},0,"",{"$f":"IF(AND(Validation!E$10,B164<>0,D164>=V_ex2),B164-V_bi,0)","v":0},"",{"$error":"#N/A"},{"$f":"MATCH(D164*direction,J$36:J$753,1)","v":{"$error":"#N/A"}},"",""]
[130,{"$f":"IF(A165<=n_select,'2) Check for series resistance'!F169,0)","v":0},{"$f":"IF(A165<=n_select,'2) Check for series resistance'!G169,\"\")","v":""},{"$f":"IF(B165<>0,B165-$C$6,0)","v":0},{"$f":"IF(D165<>0,C165,\"\")","v":""},{"$f":"IF(AND(Validation!E$10,B165<>0,D165>=V_ex2),B165-V_bi,0)","v":0},{"$f":"IF(F165<>0,E165,\"\")","v":""},{"$f":"INDEX(C$36:C$753,I165)+(INDEX(C$36:C$753,I165+1)-INDEX(C$36:C$753,I165))*(D165-INDEX(B$36:B$753,I165))/(INDEX(B$36:B$753,I165+1)-INDEX(B$36:B$753,I165))","v":{"$error":"#N/A"}},{"$error":"#N/A"},{"$f":"IF(B165<>0,direction*B165,\"\")","v":""},{"$f":"IF(AND(B165<>0,COUNT(H165)>0),IF(AND(D165<>0,OR(H165/E165>10,E165/H165>10)),D165,\"\"),\"\")","v":""}]
[131,{"$f":"IF(A166<=n_select,'2) Check for series resistance'!F170,0)","v":0},{"$f":"IF(A166<=n_select,'2) Check for series resistance'!G170,\"\")","v":""},0,"",{"$f":"IF(AND(Validation!E$10,B166<>0,D166>=V_ex2),B166-V_bi,0)","v":0},"",{"$error":"#N/A"},{"$error":"#N/A"},"",""]
[132,{"$f":"IF(A167<=n_select,'2) Check for series resistance'!F171,0)","v":0},{"$f":"IF(A167<=n_select,'2) Check for series resistance'!G171,\"\")","v":""},0,"",{"$f":"IF(AND(Validation!E$10,B167<>0,D167>=V_ex2),B167-V_bi,0)","v":0},"",{"$error":"#N/A"},{"$error":"#N/A"},"",""]
[133,{"$f":"IF(A168<=n_select,'2) Check for series resistance'!F172,0)","v":0},{"$f":"IF(A168<=n_select,'2) Check for series resistance'!G172,\"\")","v":""},0,"",{"$f":"IF(AND(Validation!E$10,B168<>0,D168>=V_ex2),B168-V_bi,0)","v":0},"",{"$error":"#N/A"},{"$error":"#N/A"},"",""]
[134,{"$f":"IF(A169<=n_select,'2) Check for series resistance'!F173,0)","v":0},{"$f":"IF(A169<=n_select,'2) Check for series resistance'!G173,\"\")","v":""},0,"",{"$f":"IF(AND(Validation!E$10,B169<>0,D169>=V_ex2),B169-V_bi,0)","v":0},"",{"$error":"#N/A"},{"$error":"#N/A"},"",""]
[135,{"$f":"IF(A170<=n_select,'2) Check for series resistance'!F174,0)","v":0},{"$f":"IF(A170<=n_select,'2) Check for series resistance'!G174,\"\")","v":""},0,"",{"$f":"IF(AND(Validation!E$10,B170<>0,D170>=V_ex2),B170-V_bi,0)","v":0},"",{"$error":"#N/A"},{"$error":"#N/A"},"",""]
[136,{"$f":"IF(A171<=n_select,'2) Check for series resistance'!F175,0)","v":0},{"$f":"IF(A171<=n_select,'2) Check for series resistance'!G175,\"\")","v":""},0,"",{"$f":"IF(AND(Validation!E$10,B171<>0,D171>=V_ex2),B171-V_bi,0)","v":0},"",{"$error":"#N/A"},{"$error":"#N/A"},"",""]
[137,{"$f":"IF(A172<=n_select,'2) Check for series resistance'!F176,0)","v":0},{"$f":"IF(A172<=n_select,'2) Check for series resistance'!G176,\"\")","v":""},0,"",{"$f":"IF(AND(Validation!E$10,B172<>0,D172>=V_ex2),B172-V_bi,0)","v":0},"",{"$error":"#N/A"},{"$error":"#N/A"},"",""]
[138,{"$f":"IF(A173<=n_select,'2) Check for series resistance'!F177,0)","v":0},{"$f":"IF(A173<=n_select,'2) Check for series resistance'!G177,\"\")","v":""},0,"",{"$f":"IF(AND(Validation!E$10,B173<>0,D173>=V_ex2),B173-V_bi,0)","v":0},"",{"$error":"#N/A"},{"$error":"#N/A"},"",""]
[139,{"$f":"IF(A174<=n_select,'2) Check for series resistance'!F178,0)","v":0},{"$f":"IF(A174<=n_select,'2) Check for series resistance'!G178,\"\")","v":""},0,"",{"$f":"IF(AND(Validation!E$10,B174<>0,D174>=V_ex2),B174-V_bi,0)","v":0},"",{"$error":"#N/A"},{"$error":"#N/A"},"",""]
[140,{"$f":"IF(A175<=n_select,'2) Check for series resistance'!F179,0)","v":0},{"$f":"IF(A175<=n_select,'2) Check for series resistance'!G179,\"\")","v":""},0,"",{"$f":"IF(AND(Validation!E$10,B175<>0,D175>=V_ex2),B175-V_bi,0)","v":0},"",{"$error":"#N/A"},{"$error":"#N/A"},"",""]
[141,{"$f":"IF(A176<=n_select,'2) Check for series resistance'!F180,0)","v":0},{"$f":"IF(A176<=n_select,'2) Check for series resistance'!G180,\"\")","v":""},0,"",{"$f":"IF(AND(Validation!E$10,B176<>0,D176>=V_ex2),B176-V_bi,0)","v":0},"",{"$error":"#N/A"},{"$error":"#N/A"},"",""]
[142,{"$f":"IF(A177<=n_select,'2) Check for series resistance'!F181,0)","v":0},{"$f":"IF(A177<=n_select,'2) Check for series resistance'!G181,\"\")","v":""},0,"",{"$f":"IF(AND(Validation!E$10,B177<>0,D177>=V_ex2),B177-V_bi,0)","v":0},"",{"$error":"#N/A"},{"$error":"#N/A"},"",""]
[143,{"$f":"IF(A178<=n_select,'2) Check for series resistance'!F182,0)","v":0},{"$f":"IF(A178<=n_select,'2) Check for series resistance'!G182,\"\")","v":""},0,"",{"$f":"IF(AND(Validation!E$10,B178<>0,D178>=V_ex2),B178-V_bi,0)","v":0},"",{"$error":"#N/A"},{"$error":"#N/A"},"",""]
[144,{"$f":"IF(A179<=n_select,'2) Check for series resistance'!F183,0)","v":0},{"$f":"IF(A179<=n_select,'2) Check for series resistance'!G183,\"\")","v":""},0,"",{"$f":"IF(AND(Validation!E$10,B179<>0,D179>=V_ex2),B179-V_bi,0)","v":0},"",{"$error":"#N/A"},{"$error":"#N/A"},"",""]
[145,{"$f":"IF(A180<=n_select,'2) Check for series resistance'!F184,0)","v":0},{"$f":"IF(A180<=n_select,'2) Check for series resistance'!G184,\"\")","v":""},0,"",{"$f":"IF(AND(Validation!E$10,B180<>0,D180>=V_ex2),B180-V_bi,0)","v":0},"",{"$error":"#N/A"},{"$error":"#N/A"},"",""]
[146,{"$f":"IF(A181<=n_select,'2) Check for series resistance'!F185,0)","v":0},{"$f":"IF(A181<=n_select,'2) Check for series resistance'!G185,\"\")","v":""},0,"",{"$f":"IF(AND(Validation!E$10,B181<>0,D181>=V_ex2),B181-V_bi,0)","v":0},"",{"$error":"#N/A"},{"$error":"#N/A"},"",""]
[147,{"$f":"IF(A182<=n_select,'2) Check for series resistance'!F186,0)","v":0},{"$f":"IF(A182<=n_select,'2) Check for series resistance'!G186,\"\")","v":""},0,"",{"$f":"IF(AND(Validation!E$10,B182<>0,D182>=V_ex2),B182-V_bi,0)","v":0},"",{"$error":"#N/A"},{"$error":"#N/A"},"",""]
[148,{"$f":"IF(A183<=n_select,'2) Check for series resistance'!F187,0)","v":0},{"$f":"IF(A183<=n_select,'2) Check for series resistance'!G187,\"\")","v":""},0,"",{"$f":"IF(AND(Validation!E$10,B183<>0,D183>=V_ex2),B183-V_bi,0)","v":0},"",{"$error":"#N/A"},{"$error":"#N/A"},"",""]
[149,{"$f":"IF(A184<=n_select,'2) Check for series resistance'!F188,0)","v":0},{"$f":"IF(A184<=n_select,'2) Check for series resistance'!G188,\"\")","v":""},0,"",{"$f":"IF(AND(Validation!E$10,B184<>0,D184>=V_ex2),B184-V_bi,0)","v":0},"",{"$error":"#N/A"},{"$error":"#N/A"},"",""]
[150,{"$f":"IF(A185<=n_select,'2) Check for series resistance'!F189,0)","v":0},{"$f":"IF(A185<=n_select,'2) Check for series resistance'!G189,\"\")","v":""},0,"",{"$f":"IF(AND(Validation!E$10,B185<>0,D185>=V_ex2),B185-V_bi,0)","v":0},"",{"$error":"#N/A"},{"$error":"#N/A"},"",""]
[151,{"$f":"IF(A186<=n_select,'2) Check for series resistance'!F190,0)","v":0},{"$f":"IF(A186<=n_select,'2) Check for series resistance'!G190,\"\")","v":""},0,"",{"$f":"IF(AND(Validation!E$10,B186<>0,D186>=V_ex2),B186-V_bi,0)","v":0},"",{"$error":"#N/A"},{"$error":"#N/A"},"",""]
[152,{"$f":"IF(A187<=n_select,'2) Check for series resistance'!F191,0)","v":0},{"$f":"IF(A187<=n_select,'2) Check for series resistance'!G191,\"\")","v":""},0,"",{"$f":"IF(AND(Validation!E$10,B187<>0,D187>=V_ex2),B187-V_bi,0)","v":0},"",{"$error":"#N/A"},{"$error":"#N/A"},"",""]
[153,{"$f":"IF(A188<=n_select,'2) Check for series resistance'!F192,0)","v":0},{"$f":"IF(A188<=n_select,'2) Check for series resistance'!G192,\"\")","v":""},0,"",{"$f":"IF(AND(Validation!E$10,B188<>0,D188>=V_ex2),B188-V_bi,0)","v":0},"",{"$error":"#N/A"},{"$error":"#N/A"},"",""]
[154,{"$f":"IF(A189<=n_select,'2) Check for series resistance'!F193,0)","v":0},{"$f":"IF(A189<=n_select,'2) Check for series resistance'!G193,\"\")","v":""},0,"",{"$f":"IF(AND(Validation!E$10,B189<>0,D189>=V_ex2),B189-V_bi,0)","v":0},"",{"$error":"#N/A"},{"$error":"#N/A"},"",""]
[155,{"$f":"IF(A190<=n_select,'2) Check for series resistance'!F194,0)","v":0},{"$f":"IF(A190<=n_select,'2) Check for series resistance'!G194,\"\")","v":""},0,"",{"$f":"IF(AND(Validation!E$10,B190<>0,D190>=V_ex2),B190-V_bi,0)","v":0},"",{"$error":"#N/A"},{"$error":"#N/A"},"",""]
[156,{"$f":"IF(A191<=n_select,'2) Check for series resistance'!F195,0)","v":0},{"$f":"IF(A191<=n_select,'2) Check for series resistance'!G195,\"\")","v":""},0,"",{"$f":"IF(AND(Validation!E$10,B191<>0,D191>=V_ex2),B191-V_bi,0)","v":0},"",{"$error":"#N/A"},{"$error":"#N/A"},"",""]
[157,{"$f":"IF(A192<=n_select,'2) Check for series resistance'!F196,0)","v":0},{"$f":"IF(A192<=n_select,'2) Check for series resistance'!G196,\"\")","v":""},0,"",{"$f":"IF(AND(Validation!E$10,B192<>0,D192>=V_ex2),B192-V_bi,0)","v":0},"",{"$error":"#N/A"},{"$error":"#N/A"},"",""]
[158,{"$f":"IF(A193<=n_select,'2) Check for series resistance'!F197,0)","v":0},{"$f":"IF(A193<=n_select,'2) Check for series resistance'!G197,\"\")","v":""},0,"",{"$f":"IF(AND(Validation!E$10,B193<>0,D193>=V_ex2),B193-V_bi,0)","v":0},"",{"$error":"#N/A"},{"$error":"#N/A"},"",""]
[159,{"$f":"IF(A194<=n_select,'2) Check for series resistance'!F198,0)","v":0},{"$f":"IF(A194<=n_select,'2) Check for series resistance'!G198,\"\")","v":""},0,"",{"$f":"IF(AND(Validation!E$10,B194<>0,D194>=V_ex2),B194-V_bi,0)","v":0},"",{"$error":"#N/A"},{"$error":"#N/A"},"",""]
[160,{"$f":"IF(A195<=n_select,'2) Check for series resistance'!F199,0)","v":0},{"$f":"IF(A195<=n_select,'2) Check for series resistance'!G199,\"\")","v":""},0,"",{"$f":"IF(AND(Validation!E$10,B195<>0,D195>=V_ex2),B195-V_bi,0)","v":0},"",{"$error":"#N/A"},{"$error":"#N/A"},"",""]
[161,{"$f":"IF(A196<=n_select,'2) Check for series resistance'!F200,0)","v":0},{"$f":"IF(A196<=n_select,'2) Check for series resistance'!G200,\"\")","v":""},0,"",{"$f":"IF(AND(Validation!E$10,B196<>0,D196>=V_ex2),B196-V_bi,0)","v":0},"",{"$error":"#N/A"},{"$error":"#N/A"},"",""]
[162,{"$f":"IF(A197<=n_select,'2) Check for series resistance'!F201,0)","v":0},{"$f":"IF(A197<=n_select,'2) Check for series resistance'!G201,\"\")","v":""},0,"",{"$f":"IF(AND(Validation!E$10,B197<>0,D197>=V_ex2),B197-V_bi,0)","v":0},"",{"$error":"#N/A"},{"$error":"#N/A"},"",""]
[163,{"$f":"IF(A198<=n_select,'2) Check for series resistance'!F202,0)","v":0},{"$f":"IF(A198<=n_select,'2) Check for series resistance'!G202,\"\")","v":""},0,"",{"$f":"IF(AND(Validation!E$10,B198<>0,D198>=V_ex2),B198-V_bi,0)","v":0},"",{"$error":"#N/A"},{"$error":"#N/A"},"",""]
[164,{"$f":"IF(A199<=n_select,'2) Check for series resistance'!F203,0)","v":0},{"$f":"IF(A199<=n_select,'2) Check for series resistance'!G203,\"\")","v":""},0,"",{"$f":"IF(AND(Validation!E$10,B199<>0,D199>=V_ex2),B199-V_bi,0)","v":0},"",{"$error":"#N/A"},{"$error":"#N/A"},"",""]
[165,{"$f":"IF(A200<=n_select,'2) Check for series resistance'!F204,0)","v":0},{"$f":"IF(A200<=n_select,'2) Check for series resistance'!G204,\"\")","v":""},0,"",{"$f":"IF(AND(Validation!E$10,B200<>0,D200>=V_ex2),B200-V_bi,0)","v":0},"",{"$error":"#N/A"},{"$error":"#N/A"},"",""]
[166,{"$f":"IF(A201<=n_select,'2) Check for series resistance'!F205,0)","v":0},{"$f":"IF(A201<=n_select,'2) Check for series resistance'!G205,\"\")","v":""},0,"",{"$f":"IF(AND(Validation!E$10,B201<>0,D201>=V_ex2),B201-V_bi,0)","v":0},"",{"$error":"#N/A"},{"$error":"#N/A"},"",""]
[167,{"$f":"IF(A202<=n_select,'2) Check for series resistance'!F206,0)","v":0},{"$f":"IF(A202<=n_select,'2) Check for series resistance'!G206,\"\")","v":""},0,"",{"$f":"IF(AND(Validation!E$10,B202<>0,D202>=V_ex2),B202-V_bi,0)","v":0},"",{"$error":"#N/A"},{"$error":"#N/A"},"",""]
[168,{"$f":"IF(A203<=n_select,'2) Check for series resistance'!F207,0)","v":0},{"$f":"IF(A203<=n_select,'2) Check for series resistance'!G207,\"\")","v":""},0,"",{"$f":"IF(AND(Validation!E$10,B203<>0,D203>=V_ex2),B203-V_bi,0)","v":0},"",{"$error":"#N/A"},{"$error":"#N/A"},"",""]
[169,{"$f":"IF(A204<=n_select,'2) Check for series resistance'!F208,0)","v":0},{"$f":"IF(A204<=n_select,'2) Check for series resistance'!G208,\"\")","v":""},0,"",{"$f":"IF(AND(Validation!E$10,B204<>0,D204>=V_ex2),B204-V_bi,0)","v":0},"",{"$error":"#N/A"},{"$error":"#N/A"},"",""]
[170,{"$f":"IF(A205<=n_select,'2) Check for series resistance'!F209,0)","v":0},{"$f":"IF(A205<=n_select,'2) Check for series resistance'!G209,\"\")","v":""},0,"",{"$f":"IF(AND(Validation!E$10,B205<>0,D205>=V_ex2),B205-V_bi,0)","v":0},"",{"$error":"#N/A"},{"$error":"#N/A"},"",""]
[171,{"$f":"IF(A206<=n_select,'2) Check for series resistance'!F210,0)","v":0},{"$f":"IF(A206<=n_select,'2) Check for series resistance'!G210,\"\")","v":""},0,"",{"$f":"IF(AND(Validation!E$10,B206<>0,D206>=V_ex2),B206-V_bi,0)","v":0},"",{"$error":"#N/A"},{"$error":"#N/A"},"",""]
[172,{"$f":"IF(A207<=n_select,'2) Check for series resistance'!F211,0)","v":0},{"$f":"IF(A207<=n_select,'2) Check for series resistance'!G211,\"\")","v":""},0,"",{"$f":"IF(AND(Validation!E$10,B207<>0,D207>=V_ex2),B207-V_bi,0)","v":0},"",{"$error":"#N/A"},{"$error":"#N/A"},"",""]
[173,{"$f":"IF(A208<=n_select,'2) Check for series resistance'!F212,0)","v":0},{"$f":"IF(A208<=n_select,'2) Check for series resistance'!G212,\"\")","v":""},0,"",{"$f":"IF(AND(Validation!E$10,B208<>0,D208>=V_ex2),B208-V_bi,0)","v":0},"",{"$error":"#N/A"},{"$error":"#N/A"},"",""]
[174,{"$f":"IF(A209<=n_select,'2) Check for series resistance'!F213,0)","v":0},{"$f":"IF(A209<=n_select,'2) Check for series resistance'!G213,\"\")","v":""},0,"",{"$f":"IF(AND(Validation!E$10,B209<>0,D209>=V_ex2),B209-V_bi,0)","v":0},"",{"$error":"#N/A"},{"$error":"#N/A"},"",""]
[175,{"$f":"IF(A210<=n_select,'2) Check for series resistance'!F214,0)","v":0},{"$f":"IF(A210<=n_select,'2) Check for series resistance'!G214,\"\")","v":""},0,"",{"$f":"IF(AND(Validation!E$10,B210<>0,D210>=V_ex2),B210-V_bi,0)","v":0},"",{"$error":"#N/A"},{"$error":"#N/A"},"",""]
[176,{"$f":"IF(A211<=n_select,'2) Check for series resistance'!F215,0)","v":0},{"$f":"IF(A211<=n_select,'2) Check for series resistance'!G215,\"\")","v":""},0,"",{"$f":"IF(AND(Validation!E$10,B211<>0,D211>=V_ex2),B211-V_bi,0)","v":0},"",{"$error":"#N/A"},{"$error":"#N/A"},"",""]
[177,{"$f":"IF(A212<=n_select,'2) Check for series resistance'!F216,0)","v":0},{"$f":"IF(A212<=n_select,'2) Check for series resistance'!G216,\"\")","v":""},0,"",{"$f":"IF(AND(Validation!E$10,B212<>0,D212>=V_ex2),B212-V_bi,0)","v":0},"",{"$error":"#N/A"},{"$error":"#N/A"},"",""]
[178,{"$f":"IF(A213<=n_select,'2) Check for series resistance'!F217,0)","v":0},{"$f":"IF(A213<=n_select,'2) Check for series resistance'!G217,\"\")","v":""},0,"",{"$f":"IF(AND(Validation!E$10,B213<>0,D213>=V_ex2),B213-V_bi,0)","v":0},"",{"$error":"#N/A"},{"$error":"#N/A"},"",""]
[179,{"$f":"IF(A214<=n_select,'2) Check for series resistance'!F218,0)","v":0},{"$f":"IF(A214<=n_select,'2) Check for series resistance'!G218,\"\")","v":""},0,"",{"$f":"IF(AND(Validation!E$10,B214<>0,D214>=V_ex2),B214-V_bi,0)","v":0},"",{"$error":"#N/A"},{"$error":"#N/A"},"",""]
[180,{"$f":"IF(A215<=n_select,'2) Check for series resistance'!F219,0)","v":0},{"$f":"IF(A215<=n_select,'2) Check for series resistance'!G219,\"\")","v":""},0,"",{"$f":"IF(AND(Validation!E$10,B215<>0,D215>=V_ex2),B215-V_bi,0)","v":0},"",{"$error":"#N/A"},{"$error":"#N/A"},"",""]
[181,{"$f":"IF(A216<=n_select,'2) Check for series resistance'!F220,0)","v":0},{"$f":"IF(A216<=n_select,'2) Check for series resistance'!G220,\"\")","v":""},0,"",{"$f":"IF(AND(Validation!E$10,B216<>0,D216>=V_ex2),B216-V_bi,0)","v":0},"",{"$error":"#N/A"},{"$error":"#N/A"},"",""]
[182,{"$f":"IF(A217<=n_select,'2) Check for series resistance'!F221,0)","v":0},{"$f":"IF(A217<=n_select,'2) Check for series resistance'!G221,\"\")","v":""},0,"",{"$f":"IF(AND(Validation!E$10,B217<>0,D217>=V_ex2),B217-V_bi,0)","v":0},"",{"$error":"#N/A"},{"$error":"#N/A"},"",""]
[183,{"$f":"IF(A218<=n_select,'2) Check for series resistance'!F222,0)","v":0},{"$f":"IF(A218<=n_select,'2) Check for series resistance'!G222,\"\")","v":""},0,"",{"$f":"IF(AND(Validation!E$10,B218<>0,D218>=V_ex2),B218-V_bi,0)","v":0},"",{"$error":"#N/A"},{"$error":"#N/A"},"",""]
[184,{"$f":"IF(A219<=n_select,'2) Check for series resistance'!F223,0)","v":0},{"$f":"IF(A219<=n_select,'2) Check for series resistance'!G223,\"\")","v":""},0,"",{"$f":"IF(AND(Validation!E$10,B219<>0,D219>=V_ex2),B219-V_bi,0)","v":0},"",{"$error":"#N/A"},{"$error":"#N/A"},"",""]
[185,{"$f":"IF(A220<=n_select,'2) Check for series resistance'!F224,0)","v":0},{"$f":"IF(A220<=n_select,'2) Check for series resistance'!G224,\"\")","v":""},0,"",{"$f":"IF(AND(Validation!E$10,B220<>0,D220>=V_ex2),B220-V_bi,0)","v":0},"",{"$error":"#N/A"},{"$error":"#N/A"},"",""]
[186,{"$f":"IF(A221<=n_select,'2) Check for series resistance'!F225,0)","v":0},{"$f":"IF(A221<=n_select,'2) Check for series resistance'!G225,\"\")","v":""},0,"",{"$f":"IF(AND(Validation!E$10,B221<>0,D221>=V_ex2),B221-V_bi,0)","v":0},"",{"$error":"#N/A"},{"$error":"#N/A"},"",""]
[187,{"$f":"IF(A222<=n_select,'2) Check for series resistance'!F226,0)","v":0},{"$f":"IF(A222<=n_select,'2) Check for series resistance'!G226,\"\")","v":""},0,"",{"$f":"IF(AND(Validation!E$10,B222<>0,D222>=V_ex2),B222-V_bi,0)","v":0},"",{"$error":"#N/A"},{"$error":"#N/A"},"",""]
[188,{"$f":"IF(A223<=n_select,'2) Check for series resistance'!F227,0)","v":0},{"$f":"IF(A223<=n_select,'2) Check for series resistance'!G227,\"\")","v":""},0,"",{"$f":"IF(AND(Validation!E$10,B223<>0,D223>=V_ex2),B223-V_bi,0)","v":0},"",{"$error":"#N/A"},{"$error":"#N/A"},"",""]
[189,{"$f":"IF(A224<=n_select,'2) Check for series resistance'!F228,0)","v":0},{"$f":"IF(A224<=n_select,'2) Check for series resistance'!G228,\"\")","v":""},0,"",{"$f":"IF(AND(Validation!E$10,B224<>0,D224>=V_ex2),B224-V_bi,0)","v":0},"",{"$error":"#N/A"},{"$error":"#N/A"},"",""]
[190,{"$f":"IF(A225<=n_select,'2) Check for series resistance'!F229,0)","v":0},{"$f":"IF(A225<=n_select,'2) Check for series resistance'!G229,\"\")","v":""},0,"",{"$f":"IF(AND(Validation!E$10,B225<>0,D225>=V_ex2),B225-V_bi,0)","v":0},"",{"$error":"#N/A"},{"$error":"#N/A"},"",""]
[191,{"$f":"IF(A226<=n_select,'2) Check for series resistance'!F230,0)","v":0},{"$f":"IF(A226<=n_select,'2) Check for series resistance'!G230,\"\")","v":""},0,"",{"$f":"IF(AND(Validation!E$10,B226<>0,D226>=V_ex2),B226-V_bi,0)","v":0},"",{"$error":"#N/A"},{"$error":"#N/A"},"",""]
[192,{"$f":"IF(A227<=n_select,'2) Check for series resistance'!F231,0)","v":0},{"$f":"IF(A227<=n_select,'2) Check for series resistance'!G231,\"\")","v":""},0,"",{"$f":"IF(AND(Validation!E$10,B227<>0,D227>=V_ex2),B227-V_bi,0)","v":0},"",{"$error":"#N/A"},{"$error":"#N/A"},"",""]
[193,{"$f":"IF(A228<=n_select,'2) Check for series resistance'!F232,0)","v":0},{"$f":"IF(A228<=n_select,'2) Check for series resistance'!G232,\"\")","v":""},0,"",{"$f":"IF(AND(Validation!E$10,B228<>0,D228>=V_ex2),B228-V_bi,0)","v":0},"",{"$error":"#N/A"},{"$f":"MATCH(D228*direction,J$36:J$753,1)","v":{"$error":"#N/A"}},"",""]
[194,{"$f":"IF(A229<=n_select,'2) Check for series resistance'!F233,0)","v":0},{"$f":"IF(A229<=n_select,'2) Check for series resistance'!G233,\"\")","v":""},{"$f":"IF(B229<>0,B229-$C$6,0)","v":0},{"$f":"IF(D229<>0,C229,\"\")","v":""},{"$f":"IF(AND(Validation!E$10,B229<>0,D229>=V_ex2),B229-V_bi,0)","v":0},{"$f":"IF(F229<>0,E229,\"\")","v":""},{"$f":"INDEX(C$36:C$753,I229)+(INDEX(C$36:C$753,I229+1)-INDEX(C$36:C$753,I229))*(D229-INDEX(B$36:B$753,I229))/(INDEX(B$36:B$753,I229+1)-INDEX(B$36:B$753,I229))","v":{"$error":"#N/A"}},{"$error":"#N/A"},{"$f":"IF(B229<>0,direction*B229,\"\")","v":""},{"$f":"IF(AND(B229<>0,COUNT(H229)>0),IF(AND(D229<>0,OR(H229/E229>10,E229/H229>10)),D229,\"\"),\"\")","v":""}]
[195,{"$f":"IF(A230<=n_select,'2) Check for series resistance'!F234,0)","v":0},{"$f":"IF(A230<=n_select,'2) Check for series resistance'!G234,\"\")","v":""},0,"",{"$f":"IF(AND(Validation!E$10,B230<>0,D230>=V_ex2),B230-V_bi,0)","v":0},"",{"$error":"#N/A"},{"$error":"#N/A"},"",""]
[196,{"$f":"IF(A231<=n_select,'2) Check for series resistance'!F235,0)","v":0},{"$f":"IF(A231<=n_select,'2) Check for series resistance'!G235,\"\")","v":""},0,"",{"$f":"IF(AND(Validation!E$10,B231<>0,D231>=V_ex2),B231-V_bi,0)","v":0},"",{"$error":"#N/A"},{"$error":"#N/A"},"",""]
[197,{"$f":"IF(A232<=n_select,'2) Check for series resistance'!F236,0)","v":0},{"$f":"IF(A232<=n_select,'2) Check for series resistance'!G236,\"\")","v":""},0,"",{"$f":"IF(AND(Validation!E$10,B232<>0,D232>=V_ex2),B232-V_bi,0)","v":0},"",{"$error":"#N/A"},{"$error":"#N/A"},"",""]
[198,{"$f":"IF(A233<=n_select,'2) Check for series resistance'!F237,0)","v":0},{"$f":"IF(A233<=n_select,'2) Check for series resistance'!G237,\"\")","v":""},0,"",{"$f":"IF(AND(Validation!E$10,B233<>0,D233>=V_ex2),B233-V_bi,0)","v":0},"",{"$error":"#N/A"},{"$error":"#N/A"},"",""]
[199,{"$f":"IF(A234<=n_select,'2) Check for series resistance'!F238,0)","v":0},{"$f":"IF(A234<=n_select,'2) Check for series resistance'!G238,\"\")","v":""},0,"",{"$f":"IF(AND(Validation!E$10,B234<>0,D234>=V_ex2),B234-V_bi,0)","v":0},"",{"$error":"#N/A"},{"$error":"#N/A"},"",""]
[200,{"$f":"IF(A235<=n_select,'2) Check for series resistance'!F239,0)","v":0},{"$f":"IF(A235<=n_select,'2) Check for series resistance'!G239,\"\")","v":""},0,"",{"$f":"IF(AND(Validation!E$10,B235<>0,D235>=V_ex2),B235-V_bi,0)","v":0},"",{"$error":"#N/A"},{"$error":"#N/A"},"",""]
[201,{"$f":"IF(A236<=n_select,'2) Check for series resistance'!F240,0)","v":0},{"$f":"IF(A236<=n_select,'2) Check for series resistance'!G240,\"\")","v":""},0,"",{"$f":"IF(AND(Validation!E$10,B236<>0,D236>=V_ex2),B236-V_bi,0)","v":0},"",{"$error":"#N/A"},{"$error":"#N/A"},"",""]
[202,{"$f":"IF(A237<=n_select,'2) Check for series resistance'!F241,0)","v":0},{"$f":"IF(A237<=n_select,'2) Check for series resistance'!G241,\"\")","v":""},0,"",{"$f":"IF(AND(Validation!E$10,B237<>0,D237>=V_ex2),B237-V_bi,0)","v":0},"",{"$error":"#N/A"},{"$error":"#N/A"},"",""]
[203,{"$f":"IF(A238<=n_select,'2) Check for series resistance'!F242,0)","v":0},{"$f":"IF(A238<=n_select,'2) Check for series resistance'!G242,\"\")","v":""},0,"",{"$f":"IF(AND(Validation!E$10,B238<>0,D238>=V_ex2),B238-V_bi,0)","v":0},"",{"$error":"#N/A"},{"$error":"#N/A"},"",""]
[204,{"$f":"IF(A239<=n_select,'2) Check for series resistance'!F243,0)","v":0},{"$f":"IF(A239<=n_select,'2) Check for series resistance'!G243,\"\")","v":""},0,"",{"$f":"IF(AND(Validation!E$10,B239<>0,D239>=V_ex2),B239-V_bi,0)","v":0},"",{"$error":"#N/A"},{"$error":"#N/A"},"",""]
[205,{"$f":"IF(A240<=n_select,'2) Check for series resistance'!F244,0)","v":0},{"$f":"IF(A240<=n_select,'2) Check for series resistance'!G244,\"\")","v":""},0,"",{"$f":"IF(AND(Validation!E$10,B240<>0,D240>=V_ex2),B240-V_bi,0)","v":0},"",{"$error":"#N/A"},{"$error":"#N/A"},"",""]
[206,{"$f":"IF(A241<=n_select,'2) Check for series resistance'!F245,0)","v":0},{"$f":"IF(A241<=n_select,'2) Check for series resistance'!G245,\"\")","v":""},0,"",{"$f":"IF(AND(Validation!E$10,B241<>0,D241>=V_ex2),B241-V_bi,0)","v":0},"",{"$error":"#N/A"},{"$error":"#N/A"},"",""]
[207,{"$f":"IF(A242<=n_select,'2) Check for series resistance'!F246,0)","v":0},{"$f":"IF(A242<=n_select,'2) Check for series resistance'!G246,\"\")","v":""},0,"",{"$f":"IF(AND(Validation!E$10,B242<>0,D242>=V_ex2),B242-V_bi,0)","v":0},"",{"$error":"#N/A"},{"$error":"#N/A"},"",""]
[208,{"$f":"IF(A243<=n_select,'2) Check for series resistance'!F247,0)","v":0},{"$f":"IF(A243<=n_select,'2) Check for series resistance'!G247,\"\")","v":""},0,"",{"$f":"IF(AND(Validation!E$10,B243<>0,D243>=V_ex2),B243-V_bi,0)","v":0},"",{"$error":"#N/A"},{"$error":"#N/A"},"",""]
[209,{"$f":"IF(A244<=n_select,'2) Check for series resistance'!F248,0)","v":0},{"$f":"IF(A244<=n_select,'2) Check for series resistance'!G248,\"\")","v":""},0,"",{"$f":"IF(AND(Validation!E$10,B244<>0,D244>=V_ex2),B244-V_bi,0)","v":0},"",{"$error":"#N/A"},{"$error":"#N/A"},"",""]
[210,{"$f":"IF(A245<=n_select,'2) Check for series resistance'!F249,0)","v":0},{"$f":"IF(A245<=n_select,'2) Check for series resistance'!G249,\"\")","v":""},0,"",{"$f":"IF(AND(Validation!E$10,B245<>0,D245>=V_ex2),B245-V_bi,0)","v":0},"",{"$error":"#N/A"},{"$error":"#N/A"},"",""]
[211,{"$f":"IF(A246<=n_select,'2) Check for series resistance'!F250,0)","v":0},{"$f":"IF(A246<=n_select,'2) Check for series resistance'!G250,\"\")","v":""},0,"",{"$f":"IF(AND(Validation!E$10,B246<>0,D246>=V_ex2),B246-V_bi,0)","v":0},"",{"$error":"#N/A"},{"$error":"#N/A"},"",""]
[212,{"$f":"IF(A247<=n_select,'2) Check for series resistance'!F251,0)","v":0},{"$f":"IF(A247<=n_select,'2) Check for series resistance'!G251,\"\")","v":""},0,"",{"$f":"IF(AND(Validation!E$10,B247<>0,D247>=V_ex2),B247-V_bi,0)","v":0},"",{"$error":"#N/A"},{"$error":"#N/A"},"",""]
[213,{"$f":"IF(A248<=n_select,'2) Check for series resistance'!F252,0)","v":0},{"$f":"IF(A248<=n_select,'2) Check for series resistance'!G252,\"\")","v":""},0,"",{"$f":"IF(AND(Validation!E$10,B248<>0,D248>=V_ex2),B248-V_bi,0)","v":0},"",{"$error":"#N/A"},{"$error":"#N/A"},"",""]
[214,{"$f":"IF(A249<=n_select,'2) Check for series resistance'!F253,0)","v":0},{"$f":"IF(A249<=n_select,'2) Check for series resistance'!G253,\"\")","v":""},0,"",{"$f":"IF(AND(Validation!E$10,B249<>0,D249>=V_ex2),B249-V_bi,0)","v":0},"",{"$error":"#N/A"},{"$error":"#N/A"},"",""]
[215,{"$f":"IF(A250<=n_select,'2) Check for series resistance'!F254,0)","v":0},{"$f":"IF(A250<=n_select,'2) Check for series resistance'!G254,\"\")","v":""},0,"",{"$f":"IF(AND(Validation!E$10,B250<>0,D250>=V_ex2),B250-V_bi,0)","v":0},"",{"$error":"#N/A"},{"$error":"#N/A"},"",""]
[216,{"$f":"IF(A251<=n_select,'2) Check for series resistance'!F255,0)","v":0},{"$f":"IF(A251<=n_select,'2) Check for series resistance'!G255,\"\")","v":""},0,"",{"$f":"IF(AND(Validation!E$10,B251<>0,D251>=V_ex2),B251-V_bi,0)","v":0},"",{"$error":"#N/A"},{"$error":"#N/A"},"",""]
[217,{"$f":"IF(A252<=n_select,'2) Check for series resistance'!F256,0)","v":0},{"$f":"IF(A252<=n_select,'2) Check for series resistance'!G256,\"\")","v":""},0,"",{"$f":"IF(AND(Validation!E$10,B252<>0,D252>=V_ex2),B252-V_bi,0)","v":0},"",{"$error":"#N/A"},{"$error":"#N/A"},"",""]
[218,{"$f":"IF(A253<=n_select,'2) Check for series resistance'!F257,0)","v":0},{"$f":"IF(A253<=n_select,'2) Check for series resistance'!G257,\"\")","v":""},0,"",{"$f":"IF(AND(Validation!E$10,B253<>0,D253>=V_ex2),B253-V_bi,0)","v":0},"",{"$error":"#N/A"},{"$error":"#N/A"},"",""]
[219,{"$f":"IF(A254<=n_select,'2) Check for series resistance'!F258,0)","v":0},{"$f":"IF(A254<=n_select,'2) Check for series resistance'!G258,\"\")","v":""},0,"",{"$f":"IF(AND(Validation!E$10,B254<>0,D254>=V_ex2),B254-V_bi,0)","v":0},"",{"$error":"#N/A"},{"$error":"#N/A"},"",""]
[220,{"$f":"IF(A255<=n_select,'2) Check for series resistance'!F259,0)","v":0},{"$f":"IF(A255<=n_select,'2) Check for series resistance'!G259,\"\")","v":""},0,"",{"$f":"IF(AND(Validation!E$10,B255<>0,D255>=V_ex2),B255-V_bi,0)","v":0},"",{"$error":"#N/A"},{"$error":"#N/A"},"",""]
[221,{"$f":"IF(A256<=n_select,'2) Check for series resistance'!F260,0)","v":0},{"$f":"IF(A256<=n_select,'2) Check for series resistance'!G260,\"\")","v":""},0,"",{"$f":"IF(AND(Validation!E$10,B256<>0,D256>=V_ex2),B256-V_bi,0)","v":0},"",{"$error":"#N/A"},{"$error":"#N/A"},"",""]
[222,{"$f":"IF(A257<=n_select,'2) Check for series resistance'!F261,0)","v":0},{"$f":"IF(A257<=n_select,'2) Check for series resistance'!G261,\"\")","v":""},0,"",{"$f":"IF(AND(Validation!E$10,B257<>0,D257>=V_ex2),B257-V_bi,0)","v":0},"",{"$error":"#N/A"},{"$error":"#N/A"},"",""]
[223,{"$f":"IF(A258<=n_select,'2) Check for series resistance'!F262,0)","v":0},{"$f":"IF(A258<=n_select,'2) Check for series resistance'!G262,\"\")","v":""},0,"",{"$f":"IF(AND(Validation!E$10,B258<>0,D258>=V_ex2),B258-V_bi,0)","v":0},"",{"$error":"#N/A"},{"$error":"#N/A"},"",""]
[224,{"$f":"IF(A259<=n_select,'2) Check for series resistance'!F263,0)","v":0},{"$f":"IF(A259<=n_select,'2) Check for series resistance'!G263,\"\")","v":""},0,"",{"$f":"IF(AND(Validation!E$10,B259<>0,D259>=V_ex2),B259-V_bi,0)","v":0},"",{"$error":"#N/A"},{"$error":"#N/A"},"",""]
[225,{"$f":"IF(A260<=n_select,'2) Check for series resistance'!F264,0)","v":0},{"$f":"IF(A260<=n_select,'2) Check for series resistance'!G264,\"\")","v":""},0,"",{"$f":"IF(AND(Validation!E$10,B260<>0,D260>=V_ex2),B260-V_bi,0)","v":0},"",{"$error":"#N/A"},{"$error":"#N/A"},"",""]
[226,{"$f":"IF(A261<=n_select,'2) Check for series resistance'!F265,0)","v":0},{"$f":"IF(A261<=n_select,'2) Check for series resistance'!G265,\"\")","v":""},0,"",{"$f":"IF(AND(Validation!E$10,B261<>0,D261>=V_ex2),B261-V_bi,0)","v":0},"",{"$error":"#N/A"},{"$error":"#N/A"},"",""]
[227,{"$f":"IF(A262<=n_select,'2) Check for series resistance'!F266,0)","v":0},{"$f":"IF(A262<=n_select,'2) Check for series resistance'!G266,\"\")","v":""},0,"",{"$f":"IF(AND(Validation!E$10,B262<>0,D262>=V_ex2),B262-V_bi,0)","v":0},"",{"$error":"#N/A"},{"$error":"#N/A"},"",""]
[228,{"$f":"IF(A263<=n_select,'2) Check for series resistance'!F267,0)","v":0},{"$f":"IF(A263<=n_select,'2) Check for series resistance'!G267,\"\")","v":""},0,"",{"$f":"IF(AND(Validation!E$10,B263<>0,D263>=V_ex2),B263-V_bi,0)","v":0},"",{"$error":"#N/A"},{"$error":"#N/A"},"",""]
[229,{"$f":"IF(A264<=n_select,'2) Check for series resistance'!F268,0)","v":0},{"$f":"IF(A264<=n_select,'2) Check for series resistance'!G268,\"\")","v":""},0,"",{"$f":"IF(AND(Validation!E$10,B264<>0,D264>=V_ex2),B264-V_bi,0)","v":0},"",{"$error":"#N/A"},{"$error":"#N/A"},"",""]
[230,{"$f":"IF(A265<=n_select,'2) Check for series resistance'!F269,0)","v":0},{"$f":"IF(A265<=n_select,'2) Check for series resistance'!G269,\"\")","v":""},0,"",{"$f":"IF(AND(Validation!E$10,B265<>0,D265>=V_ex2),B265-V_bi,0)","v":0},"",{"$error":"#N/A"},{"$error":"#N/A"},"",""]
[231,{"$f":"IF(A266<=n_select,'2) Check for series resistance'!F270,0)","v":0},{"$f":"IF(A266<=n_select,'2) Check for series resistance'!G270,\"\")","v":""},0,"",{"$f":"IF(AND(Validation!E$10,B266<>0,D266>=V_ex2),B266-V_bi,0)","v":0},"",{"$error":"#N/A"},{"$error":"#N/A"},"",""]
[232,{"$f":"IF(A267<=n_select,'2) Check for series resistance'!F271,0)","v":0},{"$f":"IF(A267<=n_select,'2) Check for series resistance'!G271,\"\")","v":""},0,"",{"$f":"IF(AND(Validation!E$10,B267<>0,D267>=V_ex2),B267-V_bi,0)","v":0},"",{"$error":"#N/A"},{"$error":"#N/A"},"",""]
[233,{"$f":"IF(A268<=n_select,'2) Check for series resistance'!F272,0)","v":0},{"$f":"IF(A268<=n_select,'2) Check for series resistance'!G272,\"\")","v":""},0,"",{"$f":"IF(AND(Validation!E$10,B268<>0,D268>=V_ex2),B268-V_bi,0)","v":0},"",{"$error":"#N/A"},{"$error":"#N/A"},"",""]
[234,{"$f":"IF(A269<=n_select,'2) Check for series resistance'!F273,0)","v":0},{"$f":"IF(A269<=n_select,'2) Check for series resistance'!G273,\"\")","v":""},0,"",{"$f":"IF(AND(Validation!E$10,B269<>0,D269>=V_ex2),B269-V_bi,0)","v":0},"",{"$error":"#N/A"},{"$error":"#N/A"},"",""]
[235,{"$f":"IF(A270<=n_select,'2) Check for series resistance'!F274,0)","v":0},{"$f":"IF(A270<=n_select,'2) Check for series resistance'!G274,\"\")","v":""},0,"",{"$f":"IF(AND(Validation!E$10,B270<>0,D270>=V_ex2),B270-V_bi,0)","v":0},"",{"$error":"#N/A"},{"$error":"#N/A"},"",""]
[236,{"$f":"IF(A271<=n_select,'2) Check for series resistance'!F275,0)","v":0},{"$f":"IF(A271<=n_select,'2) Check for series resistance'!G275,\"\")","v":""},0,"",{"$f":"IF(AND(Validation!E$10,B271<>0,D271>=V_ex2),B271-V_bi,0)","v":0},"",{"$error":"#N/A"},{"$error":"#N/A"},"",""]
[237,{"$f":"IF(A272<=n_select,'2) Check for series resistance'!F276,0)","v":0},{"$f":"IF(A272<=n_select,'2) Check for series resistance'!G276,\"\")","v":""},0,"",{"$f":"IF(AND(Validation!E$10,B272<>0,D272>=V_ex2),B272-V_bi,0)","v":0},"",{"$error":"#N/A"},{"$error":"#N/A"},"",""]
[238,{"$f":"IF(A273<=n_select,'2) Check for series resistance'!F277,0)","v":0},{"$f":"IF(A273<=n_select,'2) Check for series resistance'!G277,\"\")","v":""},0,"",{"$f":"IF(AND(Validation!E$10,B273<>0,D273>=V_ex2),B273-V_bi,0)","v":0},"",{"$error":"#N/A"},{"$error":"#N/A"},"",""]
[239,{"$f":"IF(A274<=n_select,'2) Check for series resistance'!F278,0)","v":0},{"$f":"IF(A274<=n_select,'2) Check for series resistance'!G278,\"\")","v":""},0,"",{"$f":"IF(AND(Validation!E$10,B274<>0,D274>=V_ex2),B274-V_bi,0)","v":0},"",{"$error":"#N/A"},{"$error":"#N/A"},"",""]
[240,{"$f":"IF(A275<=n_select,'2) Check for series resistance'!F279,0)","v":0},{"$f":"IF(A275<=n_select,'2) Check for series resistance'!G279,\"\")","v":""},0,"",{"$f":"IF(AND(Validation!E$10,B275<>0,D275>=V_ex2),B275-V_bi,0)","v":0},"",{"$error":"#N/A"},{"$error":"#N/A"},"",""]
[241,{"$f":"IF(A276<=n_select,'2) Check for series resistance'!F280,0)","v":0},{"$f":"IF(A276<=n_select,'2) Check for series resistance'!G280,\"\")","v":""},0,"",{"$f":"IF(AND(Validation!E$10,B276<>0,D276>=V_ex2),B276-V_bi,0)","v":0},"",{"$error":"#N/A"},{"$error":"#N/A"},"",""]
[242,{"$f":"IF(A277<=n_select,'2) Check for series resistance'!F281,0)","v":0},{"$f":"IF(A277<=n_select,'2) Check for series resistance'!G281,\"\")","v":""},0,"",{"$f":"IF(AND(Validation!E$10,B277<>0,D277>=V_ex2),B277-V_bi,0)","v":0},"",{"$error":"#N/A"},{"$error":"#N/A"},"",""]
[243,{"$f":"IF(A278<=n_select,'2) Check for series resistance'!F282,0)","v":0},{"$f":"IF(A278<=n_select,'2) Check for series resistance'!G282,\"\")","v":""},0,"",{"$f":"IF(AND(Validation!E$10,B278<>0,D278>=V_ex2),B278-V_bi,0)","v":0},"",{"$error":"#N/A"},{"$error":"#N/A"},"",""]
[244,{"$f":"IF(A279<=n_select,'2) Check for series resistance'!F283,0)","v":0},{"$f":"IF(A279<=n_select,'2) Check for series resistance'!G283,\"\")","v":""},0,"",{"$f":"IF(AND(Validation!E$10,B279<>0,D279>=V_ex2),B279-V_bi,0)","v":0},"",{"$error":"#N/A"},{"$error":"#N/A"},"",""]
[245,{"$f":"IF(A280<=n_select,'2) Check for series resistance'!F284,0)","v":0},{"$f":"IF(A280<=n_select,'2) Check for series resistance'!G284,\"\")","v":""},0,"",{"$f":"IF(AND(Validation!E$10,B280<>0,D280>=V_ex2),B280-V_bi,0)","v":0},"",{"$error":"#N/A"},{"$error":"#N/A"},"",""]
[246,{"$f":"IF(A281<=n_select,'2) Check for series resistance'!F285,0)","v":0},{"$f":"IF(A281<=n_select,'2) Check for series resistance'!G285,\"\")","v":""},0,"",{"$f":"IF(AND(Validation!E$10,B281<>0,D281>=V_ex2),B281-V_bi,0)","v":0},"",{"$error":"#N/A"},{"$error":"#N/A"},"",""]
[247,{"$f":"IF(A282<=n_select,'2) Check for series resistance'!F286,0)","v":0},{"$f":"IF(A282<=n_select,'2) Check for series resistance'!G286,\"\")","v":""},0,"",{"$f":"IF(AND(Validation!E$10,B282<>0,D282>=V_ex2),B282-V_bi,0)","v":0},"",{"$error":"#N/A"},{"$error":"#N/A"},"",""]
[248,{"$f":"IF(A283<=n_select,'2) Check for series resistance'!F287,0)","v":0},{"$f":"IF(A283<=n_select,'2) Check for series resistance'!G287,\"\")","v":""},0,"",{"$f":"IF(AND(Validation!E$10,B283<>0,D283>=V_ex2),B283-V_bi,0)","v":0},"",{"$error":"#N/A"},{"$error":"#N/A"},"",""]
[249,{"$f":"IF(A284<=n_select,'2) Check for series resistance'!F288,0)","v":0},{"$f":"IF(A284<=n_select,'2) Check for series resistance'!G288,\"\")","v":""},0,"",{"$f":"IF(AND(Validation!E$10,B284<>0,D284>=V_ex2),B284-V_bi,0)","v":0},"",{"$error":"#N/A"},{"$error":"#N/A"},"",""]
[250,{"$f":"IF(A285<=n_select,'2) Check for series resistance'!F289,0)","v":0},{"$f":"IF(A285<=n_select,'2) Check for series resistance'!G289,\"\")","v":""},0,"",{"$f":"IF(AND(Validation!E$10,B285<>0,D285>=V_ex2),B285-V_bi,0)","v":0},"",{"$error":"#N/A"},{"$error":"#N/A"},"",""]
[251,{"$f":"IF(A286<=n_select,'2) Check for series resistance'!F290,0)","v":0},{"$f":"IF(A286<=n_select,'2) Check for series resistance'!G290,\"\")","v":""},0,"",{"$f":"IF(AND(Validation!E$10,B286<>0,D286>=V_ex2),B286-V_bi,0)","v":0},"",{"$error":"#N/A"},{"$error":"#N/A"},"",""]
[252,{"$f":"IF(A287<=n_select,'2) Check for series resistance'!F291,0)","v":0},{"$f":"IF(A287<=n_select,'2) Check for series resistance'!G291,\"\")","v":""},0,"",{"$f":"IF(AND(Validation!E$10,B287<>0,D287>=V_ex2),B287-V_bi,0)","v":0},"",{"$error":"#N/A"},{"$error":"#N/A"},"",""]
[253,{"$f":"IF(A288<=n_select,'2) Check for series resistance'!F292,0)","v":0},{"$f":"IF(A288<=n_select,'2) Check for series resistance'!G292,\"\")","v":""},0,"",{"$f":"IF(AND(Validation!E$10,B288<>0,D288>=V_ex2),B288-V_bi,0)","v":0},"",{"$error":"#N/A"},{"$error":"#N/A"},"",""]
[254,{"$f":"IF(A289<=n_select,'2) Check for series resistance'!F293,0)","v":0},{"$f":"IF(A289<=n_select,'2) Check for series resistance'!G293,\"\")","v":""},0,"",{"$f":"IF(AND(Validation!E$10,B289<>0,D289>=V_ex2),B289-V_bi,0)","v":0},"",{"$error":"#N/A"},{"$error":"#N/A"},"",""]
[255,{"$f":"IF(A290<=n_select,'2) Check for series resistance'!F294,0)","v":0},{"$f":"IF(A290<=n_select,'2) Check for series resistance'!G294,\"\")","v":""},0,"",{"$f":"IF(AND(Validation!E$10,B290<>0,D290>=V_ex2),B290-V_bi,0)","v":0},"",{"$error":"#N/A"},{"$error":"#N/A"},"",""]
[256,{"$f":"IF(A291<=n_select,'2) Check for series resistance'!F295,0)","v":0},{"$f":"IF(A291<=n_select,'2) Check for series resistance'!G295,\"\")","v":""},0,"",{"$f":"IF(AND(Validation!E$10,B291<>0,D291>=V_ex2),B291-V_bi,0)","v":0},"",{"$error":"#N/A"},{"$error":"#N/A"},"",""]
[257,{"$f":"IF(A292<=n_select,'2) Check for series resistance'!F296,0)","v":0},{"$f":"IF(A292<=n_select,'2) Check for series resistance'!G296,\"\")","v":""},0,"",{"$f":"IF(AND(Validation!E$10,B292<>0,D292>=V_ex2),B292-V_bi,0)","v":0},"",{"$error":"#N/A"},{"$f":"MATCH(D292*direction,J$36:J$753,1)","v":{"$error":"#N/A"}},"",""]
[258,{"$f":"IF(A293<=n_select,'2) Check for series resistance'!F297,0)","v":0},{"$f":"IF(A293<=n_select,'2) Check for series resistance'!G297,\"\")","v":""},{"$f":"IF(B293<>0,B293-$C$6,0)","v":0},{"$f":"IF(D293<>0,C293,\"\")","v":""},{"$f":"IF(AND(Validation!E$10,B293<>0,D293>=V_ex2),B293-V_bi,0)","v":0},{"$f":"IF(F293<>0,E293,\"\")","v":""},{"$f":"INDEX(C$36:C$753,I293)+(INDEX(C$36:C$753,I293+1)-INDEX(C$36:C$753,I293))*(D293-INDEX(B$36:B$753,I293))/(INDEX(B$36:B$753,I293+1)-INDEX(B$36:B$753,I293))","v":{"$error":"#N/A"}},{"$error":"#N/A"},{"$f":"IF(B293<>0,direction*B293,\"\")","v":""},{"$f":"IF(AND(B293<>0,COUNT(H293)>0),IF(AND(D293<>0,OR(H293/E293>10,E293/H293>10)),D293,\"\"),\"\")","v":""}]
[259,{"$f":"IF(A294<=n_select,'2) Check for series resistance'!F298,0)","v":0},{"$f":"IF(A294<=n_select,'2) Check for series resistance'!G298,\"\")","v":""},0,"",{"$f":"IF(AND(Validation!E$10,B294<>0,D294>=V_ex2),B294-V_bi,0)","v":0},"",{"$error":"#N/A"},{"$error":"#N/A"},"",""]
[260,{"$f":"IF(A295<=n_select,'2) Check for series resistance'!F299,0)","v":0},{"$f":"IF(A295<=n_select,'2) Check for series resistance'!G299,\"\")","v":""},0,"",{"$f":"IF(AND(Validation!E$10,B295<>0,D295>=V_ex2),B295-V_bi,0)","v":0},"",{"$error":"#N/A"},{"$error":"#N/A"},"",""]
[261,{"$f":"IF(A296<=n_select,'2) Check for series resistance'!F300,0)","v":0},{"$f":"IF(A296<=n_select,'2) Check for series resistance'!G300,\"\")","v":""},0,"",{"$f":"IF(AND(Validation!E$10,B296<>0,D296>=V_ex2),B296-V_bi,0)","v":0},"",{"$error":"#N/A"},{"$error":"#N/A"},"",""]
[262,{"$f":"IF(A297<=n_select,'2) Check for series resistance'!F301,0)","v":0},{"$f":"IF(A297<=n_select,'2) Check for series resistance'!G301,\"\")","v":""},0,"",{"$f":"IF(AND(Validation!E$10,B297<>0,D297>=V_ex2),B297-V_bi,0)","v":0},"",{"$error":"#N/A"},{"$error":"#N/A"},"",""]
[263,{"$f":"IF(A298<=n_select,'2) Check for series resistance'!F302,0)","v":0},{"$f":"IF(A298<=n_select,'2) Check for series resistance'!G302,\"\")","v":""},0,"",{"$f":"IF(AND(Validation!E$10,B298<>0,D298>=V_ex2),B298-V_bi,0)","v":0},"",{"$error":"#N/A"},{"$error":"#N/A"},"",""]
[264,{"$f":"IF(A299<=n_select,'2) Check for series resistance'!F303,0)","v":0},{"$f":"IF(A299<=n_select,'2) Check for series resistance'!G303,\"\")","v":""},0,"",{"$f":"IF(AND(Validation!E$10,B299<>0,D299>=V_ex2),B299-V_bi,0)","v":0},"",{"$error":"#N/A"},{"$error":"#N/A"},"",""]
[265,{"$f":"IF(A300<=n_select,'2) Check for series resistance'!F304,0)","v":0},{"$f":"IF(A300<=n_select,'2) Check for series resistance'!G304,\"\")","v":""},0,"",{"$f":"IF(AND(Validation!E$10,B300<>0,D300>=V_ex2),B300-V_bi,0)","v":0},"",{"$error":"#N/A"},{"$error":"#N/A"},"",""]
[266,{"$f":"IF(A301<=n_select,'2) Check for series resistance'!F305,0)","v":0},{"$f":"IF(A301<=n_select,'2) Check for series resistance'!G305,\"\")","v":""},0,"",{"$f":"IF(AND(Validation!E$10,B301<>0,D301>=V_ex2),B301-V_bi,0)","v":0},"",{"$error":"#N/A"},{"$error":"#N/A"},"",""]
[267,{"$f":"IF(A302<=n_select,'2) Check for series resistance'!F306,0)","v":0},{"$f":"IF(A302<=n_select,'2) Check for series resistance'!G306,\"\")","v":""},0,"",{"$f":"IF(AND(Validation!E$10,B302<>0,D302>=V_ex2),B302-V_bi,0)","v":0},"",{"$error":"#N/A"},{"$error":"#N/A"},"",""]
[268,{"$f":"IF(A303<=n_select,'2) Check for series resistance'!F307,0)","v":0},{"$f":"IF(A303<=n_select,'2) Check for series resistance'!G307,\"\")","v":""},0,"",{"$f":"IF(AND(Validation!E$10,B303<>0,D303>=V_ex2),B303-V_bi,0)","v":0},"",{"$error":"#N/A"},{"$error":"#N/A"},"",""]
[269,{"$f":"IF(A304<=n_select,'2) Check for series resistance'!F308,0)","v":0},{"$f":"IF(A304<=n_select,'2) Check for series resistance'!G308,\"\")","v":""},0,"",{"$f":"IF(AND(Validation!E$10,B304<>0,D304>=V_ex2),B304-V_bi,0)","v":0},"",{"$error":"#N/A"},{"$error":"#N/A"},"",""]
[270,{"$f":"IF(A305<=n_select,'2) Check for series resistance'!F309,0)","v":0},{"$f":"IF(A305<=n_select,'2) Check for series resistance'!G309,\"\")","v":""},0,"",{"$f":"IF(AND(Validation!E$10,B305<>0,D305>=V_ex2),B305-V_bi,0)","v":0},"",{"$error":"#N/A"},{"$error":"#N/A"},"",""]
[271,{"$f":"IF(A306<=n_select,'2) Check for series resistance'!F310,0)","v":0},{"$f":"IF(A306<=n_select,'2) Check for series resistance'!G310,\"\")","v":""},0,"",{"$f":"IF(AND(Validation!E$10,B306<>0,D306>=V_ex2),B306-V_bi,0)","v":0},"",{"$error":"#N/A"},{"$error":"#N/A"},"",""]
[272,{"$f":"IF(A307<=n_select,'2) Check for series resistance'!F311,0)","v":0},{"$f":"IF(A307<=n_select,'2) Check for series resistance'!G311,\"\")","v":""},0,"",{"$f":"IF(AND(Validation!E$10,B307<>0,D307>=V_ex2),B307-V_bi,0)","v":0},"",{"$error":"#N/A"},{"$error":"#N/A"},"",""]
[273,{"$f":"IF(A308<=n_select,'2) Check for series resistance'!F312,0)","v":0},{"$f":"IF(A308<=n_select,'2) Check for series resistance'!G312,\"\")","v":""},0,"",{"$f":"IF(AND(Validation!E$10,B308<>0,D308>=V_ex2),B308-V_bi,0)","v":0},"",{"$error":"#N/A"},{"$error":"#N/A"},"",""]
[274,{"$f":"IF(A309<=n_select,'2) Check for series resistance'!F313,0)","v":0},{"$f":"IF(A309<=n_select,'2) Check for series resistance'!G313,\"\")","v":""},0,"",{"$f":"IF(AND(Validation!E$10,B309<>0,D309>=V_ex2),B309-V_bi,0)","v":0},"",{"$error":"#N/A"},{"$error":"#N/A"},"",""]
[275,{"$f":"IF(A310<=n_select,'2) Check for series resistance'!F314,0)","v":0},{"$f":"IF(A310<=n_select,'2) Check for series resistance'!G314,\"\")","v":""},0,"",{"$f":"IF(AND(Validation!E$10,B310<>0,D310>=V_ex2),B310-V_bi,0)","v":0},"",{"$error":"#N/A"},{"$error":"#N/A"},"",""]
[276,{"$f":"IF(A311<=n_select,'2) Check for series resistance'!F315,0)","v":0},{"$f":"IF(A311<=n_select,'2) Check for series resistance'!G315,\"\")","v":""},0,"",{"$f":"IF(AND(Validation!E$10,B311<>0,D311>=V_ex2),B311-V_bi,0)","v":0},"",{"$error":"#N/A"},{"$error":"#N/A"},"",""]
[277,{"$f":"IF(A312<=n_select,'2) Check for series resistance'!F316,0)","v":0},{"$f":"IF(A312<=n_select,'2) Check for series resistance'!G316,\"\")","v":""},0,"",{"$f":"IF(AND(Validation!E$10,B312<>0,D312>=V_ex2),B312-V_bi,0)","v":0},"",{"$error":"#N/A"},{"$error":"#N/A"},"",""]
[278,{"$f":"IF(A313<=n_select,'2) Check for series resistance'!F317,0)","v":0},{"$f":"IF(A313<=n_select,'2) Check for series resistance'!G317,\"\")","v":""},0,"",{"$f":"IF(AND(Validation!E$10,B313<>0,D313>=V_ex2),B313-V_bi,0)","v":0},"",{"$error":"#N/A"},{"$error":"#N/A"},"",""]
[279,{"$f":"IF(A314<=n_select,'2) Check for series resistance'!F318,0)","v":0},{"$f":"IF(A314<=n_select,'2) Check for series resistance'!G318,\"\")","v":""},0,"",{"$f":"IF(AND(Validation!E$10,B314<>0,D314>=V_ex2),B314-V_bi,0)","v":0},"",{"$error":"#N/A"},{"$error":"#N/A"},"",""]
[280,{"$f":"IF(A315<=n_select,'2) Check for series resistance'!F319,0)","v":0},{"$f":"IF(A315<=n_select,'2) Check for series resistance'!G319,\"\")","v":""},0,"",{"$f":"IF(AND(Validation!E$10,B315<>0,D315>=V_ex2),B315-V_bi,0)","v":0},"",{"$error":"#N/A"},{"$error":"#N/A"},"",""]
[281,{"$f":"IF(A316<=n_select,'2) Check for series resistance'!F320,0)","v":0},{"$f":"IF(A316<=n_select,'2) Check for series resistance'!G320,\"\")","v":""},0,"",{"$f":"IF(AND(Validation!E$10,B316<>0,D316>=V_ex2),B316-V_bi,0)","v":0},"",{"$error":"#N/A"},{"$error":"#N/A"},"",""]
[282,{"$f":"IF(A317<=n_select,'2) Check for series resistance'!F321,0)","v":0},{"$f":"IF(A317<=n_select,'2) Check for series resistance'!G321,\"\")","v":""},0,"",{"$f":"IF(AND(Validation!E$10,B317<>0,D317>=V_ex2),B317-V_bi,0)","v":0},"",{"$error":"#N/A"},{"$error":"#N/A"},"",""]
[283,{"$f":"IF(A318<=n_select,'2) Check for series resistance'!F322,0)","v":0},{"$f":"IF(A318<=n_select,'2) Check for series resistance'!G322,\"\")","v":""},0,"",{"$f":"IF(AND(Validation!E$10,B318<>0,D318>=V_ex2),B318-V_bi,0)","v":0},"",{"$error":"#N/A"},{"$error":"#N/A"},"",""]
[284,{"$f":"IF(A319<=n_select,'2) Check for series resistance'!F323,0)","v":0},{"$f":"IF(A319<=n_select,'2) Check for series resistance'!G323,\"\")","v":""},0,"",{"$f":"IF(AND(Validation!E$10,B319<>0,D319>=V_ex2),B319-V_bi,0)","v":0},"",{"$error":"#N/A"},{"$error":"#N/A"},"",""]
[285,{"$f":"IF(A320<=n_select,'2) Check for series resistance'!F324,0)","v":0},{"$f":"IF(A320<=n_select,'2) Check for series resistance'!G324,\"\")","v":""},0,"",{"$f":"IF(AND(Validation!E$10,B320<>0,D320>=V_ex2),B320-V_bi,0)","v":0},"",{"$error":"#N/A"},{"$error":"#N/A"},"",""]
[286,{"$f":"IF(A321<=n_select,'2) Check for series resistance'!F325,0)","v":0},{"$f":"IF(A321<=n_select,'2) Check for series resistance'!G325,\"\")","v":""},0,"",{"$f":"IF(AND(Validation!E$10,B321<>0,D321>=V_ex2),B321-V_bi,0)","v":0},"",{"$error":"#N/A"},{"$error":"#N/A"},"",""]
[287,{"$f":"IF(A322<=n_select,'2) Check for series resistance'!F326,0)","v":0},{"$f":"IF(A322<=n_select,'2) Check for series resistance'!G326,\"\")","v":""},0,"",{"$f":"IF(AND(Validation!E$10,B322<>0,D322>=V_ex2),B322-V_bi,0)","v":0},"",{"$error":"#N/A"},{"$error":"#N/A"},"",""]
[288,{"$f":"IF(A323<=n_select,'2) Check for series resistance'!F327,0)","v":0},{"$f":"IF(A323<=n_select,'2) Check for series resistance'!G327,\"\")","v":""},0,"",{"$f":"IF(AND(Validation!E$10,B323<>0,D323>=V_ex2),B323-V_bi,0)","v":0},"",{"$error":"#N/A"},{"$error":"#N/A"},"",""]
[289,{"$f":"IF(A324<=n_select,'2) Check for series resistance'!F328,0)","v":0},{"$f":"IF(A324<=n_select,'2) Check for series resistance'!G328,\"\")","v":""},0,"",{"$f":"IF(AND(Validation!E$10,B324<>0,D324>=V_ex2),B324-V_bi,0)","v":0},"",{"$error":"#N/A"},{"$error":"#N/A"},"",""]
[290,{"$f":"IF(A325<=n_select,'2) Check for series resistance'!F329,0)","v":0},{"$f":"IF(A325<=n_select,'2) Check for series resistance'!G329,\"\")","v":""},0,"",{"$f":"IF(AND(Validation!E$10,B325<>0,D325>=V_ex2),B325-V_bi,0)","v":0},"",{"$error":"#N/A"},{"$error":"#N/A"},"",""]
[291,{"$f":"IF(A326<=n_select,'2) Check for series resistance'!F330,0)","v":0},{"$f":"IF(A326<=n_select,'2) Check for series resistance'!G330,\"\")","v":""},0,"",{"$f":"IF(AND(Validation!E$10,B326<>0,D326>=V_ex2),B326-V_bi,0)","v":0},"",{"$error":"#N/A"},{"$error":"#N/A"},"",""]
[292,{"$f":"IF(A327<=n_select,'2) Check for series resistance'!F331,0)","v":0},{"$f":"IF(A327<=n_select,'2) Check for series resistance'!G331,\"\")","v":""},0,"",{"$f":"IF(AND(Validation!E$10,B327<>0,D327>=V_ex2),B327-V_bi,0)","v":0},"",{"$error":"#N/A"},{"$error":"#N/A"},"",""]
[293,{"$f":"IF(A328<=n_select,'2) Check for series resistance'!F332,0)","v":0},{"$f":"IF(A328<=n_select,'2) Check for series resistance'!G332,\"\")","v":""},0,"",{"$f":"IF(AND(Validation!E$10,B328<>0,D328>=V_ex2),B328-V_bi,0)","v":0},"",{"$error":"#N/A"},{"$error":"#N/A"},"",""]
[294,{"$f":"IF(A329<=n_select,'2) Check for series resistance'!F333,0)","v":0},{"$f":"IF(A329<=n_select,'2) Check for series resistance'!G333,\"\")","v":""},0,"",{"$f":"IF(AND(Validation!E$10,B329<>0,D329>=V_ex2),B329-V_bi,0)","v":0},"",{"$error":"#N/A"},{"$error":"#N/A"},"",""]
[295,{"$f":"IF(A330<=n_select,'2) Check for series resistance'!F334,0)","v":0},{"$f":"IF(A330<=n_select,'2) Check for series resistance'!G334,\"\")","v":""},0,"",{"$f":"IF(AND(Validation!E$10,B330<>0,D330>=V_ex2),B330-V_bi,0)","v":0},"",{"$error":"#N/A"},{"$error":"#N/A"},"",""]
[296,{"$f":"IF(A331<=n_select,'2) Check for series resistance'!F335,0)","v":0},{"$f":"IF(A331<=n_select,'2) Check for series resistance'!G335,\"\")","v":""},0,"",{"$f":"IF(AND(Validation!E$10,B331<>0,D331>=V_ex2),B331-V_bi,0)","v":0},"",{"$error":"#N/A"},{"$error":"#N/A"},"",""]
[297,{"$f":"IF(A332<=n_select,'2) Check for series resistance'!F336,0)","v":0},{"$f":"IF(A332<=n_select,'2) Check for series resistance'!G336,\"\")","v":""},0,"",{"$f":"IF(AND(Validation!E$10,B332<>0,D332>=V_ex2),B332-V_bi,0)","v":0},"",{"$error":"#N/A"},{"$error":"#N/A"},"",""]
[298,{"$f":"IF(A333<=n_select,'2) Check for series resistance'!F337,0)","v":0},{"$f":"IF(A333<=n_select,'2) Check for series resistance'!G337,\"\")","v":""},0,"",{"$f":"IF(AND(Validation!E$10,B333<>0,D333>=V_ex2),B333-V_bi,0)","v":0},"",{"$error":"#N/A"},{"$error":"#N/A"},"",""]
[299,{"$f":"IF(A334<=n_select,'2) Check for series resistance'!F338,0)","v":0},{"$f":"IF(A334<=n_select,'2) Check for series resistance'!G338,\"\")","v":""},0,"",{"$f":"IF(AND(Validation!E$10,B334<>0,D334>=V_ex2),B334-V_bi,0)","v":0},"",{"$error":"#N/A"},{"$error":"#N/A"},"",""]
[300,{"$f":"IF(A335<=n_select,'2) Check for series resistance'!F339,0)","v":0},{"$f":"IF(A335<=n_select,'2) Check for series resistance'!G339,\"\")","v":""},0,"",{"$f":"IF(AND(Validation!E$10,B335<>0,D335>=V_ex2),B335-V_bi,0)","v":0},"",{"$error":"#N/A"},{"$error":"#N/A"},"",""]
[301,{"$f":"IF(A336<=n_select,'2) Check for series resistance'!F340,0)","v":0},{"$f":"IF(A336<=n_select,'2) Check for series resistance'!G340,\"\")","v":""},0,"",{"$f":"IF(AND(Validation!E$10,B336<>0,D336>=V_ex2),B336-V_bi,0)","v":0},"",{"$error":"#N/A"},{"$error":"#N/A"},"",""]
[302,{"$f":"IF(A337<=n_select,'2) Check for series resistance'!F341,0)","v":0},{"$f":"IF(A337<=n_select,'2) Check for series resistance'!G341,\"\")","v":""},0,"",{"$f":"IF(AND(Validation!E$10,B337<>0,D337>=V_ex2),B337-V_bi,0)","v":0},"",{"$error":"#N/A"},{"$error":"#N/A"},"",""]
[303,{"$f":"IF(A338<=n_select,'2) Check for series resistance'!F342,0)","v":0},{"$f":"IF(A338<=n_select,'2) Check for series resistance'!G342,\"\")","v":""},0,"",{"$f":"IF(AND(Validation!E$10,B338<>0,D338>=V_ex2),B338-V_bi,0)","v":0},"",{"$error":"#N/A"},{"$error":"#N/A"},"",""]
[304,{"$f":"IF(A339<=n_select,'2) Check for series resistance'!F343,0)","v":0},{"$f":"IF(A339<=n_select,'2) Check for series resistance'!G343,\"\")","v":""},0,"",{"$f":"IF(AND(Validation!E$10,B339<>0,D339>=V_ex2),B339-V_bi,0)","v":0},"",{"$error":"#N/A"},{"$error":"#N/A"},"",""]
[305,{"$f":"IF(A340<=n_select,'2) Check for series resistance'!F344,0)","v":0},{"$f":"IF(A340<=n_select,'2) Check for series resistance'!G344,\"\")","v":""},0,"",{"$f":"IF(AND(Validation!E$10,B340<>0,D340>=V_ex2),B340-V_bi,0)","v":0},"",{"$error":"#N/A"},{"$error":"#N/A"},"",""]
[306,{"$f":"IF(A341<=n_select,'2) Check for series resistance'!F345,0)","v":0},{"$f":"IF(A341<=n_select,'2) Check for series resistance'!G345,\"\")","v":""},0,"",{"$f":"IF(AND(Validation!E$10,B341<>0,D341>=V_ex2),B341-V_bi,0)","v":0},"",{"$error":"#N/A"},{"$error":"#N/A"},"",""]
[307,{"$f":"IF(A342<=n_select,'2) Check for series resistance'!F346,0)","v":0},{"$f":"IF(A342<=n_select,'2) Check for series resistance'!G346,\"\")","v":""},0,"",{"$f":"IF(AND(Validation!E$10,B342<>0,D342>=V_ex2),B342-V_bi,0)","v":0},"",{"$error":"#N/A"},{"$error":"#N/A"},"",""]
[308,{"$f":"IF(A343<=n_select,'2) Check for series resistance'!F347,0)","v":0},{"$f":"IF(A343<=n_select,'2) Check for series resistance'!G347,\"\")","v":""},0,"",{"$f":"IF(AND(Validation!E$10,B343<>0,D343>=V_ex2),B343-V_bi,0)","v":0},"",{"$error":"#N/A"},{"$error":"#N/A"},"",""]
[309,{"$f":"IF(A344<=n_select,'2) Check for series resistance'!F348,0)","v":0},{"$f":"IF(A344<=n_select,'2) Check for series resistance'!G348,\"\")","v":""},0,"",{"$f":"IF(AND(Validation!E$10,B344<>0,D344>=V_ex2),B344-V_bi,0)","v":0},"",{"$error":"#N/A"},{"$error":"#N/A"},"",""]
[310,{"$f":"IF(A345<=n_select,'2) Check for series resistance'!F349,0)","v":0},{"$f":"IF(A345<=n_select,'2) Check for series resistance'!G349,\"\")","v":""},0,"",{"$f":"IF(AND(Validation!E$10,B345<>0,D345>=V_ex2),B345-V_bi,0)","v":0},"",{"$error":"#N/A"},{"$error":"#N/A"},"",""]
[311,{"$f":"IF(A346<=n_select,'2) Check for series resistance'!F350,0)","v":0},{"$f":"IF(A346<=n_select,'2) Check for series resistance'!G350,\"\")","v":""},0,"",{"$f":"IF(AND(Validation!E$10,B346<>0,D346>=V_ex2),B346-V_bi,0)","v":0},"",{"$error":"#N/A"},{"$error":"#N/A"},"",""]
[312,{"$f":"IF(A347<=n_select,'2) Check for series resistance'!F351,0)","v":0},{"$f":"IF(A347<=n_select,'2) Check for series resistance'!G351,\"\")","v":""},0,"",{"$f":"IF(AND(Validation!E$10,B347<>0,D347>=V_ex2),B347-V_bi,0)","v":0},"",{"$error":"#N/A"},{"$error":"#N/A"},"",""]
[313,{"$f":"IF(A348<=n_select,'2) Check for series resistance'!F352,0)","v":0},{"$f":"IF(A348<=n_select,'2) Check for series resistance'!G352,\"\")","v":""},0,"",{"$f":"IF(AND(Validation!E$10,B348<>0,D348>=V_ex2),B348-V_bi,0)","v":0},"",{"$error":"#N/A"},{"$error":"#N/A"},"",""]
[314,{"$f":"IF(A349<=n_select,'2) Check for series resistance'!F353,0)","v":0},{"$f":"IF(A349<=n_select,'2) Check for series resistance'!G353,\"\")","v":""},0,"",{"$f":"IF(AND(Validation!E$10,B349<>0,D349>=V_ex2),B349-V_bi,0)","v":0},"",{"$error":"#N/A"},{"$error":"#N/A"},"",""]
[315,{"$f":"IF(A350<=n_select,'2) Check for series resistance'!F354,0)","v":0},{"$f":"IF(A350<=n_select,'2) Check for series resistance'!G354,\"\")","v":""},0,"",{"$f":"IF(AND(Validation!E$10,B350<>0,D350>=V_ex2),B350-V_bi,0)","v":0},"",{"$error":"#N/A"},{"$error":"#N/A"},"",""]
[316,{"$f":"IF(A351<=n_select,'2) Check for series resistance'!F355,0)","v":0},{"$f":"IF(A351<=n_select,'2) Check for series resistance'!G355,\"\")","v":""},0,"",{"$f":"IF(AND(Validation!E$10,B351<>0,D351>=V_ex2),B351-V_bi,0)","v":0},"",{"$error":"#N/A"},{"$error":"#N/A"},"",""]
[317,{"$f":"IF(A352<=n_select,'2) Check for series resistance'!F356,0)","v":0},{"$f":"IF(A352<=n_select,'2) Check for series resistance'!G356,\"\")","v":""},0,"",{"$f":"IF(AND(Validation!E$10,B352<>0,D352>=V_ex2),B352-V_bi,0)","v":0},"",{"$error":"#N/A"},{"$error":"#N/A"},"",""]
[318,{"$f":"IF(A353<=n_select,'2) Check for series resistance'!F357,0)","v":0},{"$f":"IF(A353<=n_select,'2) Check for series resistance'!G357,\"\")","v":""},0,"",{"$f":"IF(AND(Validation!E$10,B353<>0,D353>=V_ex2),B353-V_bi,0)","v":0},"",{"$error":"#N/A"},{"$error":"#N/A"},"",""]
[319,{"$f":"IF(A354<=n_select,'2) Check for series resistance'!F358,0)","v":0},{"$f":"IF(A354<=n_select,'2) Check for series resistance'!G358,\"\")","v":""},0,"",{"$f":"IF(AND(Validation!E$10,B354<>0,D354>=V_ex2),B354-V_bi,0)","v":0},"",{"$error":"#N/A"},{"$error":"#N/A"},"",""]
[320,{"$f":"IF(A355<=n_select,'2) Check for series resistance'!F359,0)","v":0},{"$f":"IF(A355<=n_select,'2) Check for series resistance'!G359,\"\")","v":""},0,"",{"$f":"IF(AND(Validation!E$10,B355<>0,D355>=V_ex2),B355-V_bi,0)","v":0},"",{"$error":"#N/A"},{"$error":"#N/A"},"",""]
[321,{"$f":"IF(A356<=n_select,'2) Check for series resistance'!F360,0)","v":0},{"$f":"IF(A356<=n_select,'2) Check for series resistance'!G360,\"\")","v":""},0,"",{"$f":"IF(AND(Validation!E$10,B356<>0,D356>=V_ex2),B356-V_bi,0)","v":0},"",{"$error":"#N/A"},{"$f":"MATCH(D356*direction,J$36:J$753,1)","v":{"$error":"#N/A"}},"",""]
[322,{"$f":"IF(A357<=n_select,'2) Check for series resistance'!F361,0)","v":0},{"$f":"IF(A357<=n_select,'2) Check for series resistance'!G361,\"\")","v":""},{"$f":"IF(B357<>0,B357-$C$6,0)","v":0},{"$f":"IF(D357<>0,C357,\"\")","v":""},{"$f":"IF(AND(Validation!E$10,B357<>0,D357>=V_ex2),B357-V_bi,0)","v":0},{"$f":"IF(F357<>0,E357,\"\")","v":""},{"$f":"INDEX(C$36:C$753,I357)+(INDEX(C$36:C$753,I357+1)-INDEX(C$36:C$753,I357))*(D357-INDEX(B$36:B$753,I357))/(INDEX(B$36:B$753,I357+1)-INDEX(B$36:B$753,I357))","v":{"$error":"#N/A"}},{"$error":"#N/A"},{"$f":"IF(B357<>0,direction*B357,\"\")","v":""},{"$f":"IF(AND(B357<>0,COUNT(H357)>0),IF(AND(D357<>0,OR(H357/E357>10,E357/H357>10)),D357,\"\"),\"\")","v":""}]
[323,{"$f":"IF(A358<=n_select,'2) Check for series resistance'!F362,0)","v":0},{"$f":"IF(A358<=n_select,'2) Check for series resistance'!G362,\"\")","v":""},0,"",{"$f":"IF(AND(Validation!E$10,B358<>0,D358>=V_ex2),B358-V_bi,0)","v":0},"",{"$error":"#N/A"},{"$error":"#N/A"},"",""]
[324,{"$f":"IF(A359<=n_select,'2) Check for series resistance'!F363,0)","v":0},{"$f":"IF(A359<=n_select,'2) Check for series resistance'!G363,\"\")","v":""},0,"",{"$f":"IF(AND(Validation!E$10,B359<>0,D359>=V_ex2),B359-V_bi,0)","v":0},"",{"$error":"#N/A"},{"$error":"#N/A"},"",""]
[325,{"$f":"IF(A360<=n_select,'2) Check for series resistance'!F364,0)","v":0},{"$f":"IF(A360<=n_select,'2) Check for series resistance'!G364,\"\")","v":""},0,"",{"$f":"IF(AND(Validation!E$10,B360<>0,D360>=V_ex2),B360-V_bi,0)","v":0},"",{"$error":"#N/A"},{"$error":"#N/A"},"",""]
[326,{"$f":"IF(A361<=n_select,'2) Check for series resistance'!F365,0)","v":0},{"$f":"IF(A361<=n_select,'2) Check for series resistance'!G365,\"\")","v":""},0,"",{"$f":"IF(AND(Validation!E$10,B361<>0,D361>=V_ex2),B361-V_bi,0)","v":0},"",{"$error":"#N/A"},{"$error":"#N/A"},"",""]
[327,{"$f":"IF(A362<=n_select,'2) Check for series resistance'!F366,0)","v":0},{"$f":"IF(A362<=n_select,'2) Check for series resistance'!G366,\"\")","v":""},0,"",{"$f":"IF(AND(Validation!E$10,B362<>0,D362>=V_ex2),B362-V_bi,0)","v":0},"",{"$error":"#N/A"},{"$error":"#N/A"},"",""]
[328,{"$f":"IF(A363<=n_select,'2) Check for series resistance'!F367,0)","v":0},{"$f":"IF(A363<=n_select,'2) Check for series resistance'!G367,\"\")","v":""},0,"",{"$f":"IF(AND(Validation!E$10,B363<>0,D363>=V_ex2),B363-V_bi,0)","v":0},"",{"$error":"#N/A"},{"$error":"#N/A"},"",""]
[329,{"$f":"IF(A364<=n_select,'2) Check for series resistance'!F368,0)","v":0},{"$f":"IF(A364<=n_select,'2) Check for series resistance'!G368,\"\")","v":""},0,"",{"$f":"IF(AND(Validation!E$10,B364<>0,D364>=V_ex2),B364-V_bi,0)","v":0},"",{"$error":"#N/A"},{"$error":"#N/A"},"",""]
[330,{"$f":"IF(A365<=n_select,'2) Check for series resistance'!F369,0)","v":0},{"$f":"IF(A365<=n_select,'2) Check for series resistance'!G369,\"\")","v":""},0,"",{"$f":"IF(AND(Validation!E$10,B365<>0,D365>=V_ex2),B365-V_bi,0)","v":0},"",{"$error":"#N/A"},{"$error":"#N/A"},"",""]
[331,{"$f":"IF(A366<=n_select,'2) Check for series resistance'!F370,0)","v":0},{"$f":"IF(A366<=n_select,'2) Check for series resistance'!G370,\"\")","v":""},0,"",{"$f":"IF(AND(Validation!E$10,B366<>0,D366>=V_ex2),B366-V_bi,0)","v":0},"",{"$error":"#N/A"},{"$error":"#N/A"},"",""]
[332,{"$f":"IF(A367<=n_select,'2) Check for series resistance'!F371,0)","v":0},{"$f":"IF(A367<=n_select,'2) Check for series resistance'!G371,\"\")","v":""},0,"",{"$f":"IF(AND(Validation!E$10,B367<>0,D367>=V_ex2),B367-V_bi,0)","v":0},"",{"$error":"#N/A"},{"$error":"#N/A"},"",""]
[333,{"$f":"IF(A368<=n_select,'2) Check for series resistance'!F372,0)","v":0},{"$f":"IF(A368<=n_select,'2) Check for series resistance'!G372,\"\")","v":""},0,"",{"$f":"IF(AND(Validation!E$10,B368<>0,D368>=V_ex2),B368-V_bi,0)","v":0},"",{"$error":"#N/A"},{"$error":"#N/A"},"",""]
[334,{"$f":"IF(A369<=n_select,'2) Check for series resistance'!F373,0)","v":0},{"$f":"IF(A369<=n_select,'2) Check for series resistance'!G373,\"\")","v":""},0,"",{"$f":"IF(AND(Validation!E$10,B369<>0,D369>=V_ex2),B369-V_bi,0)","v":0},"",{"$error":"#N/A"},{"$error":"#N/A"},"",""]
[335,{"$f":"IF(A370<=n_select,'2) Check for series resistance'!F374,0)","v":0},{"$f":"IF(A370<=n_select,'2) Check for series resistance'!G374,\"\")","v":""},0,"",{"$f":"IF(AND(Validation!E$10,B370<>0,D370>=V_ex2),B370-V_bi,0)","v":0},"",{"$error":"#N/A"},{"$error":"#N/A"},"",""]
[336,{"$f":"IF(A371<=n_select,'2) Check for series resistance'!F375,0)","v":0},{"$f":"IF(A371<=n_select,'2) Check for series resistance'!G375,\"\")","v":""},0,"",{"$f":"IF(AND(Validation!E$10,B371<>0,D371>=V_ex2),B371-V_bi,0)","v":0},"",{"$error":"#N/A"},{"$error":"#N/A"},"",""]
[337,{"$f":"IF(A372<=n_select,'2) Check for series resistance'!F376,0)","v":0},{"$f":"IF(A372<=n_select,'2) Check for series resistance'!G376,\"\")","v":""},0,"",{"$f":"IF(AND(Validation!E$10,B372<>0,D372>=V_ex2),B372-V_bi,0)","v":0},"",{"$error":"#N/A"},{"$error":"#N/A"},"",""]
[338,{"$f":"IF(A373<=n_select,'2) Check for series resistance'!F377,0)","v":0},{"$f":"IF(A373<=n_select,'2) Check for series resistance'!G377,\"\")","v":""},0,"",{"$f":"IF(AND(Validation!E$10,B373<>0,D373>=V_ex2),B373-V_bi,0)","v":0},"",{"$error":"#N/A"},{"$error":"#N/A"},"",""]
[339,{"$f":"IF(A374<=n_select,'2) Check for series resistance'!F378,0)","v":0},{"$f":"IF(A374<=n_select,'2) Check for series resistance'!G378,\"\")","v":""},0,"",{"$f":"IF(AND(Validation!E$10,B374<>0,D374>=V_ex2),B374-V_bi,0)","v":0},"",{"$error":"#N/A"},{"$error":"#N/A"},"",""]
[340,{"$f":"IF(A375<=n_select,'2) Check for series resistance'!F379,0)","v":0},{"$f":"IF(A375<=n_select,'2) Check for series resistance'!G379,\"\")","v":""},0,"",{"$f":"IF(AND(Validation!E$10,B375<>0,D375>=V_ex2),B375-V_bi,0)","v":0},"",{"$error":"#N/A"},{"$error":"#N/A"},"",""]
[341,{"$f":"IF(A376<=n_select,'2) Check for series resistance'!F380,0)","v":0},{"$f":"IF(A376<=n_select,'2) Check for series resistance'!G380,\"\")","v":""},0,"",{"$f":"IF(AND(Validation!E$10,B376<>0,D376>=V_ex2),B376-V_bi,0)","v":0},"",{"$error":"#N/A"},{"$error":"#N/A"},"",""]
[342,{"$f":"IF(A377<=n_select,'2) Check for series resistance'!F381,0)","v":0},{"$f":"IF(A377<=n_select,'2) Check for series resistance'!G381,\"\")","v":""},0,"",{"$f":"IF(AND(Validation!E$10,B377<>0,D377>=V_ex2),B377-V_bi,0)","v":0},"",{"$error":"#N/A"},{"$error":"#N/A"},"",""]
[343,{"$f":"IF(A378<=n_select,'2) Check for series resistance'!F382,0)","v":0},{"$f":"IF(A378<=n_select,'2) Check for series resistance'!G382,\"\")","v":""},0,"",{"$f":"IF(AND(Validation!E$10,B378<>0,D378>=V_ex2),B378-V_bi,0)","v":0},"",{"$error":"#N/A"},{"$error":"#N/A"},"",""]
[344,{"$f":"IF(A379<=n_select,'2) Check for series resistance'!F383,0)","v":0},{"$f":"IF(A379<=n_select,'2) Check for series resistance'!G383,\"\")","v":""},0,"",{"$f":"IF(AND(Validation!E$10,B379<>0,D379>=V_ex2),B379-V_bi,0)","v":0},"",{"$error":"#N/A"},{"$error":"#N/A"},"",""]
[345,{"$f":"IF(A380<=n_select,'2) Check for series resistance'!F384,0)","v":0},{"$f":"IF(A380<=n_select,'2) Check for series resistance'!G384,\"\")","v":""},0,"",{"$f":"IF(AND(Validation!E$10,B380<>0,D380>=V_ex2),B380-V_bi,0)","v":0},"",{"$error":"#N/A"},{"$error":"#N/A"},"",""]
[346,{"$f":"IF(A381<=n_select,'2) Check for series resistance'!F385,0)","v":0},{"$f":"IF(A381<=n_select,'2) Check for series resistance'!G385,\"\")","v":""},0,"",{"$f":"IF(AND(Validation!E$10,B381<>0,D381>=V_ex2),B381-V_bi,0)","v":0},"",{"$error":"#N/A"},{"$error":"#N/A"},"",""]
[347,{"$f":"IF(A382<=n_select,'2) Check for series resistance'!F386,0)","v":0},{"$f":"IF(A382<=n_select,'2) Check for series resistance'!G386,\"\")","v":""},0,"",{"$f":"IF(AND(Validation!E$10,B382<>0,D382>=V_ex2),B382-V_bi,0)","v":0},"",{"$error":"#N/A"},{"$error":"#N/A"},"",""]
[348,{"$f":"IF(A383<=n_select,'2) Check for series resistance'!F387,0)","v":0},{"$f":"IF(A383<=n_select,'2) Check for series resistance'!G387,\"\")","v":""},0,"",{"$f":"IF(AND(Validation!E$10,B383<>0,D383>=V_ex2),B383-V_bi,0)","v":0},"",{"$error":"#N/A"},{"$error":"#N/A"},"",""]
[349,{"$f":"IF(A384<=n_select,'2) Check for series resistance'!F388,0)","v":0},{"$f":"IF(A384<=n_select,'2) Check for series resistance'!G388,\"\")","v":""},0,"",{"$f":"IF(AND(Validation!E$10,B384<>0,D384>=V_ex2),B384-V_bi,0)","v":0},"",{"$error":"#N/A"},{"$error":"#N/A"},"",""]
[350,{"$f":"IF(A385<=n_select,'2) Check for series resistance'!F389,0)","v":0},{"$f":"IF(A385<=n_select,'2) Check for series resistance'!G389,\"\")","v":""},0,"",{"$f":"IF(AND(Validation!E$10,B385<>0,D385>=V_ex2),B385-V_bi,0)","v":0},"",{"$error":"#N/A"},{"$error":"#N/A"},"",""]
[351,{"$f":"IF(A386<=n_select,'2) Check for series resistance'!F390,0)","v":0},{"$f":"IF(A386<=n_select,'2) Check for series resistance'!G390,\"\")","v":""},0,"",{"$f":"IF(AND(Validation!E$10,B386<>0,D386>=V_ex2),B386-V_bi,0)","v":0},"",{"$error":"#N/A"},{"$error":"#N/A"},"",""]
[352,{"$f":"IF(A387<=n_select,'2) Check for series resistance'!F391,0)","v":0},{"$f":"IF(A387<=n_select,'2) Check for series resistance'!G391,\"\")","v":""},0,"",{"$f":"IF(AND(Validation!E$10,B387<>0,D387>=V_ex2),B387-V_bi,0)","v":0},"",{"$error":"#N/A"},{"$error":"#N/A"},"",""]
[353,{"$f":"IF(A388<=n_select,'2) Check for series resistance'!F392,0)","v":0},{"$f":"IF(A388<=n_select,'2) Check for series resistance'!G392,\"\")","v":""},0,"",{"$f":"IF(AND(Validation!E$10,B388<>0,D388>=V_ex2),B388-V_bi,0)","v":0},"",{"$error":"#N/A"},{"$error":"#N/A"},"",""]
[354,{"$f":"IF(A389<=n_select,'2) Check for series resistance'!F393,0)","v":0},{"$f":"IF(A389<=n_select,'2) Check for series resistance'!G393,\"\")","v":""},0,"",{"$f":"IF(AND(Validation!E$10,B389<>0,D389>=V_ex2),B389-V_bi,0)","v":0},"",{"$error":"#N/A"},{"$error":"#N/A"},"",""]
[355,{"$f":"IF(A390<=n_select,'2) Check for series resistance'!F394,0)","v":0},{"$f":"IF(A390<=n_select,'2) Check for series resistance'!G394,\"\")","v":""},0,"",{"$f":"IF(AND(Validation!E$10,B390<>0,D390>=V_ex2),B390-V_bi,0)","v":0},"",{"$error":"#N/A"},{"$error":"#N/A"},"",""]
[356,{"$f":"IF(A391<=n_select,'2) Check for series resistance'!F395,0)","v":0},{"$f":"IF(A391<=n_select,'2) Check for series resistance'!G395,\"\")","v":""},0,"",{"$f":"IF(AND(Validation!E$10,B391<>0,D391>=V_ex2),B391-V_bi,0)","v":0},"",{"$error":"#N/A"},{"$error":"#N/A"},"",""]
[357,{"$f":"IF(A392<=n_select,'2) Check for series resistance'!F396,0)","v":0},{"$f":"IF(A392<=n_select,'2) Check for series resistance'!G396,\"\")","v":""},0,"",{"$f":"IF(AND(Validation!E$10,B392<>0,D392>=V_ex2),B392-V_bi,0)","v":0},"",{"$error":"#N/A"},{"$error":"#N/A"},"",""]
[358,{"$f":"IF(A393<=n_select,'2) Check for series resistance'!F397,0)","v":0},{"$f":"IF(A393<=n_select,'2) Check for series resistance'!G397,\"\")","v":""},0,"",{"$f":"IF(AND(Validation!E$10,B393<>0,D393>=V_ex2),B393-V_bi,0)","v":0},"",{"$error":"#N/A"},{"$error":"#N/A"},"",""]
[359,{"$f":"IF(A394<=n_select,'2) Check for series resistance'!F398,0)","v":0},{"$f":"IF(A394<=n_select,'2) Check for series resistance'!G398,\"\")","v":""},0,"",{"$f":"IF(AND(Validation!E$10,B394<>0,D394>=V_ex2),B394-V_bi,0)","v":0},"",{"$error":"#N/A"},{"$error":"#N/A"},"",""]
[360,{"$f":"IF(A395<=n_select,'2) Check for series resistance'!F399,0)","v":0},{"$f":"IF(A395<=n_select,'2) Check for series resistance'!G399,\"\")","v":""},0,"",{"$f":"IF(AND(Validation!E$10,B395<>0,D395>=V_ex2),B395-V_bi,0)","v":0},"",{"$error":"#N/A"},{"$error":"#N/A"},"",""]
[361,{"$f":"IF(A396<=n_select,'2) Check for series resistance'!F400,0)","v":0},{"$f":"IF(A396<=n_select,'2) Check for series resistance'!G400,\"\")","v":""},0,"",{"$f":"IF(AND(Validation!E$10,B396<>0,D396>=V_ex2),B396-V_bi,0)","v":0},"",{"$error":"#N/A"},{"$error":"#N/A"},"",""]
[362,{"$f":"IF(A397<=n_select,'2) Check for series resistance'!F401,0)","v":0},{"$f":"IF(A397<=n_select,'2) Check for series resistance'!G401,\"\")","v":""},0,"",{"$f":"IF(AND(Validation!E$10,B397<>0,D397>=V_ex2),B397-V_bi,0)","v":0},"",{"$error":"#N/A"},{"$error":"#N/A"},"",""]
[363,{"$f":"IF(A398<=n_select,'2) Check for series resistance'!F402,0)","v":0},{"$f":"IF(A398<=n_select,'2) Check for series resistance'!G402,\"\")","v":""},0,"",{"$f":"IF(AND(Validation!E$10,B398<>0,D398>=V_ex2),B398-V_bi,0)","v":0},"",{"$error":"#N/A"},{"$error":"#N/A"},"",""]
[364,{"$f":"IF(A399<=n_select,'2) Check for series resistance'!F403,0)","v":0},{"$f":"IF(A399<=n_select,'2) Check for series resistance'!G403,\"\")","v":""},0,"",{"$f":"IF(AND(Validation!E$10,B399<>0,D399>=V_ex2),B399-V_bi,0)","v":0},"",{"$error":"#N/A"},{"$error":"#N/A"},"",""]
[365,{"$f":"IF(A400<=n_select,'2) Check for series resistance'!F404,0)","v":0},{"$f":"IF(A400<=n_select,'2) Check for series resistance'!G404,\"\")","v":""},0,"",{"$f":"IF(AND(Validation!E$10,B400<>0,D400>=V_ex2),B400-V_bi,0)","v":0},"",{"$error":"#N/A"},{"$error":"#N/A"},"",""]
[366,{"$f":"IF(A401<=n_select,'2) Check for series resistance'!F405,0)","v":0},{"$f":"IF(A401<=n_select,'2) Check for series resistance'!G405,\"\")","v":""},0,"",{"$f":"IF(AND(Validation!E$10,B401<>0,D401>=V_ex2),B401-V_bi,0)","v":0},"",{"$error":"#N/A"},{"$error":"#N/A"},"",""]
[367,{"$f":"IF(A402<=n_select,'2) Check for series resistance'!F406,0)","v":0},{"$f":"IF(A402<=n_select,'2) Check for series resistance'!G406,\"\")","v":""},0,"",{"$f":"IF(AND(Validation!E$10,B402<>0,D402>=V_ex2),B402-V_bi,0)","v":0},"",{"$error":"#N/A"},{"$error":"#N/A"},"",""]
[368,{"$f":"IF(A403<=n_select,'2) Check for series resistance'!F407,0)","v":0},{"$f":"IF(A403<=n_select,'2) Check for series resistance'!G407,\"\")","v":""},0,"",{"$f":"IF(AND(Validation!E$10,B403<>0,D403>=V_ex2),B403-V_bi,0)","v":0},"",{"$error":"#N/A"},{"$error":"#N/A"},"",""]
[369,{"$f":"IF(A404<=n_select,'2) Check for series resistance'!F408,0)","v":0},{"$f":"IF(A404<=n_select,'2) Check for series resistance'!G408,\"\")","v":""},0,"",{"$f":"IF(AND(Validation!E$10,B404<>0,D404>=V_ex2),B404-V_bi,0)","v":0},"",{"$error":"#N/A"},{"$error":"#N/A"},"",""]
[370,{"$f":"IF(A405<=n_select,'2) Check for series resistance'!F409,0)","v":0},{"$f":"IF(A405<=n_select,'2) Check for series resistance'!G409,\"\")","v":""},0,"",{"$f":"IF(AND(Validation!E$10,B405<>0,D405>=V_ex2),B405-V_bi,0)","v":0},"",{"$error":"#N/A"},{"$error":"#N/A"},"",""]
[371,{"$f":"IF(A406<=n_select,'2) Check for series resistance'!F410,0)","v":0},{"$f":"IF(A406<=n_select,'2) Check for series resistance'!G410,\"\")","v":""},0,"",{"$f":"IF(AND(Validation!E$10,B406<>0,D406>=V_ex2),B406-V_bi,0)","v":0},"",{"$error":"#N/A"},{"$error":"#N/A"},"",""]
[372,{"$f":"IF(A407<=n_select,'2) Check for series resistance'!F411,0)","v":0},{"$f":"IF(A407<=n_select,'2) Check for series resistance'!G411,\"\")","v":""},0,"",{"$f":"IF(AND(Validation!E$10,B407<>0,D407>=V_ex2),B407-V_bi,0)","v":0},"",{"$error":"#N/A"},{"$error":"#N/A"},"",""]
[373,{"$f":"IF(A408<=n_select,'2) Check for series resistance'!F412,0)","v":0},{"$f":"IF(A408<=n_select,'2) Check for series resistance'!G412,\"\")","v":""},0,"",{"$f":"IF(AND(Validation!E$10,B408<>0,D408>=V_ex2),B408-V_bi,0)","v":0},"",{"$error":"#N/A"},{"$error":"#N/A"},"",""]
[374,{"$f":"IF(A409<=n_select,'2) Check for series resistance'!F413,0)","v":0},{"$f":"IF(A409<=n_select,'2) Check for series resistance'!G413,\"\")","v":""},0,"",{"$f":"IF(AND(Validation!E$10,B409<>0,D409>=V_ex2),B409-V_bi,0)","v":0},"",{"$error":"#N/A"},{"$error":"#N/A"},"",""]
[375,{"$f":"IF(A410<=n_select,'2) Check for series resistance'!F414,0)","v":0},{"$f":"IF(A410<=n_select,'2) Check for series resistance'!G414,\"\")","v":""},0,"",{"$f":"IF(AND(Validation!E$10,B410<>0,D410>=V_ex2),B410-V_bi,0)","v":0},"",{"$error":"#N/A"},{"$error":"#N/A"},"",""]
[376,{"$f":"IF(A411<=n_select,'2) Check for series resistance'!F415,0)","v":0},{"$f":"IF(A411<=n_select,'2) Check for series resistance'!G415,\"\")","v":""},0,"",{"$f":"IF(AND(Validation!E$10,B411<>0,D411>=V_ex2),B411-V_bi,0)","v":0},"",{"$error":"#N/A"},{"$error":"#N/A"},"",""]
[377,{"$f":"IF(A412<=n_select,'2) Check for series resistance'!F416,0)","v":0},{"$f":"IF(A412<=n_select,'2) Check for series resistance'!G416,\"\")","v":""},0,"",{"$f":"IF(AND(Validation!E$10,B412<>0,D412>=V_ex2),B412-V_bi,0)","v":0},"",{"$error":"#N/A"},{"$error":"#N/A"},"",""]
[378,{"$f":"IF(A413<=n_select,'2) Check for series resistance'!F417,0)","v":0},{"$f":"IF(A413<=n_select,'2) Check for series resistance'!G417,\"\")","v":""},0,"",{"$f":"IF(AND(Validation!E$10,B413<>0,D413>=V_ex2),B413-V_bi,0)","v":0},"",{"$error":"#N/A"},{"$error":"#N/A"},"",""]
[379,{"$f":"IF(A414<=n_select,'2) Check for series resistance'!F418,0)","v":0},{"$f":"IF(A414<=n_select,'2) Check for series resistance'!G418,\"\")","v":""},0,"",{"$f":"IF(AND(Validation!E$10,B414<>0,D414>=V_ex2),B414-V_bi,0)","v":0},"",{"$error":"#N/A"},{"$error":"#N/A"},"",""]
[380,{"$f":"IF(A415<=n_select,'2) Check for series resistance'!F419,0)","v":0},{"$f":"IF(A415<=n_select,'2) Check for series resistance'!G419,\"\")","v":""},0,"",{"$f":"IF(AND(Validation!E$10,B415<>0,D415>=V_ex2),B415-V_bi,0)","v":0},"",{"$error":"#N/A"},{"$error":"#N/A"},"",""]
[381,{"$f":"IF(A416<=n_select,'2) Check for series resistance'!F420,0)","v":0},{"$f":"IF(A416<=n_select,'2) Check for series resistance'!G420,\"\")","v":""},0,"",{"$f":"IF(AND(Validation!E$10,B416<>0,D416>=V_ex2),B416-V_bi,0)","v":0},"",{"$error":"#N/A"},{"$error":"#N/A"},"",""]
[382,{"$f":"IF(A417<=n_select,'2) Check for series resistance'!F421,0)","v":0},{"$f":"IF(A417<=n_select,'2) Check for series resistance'!G421,\"\")","v":""},0,"",{"$f":"IF(AND(Validation!E$10,B417<>0,D417>=V_ex2),B417-V_bi,0)","v":0},"",{"$error":"#N/A"},{"$error":"#N/A"},"",""]
[383,{"$f":"IF(A418<=n_select,'2) Check for series resistance'!F422,0)","v":0},{"$f":"IF(A418<=n_select,'2) Check for series resistance'!G422,\"\")","v":""},0,"",{"$f":"IF(AND(Validation!E$10,B418<>0,D418>=V_ex2),B418-V_bi,0)","v":0},"",{"$error":"#N/A"},{"$error":"#N/A"},"",""]
[384,{"$f":"IF(A419<=n_select,'2) Check for series resistance'!F423,0)","v":0},{"$f":"IF(A419<=n_select,'2) Check for series resistance'!G423,\"\")","v":""},0,"",{"$f":"IF(AND(Validation!E$10,B419<>0,D419>=V_ex2),B419-V_bi,0)","v":0},"",{"$error":"#N/A"},{"$error":"#N/A"},"",""]
[385,{"$f":"IF(A420<=n_select,'2) Check for series resistance'!F424,0)","v":0},{"$f":"IF(A420<=n_select,'2) Check for series resistance'!G424,\"\")","v":""},0,"",{"$f":"IF(AND(Validation!E$10,B420<>0,D420>=V_ex2),B420-V_bi,0)","v":0},"",{"$error":"#N/A"},{"$f":"MATCH(D420*direction,J$36:J$753,1)","v":{"$error":"#N/A"}},"",""]
[386,{"$f":"IF(A421<=n_select,'2) Check for series resistance'!F425,0)","v":0},{"$f":"IF(A421<=n_select,'2) Check for series resistance'!G425,\"\")","v":""},{"$f":"IF(B421<>0,B421-$C$6,0)","v":0},{"$f":"IF(D421<>0,C421,\"\")","v":""},{"$f":"IF(AND(Validation!E$10,B421<>0,D421>=V_ex2),B421-V_bi,0)","v":0},{"$f":"IF(F421<>0,E421,\"\")","v":""},{"$f":"INDEX(C$36:C$753,I421)+(INDEX(C$36:C$753,I421+1)-INDEX(C$36:C$753,I421))*(D421-INDEX(B$36:B$753,I421))/(INDEX(B$36:B$753,I421+1)-INDEX(B$36:B$753,I421))","v":{"$error":"#N/A"}},{"$error":"#N/A"},{"$f":"IF(B421<>0,direction*B421,\"\")","v":""},{"$f":"IF(AND(B421<>0,COUNT(H421)>0),IF(AND(D421<>0,OR(H421/E421>10,E421/H421>10)),D421,\"\"),\"\")","v":""}]
[387,{"$f":"IF(A422<=n_select,'2) Check for series resistance'!F426,0)","v":0},{"$f":"IF(A422<=n_select,'2) Check for series resistance'!G426,\"\")","v":""},0,"",{"$f":"IF(AND(Validation!E$10,B422<>0,D422>=V_ex2),B422-V_bi,0)","v":0},"",{"$error":"#N/A"},{"$error":"#N/A"},"",""]
[388,{"$f":"IF(A423<=n_select,'2) Check for series resistance'!F427,0)","v":0},{"$f":"IF(A423<=n_select,'2) Check for series resistance'!G427,\"\")","v":""},0,"",{"$f":"IF(AND(Validation!E$10,B423<>0,D423>=V_ex2),B423-V_bi,0)","v":0},"",{"$error":"#N/A"},{"$error":"#N/A"},"",""]
[389,{"$f":"IF(A424<=n_select,'2) Check for series resistance'!F428,0)","v":0},{"$f":"IF(A424<=n_select,'2) Check for series resistance'!G428,\"\")","v":""},0,"",{"$f":"IF(AND(Validation!E$10,B424<>0,D424>=V_ex2),B424-V_bi,0)","v":0},"",{"$error":"#N/A"},{"$error":"#N/A"},"",""]
[390,{"$f":"IF(A425<=n_select,'2) Check for series resistance'!F429,0)","v":0},{"$f":"IF(A425<=n_select,'2) Check for series resistance'!G429,\"\")","v":""},0,"",{"$f":"IF(AND(Validation!E$10,B425<>0,D425>=V_ex2),B425-V_bi,0)","v":0},"",{"$error":"#N/A"},{"$error":"#N/A"},"",""]
[391,{"$f":"IF(A426<=n_select,'2) Check for series resistance'!F430,0)","v":0},{"$f":"IF(A426<=n_select,'2) Check for series resistance'!G430,\"\")","v":""},0,"",{"$f":"IF(AND(Validation!E$10,B426<>0,D426>=V_ex2),B426-V_bi,0)","v":0},"",{"$error":"#N/A"},{"$error":"#N/A"},"",""]
[392,{"$f":"IF(A427<=n_select,'2) Check for series resistance'!F431,0)","v":0},{"$f":"IF(A427<=n_select,'2) Check for series resistance'!G431,\"\")","v":""},0,"",{"$f":"IF(AND(Validation!E$10,B427<>0,D427>=V_ex2),B427-V_bi,0)","v":0},"",{"$error":"#N/A"},{"$error":"#N/A"},"",""]
[393,{"$f":"IF(A428<=n_select,'2) Check for series resistance'!F432,0)","v":0},{"$f":"IF(A428<=n_select,'2) Check for series resistance'!G432,\"\")","v":""},0,"",{"$f":"IF(AND(Validation!E$10,B428<>0,D428>=V_ex2),B428-V_bi,0)","v":0},"",{"$error":"#N/A"},{"$error":"#N/A"},"",""]
[394,{"$f":"IF(A429<=n_select,'2) Check for series resistance'!F433,0)","v":0},{"$f":"IF(A429<=n_select,'2) Check for series resistance'!G433,\"\")","v":""},0,"",{"$f":"IF(AND(Validation!E$10,B429<>0,D429>=V_ex2),B429-V_bi,0)","v":0},"",{"$error":"#N/A"},{"$error":"#N/A"},"",""]
[395,{"$f":"IF(A430<=n_select,'2) Check for series resistance'!F434,0)","v":0},{"$f":"IF(A430<=n_select,'2) Check for series resistance'!G434,\"\")","v":""},0,"",{"$f":"IF(AND(Validation!E$10,B430<>0,D430>=V_ex2),B430-V_bi,0)","v":0},"",{"$error":"#N/A"},{"$error":"#N/A"},"",""]
[396,{"$f":"IF(A431<=n_select,'2) Check for series resistance'!F435,0)","v":0},{"$f":"IF(A431<=n_select,'2) Check for series resistance'!G435,\"\")","v":""},0,"",{"$f":"IF(AND(Validation!E$10,B431<>0,D431>=V_ex2),B431-V_bi,0)","v":0},"",{"$error":"#N/A"},{"$error":"#N/A"},"",""]
[397,{"$f":"IF(A432<=n_select,'2) Check for series resistance'!F436,0)","v":0},{"$f":"IF(A432<=n_select,'2) Check for series resistance'!G436,\"\")","v":""},0,"",{"$f":"IF(AND(Validation!E$10,B432<>0,D432>=V_ex2),B432-V_bi,0)","v":0},"",{"$error":"#N/A"},{"$error":"#N/A"},"",""]
[398,{"$f":"IF(A433<=n_select,'2) Check for series resistance'!F437,0)","v":0},{"$f":"IF(A433<=n_select,'2) Check for series resistance'!G437,\"\")","v":""},0,"",{"$f":"IF(AND(Validation!E$10,B433<>0,D433>=V_ex2),B433-V_bi,0)","v":0},"",{"$error":"#N/A"},{"$error":"#N/A"},"",""]
[399,{"$f":"IF(A434<=n_select,'2) Check for series resistance'!F438,0)","v":0},{"$f":"IF(A434<=n_select,'2) Check for series resistance'!G438,\"\")","v":""},0,"",{"$f":"IF(AND(Validation!E$10,B434<>0,D434>=V_ex2),B434-V_bi,0)","v":0},"",{"$error":"#N/A"},{"$error":"#N/A"},"",""]
[400,{"$f":"IF(A435<=n_select,'2) Check for series resistance'!F439,0)","v":0},{"$f":"IF(A435<=n_select,'2) Check for series resistance'!G439,\"\")","v":""},0,"",{"$f":"IF(AND(Validation!E$10,B435<>0,D435>=V_ex2),B435-V_bi,0)","v":0},"",{"$error":"#N/A"},{"$error":"#N/A"},"",""]
[401,{"$f":"IF(A436<=n_select,'2) Check for series resistance'!F440,0)","v":0},{"$f":"IF(A436<=n_select,'2) Check for series resistance'!G440,\"\")","v":""},0,"",{"$f":"IF(AND(Validation!E$10,B436<>0,D436>=V_ex2),B436-V_bi,0)","v":0},"",{"$error":"#N/A"},{"$error":"#N/A"},"",""]
[402,{"$f":"IF(A437<=n_select,'2) Check for series resistance'!F441,0)","v":0},{"$f":"IF(A437<=n_select,'2) Check for series resistance'!G441,\"\")","v":""},0,"",{"$f":"IF(AND(Validation!E$10,B437<>0,D437>=V_ex2),B437-V_bi,0)","v":0},"",{"$error":"#N/A"},{"$error":"#N/A"},"",""]
[403,{"$f":"IF(A438<=n_select,'2) Check for series resistance'!F442,0)","v":0},{"$f":"IF(A438<=n_select,'2) Check for series resistance'!G442,\"\")","v":""},0,"",{"$f":"IF(AND(Validation!E$10,B438<>0,D438>=V_ex2),B438-V_bi,0)","v":0},"",{"$error":"#N/A"},{"$error":"#N/A"},"",""]
[404,{"$f":"IF(A439<=n_select,'2) Check for series resistance'!F443,0)","v":0},{"$f":"IF(A439<=n_select,'2) Check for series resistance'!G443,\"\")","v":""},0,"",{"$f":"IF(AND(Validation!E$10,B439<>0,D439>=V_ex2),B439-V_bi,0)","v":0},"",{"$error":"#N/A"},{"$error":"#N/A"},"",""]
[405,{"$f":"IF(A440<=n_select,'2) Check for series resistance'!F444,0)","v":0},{"$f":"IF(A440<=n_select,'2) Check for series resistance'!G444,\"\")","v":""},0,"",{"$f":"IF(AND(Validation!E$10,B440<>0,D440>=V_ex2),B440-V_bi,0)","v":0},"",{"$error":"#N/A"},{"$error":"#N/A"},"",""]
[406,{"$f":"IF(A441<=n_select,'2) Check for series resistance'!F445,0)","v":0},{"$f":"IF(A441<=n_select,'2) Check for series resistance'!G445,\"\")","v":""},0,"",{"$f":"IF(AND(Validation!E$10,B441<>0,D441>=V_ex2),B441-V_bi,0)","v":0},"",{"$error":"#N/A"},{"$error":"#N/A"},"",""]
[407,{"$f":"IF(A442<=n_select,'2) Check for series resistance'!F446,0)","v":0},{"$f":"IF(A442<=n_select,'2) Check for series resistance'!G446,\"\")","v":""},0,"",{"$f":"IF(AND(Validation!E$10,B442<>0,D442>=V_ex2),B442-V_bi,0)","v":0},"",{"$error":"#N/A"},{"$error":"#N/A"},"",""]
[408,{"$f":"IF(A443<=n_select,'2) Check for series resistance'!F447,0)","v":0},{"$f":"IF(A443<=n_select,'2) Check for series resistance'!G447,\"\")","v":""},0,"",{"$f":"IF(AND(Validation!E$10,B443<>0,D443>=V_ex2),B443-V_bi,0)","v":0},"",{"$error":"#N/A"},{"$error":"#N/A"},"",""]
[409,{"$f":"IF(A444<=n_select,'2) Check for series resistance'!F448,0)","v":0},{"$f":"IF(A444<=n_select,'2) Check for series resistance'!G448,\"\")","v":""},0,"",{"$f":"IF(AND(Validation!E$10,B444<>0,D444>=V_ex2),B444-V_bi,0)","v":0},"",{"$error":"#N/A"},{"$error":"#N/A"},"",""]
[410,{"$f":"IF(A445<=n_select,'2) Check for series resistance'!F449,0)","v":0},{"$f":"IF(A445<=n_select,'2) Check for series resistance'!G449,\"\")","v":""},0,"",{"$f":"IF(AND(Validation!E$10,B445<>0,D445>=V_ex2),B445-V_bi,0)","v":0},"",{"$error":"#N/A"},{"$error":"#N/A"},"",""]
[411,{"$f":"IF(A446<=n_select,'2) Check for series resistance'!F450,0)","v":0},{"$f":"IF(A446<=n_select,'2) Check for series resistance'!G450,\"\")","v":""},0,"",{"$f":"IF(AND(Validation!E$10,B446<>0,D446>=V_ex2),B446-V_bi,0)","v":0},"",{"$error":"#N/A"},{"$error":"#N/A"},"",""]
[412,{"$f":"IF(A447<=n_select,'2) Check for series resistance'!F451,0)","v":0},{"$f":"IF(A447<=n_select,'2) Check for series resistance'!G451,\"\")","v":""},0,"",{"$f":"IF(AND(Validation!E$10,B447<>0,D447>=V_ex2),B447-V_bi,0)","v":0},"",{"$error":"#N/A"},{"$error":"#N/A"},"",""]
[413,{"$f":"IF(A448<=n_select,'2) Check for series resistance'!F452,0)","v":0},{"$f":"IF(A448<=n_select,'2) Check for series resistance'!G452,\"\")","v":""},0,"",{"$f":"IF(AND(Validation!E$10,B448<>0,D448>=V_ex2),B448-V_bi,0)","v":0},"",{"$error":"#N/A"},{"$error":"#N/A"},"",""]
[414,{"$f":"IF(A449<=n_select,'2) Check for series resistance'!F453,0)","v":0},{"$f":"IF(A449<=n_select,'2) Check for series resistance'!G453,\"\")","v":""},0,"",{"$f":"IF(AND(Validation!E$10,B449<>0,D449>=V_ex2),B449-V_bi,0)","v":0},"",{"$error":"#N/A"},{"$error":"#N/A"},"",""]
[415,{"$f":"IF(A450<=n_select,'2) Check for series resistance'!F454,0)","v":0},{"$f":"IF(A450<=n_select,'2) Check for series resistance'!G454,\"\")","v":""},0,"",{"$f":"IF(AND(Validation!E$10,B450<>0,D450>=V_ex2),B450-V_bi,0)","v":0},"",{"$error":"#N/A"},{"$error":"#N/A"},"",""]
[416,{"$f":"IF(A451<=n_select,'2) Check for series resistance'!F455,0)","v":0},{"$f":"IF(A451<=n_select,'2) Check for series resistance'!G455,\"\")","v":""},0,"",{"$f":"IF(AND(Validation!E$10,B451<>0,D451>=V_ex2),B451-V_bi,0)","v":0},"",{"$error":"#N/A"},{"$error":"#N/A"},"",""]
[417,{"$f":"IF(A452<=n_select,'2) Check for series resistance'!F456,0)","v":0},{"$f":"IF(A452<=n_select,'2) Check for series resistance'!G456,\"\")","v":""},0,"",{"$f":"IF(AND(Validation!E$10,B452<>0,D452>=V_ex2),B452-V_bi,0)","v":0},"",{"$error":"#N/A"},{"$error":"#N/A"},"",""]
[418,{"$f":"IF(A453<=n_select,'2) Check for series resistance'!F457,0)","v":0},{"$f":"IF(A453<=n_select,'2) Check for series resistance'!G457,\"\")","v":""},0,"",{"$f":"IF(AND(Validation!E$10,B453<>0,D453>=V_ex2),B453-V_bi,0)","v":0},"",{"$error":"#N/A"},{"$error":"#N/A"},"",""]
[419,{"$f":"IF(A454<=n_select,'2) Check for series resistance'!F458,0)","v":0},{"$f":"IF(A454<=n_select,'2) Check for series resistance'!G458,\"\")","v":""},0,"",{"$f":"IF(AND(Validation!E$10,B454<>0,D454>=V_ex2),B454-V_bi,0)","v":0},"",{"$error":"#N/A"},{"$error":"#N/A"},"",""]
[420,{"$f":"IF(A455<=n_select,'2) Check for series resistance'!F459,0)","v":0},{"$f":"IF(A455<=n_select,'2) Check for series resistance'!G459,\"\")","v":""},0,"",{"$f":"IF(AND(Validation!E$10,B455<>0,D455>=V_ex2),B455-V_bi,0)","v":0},"",{"$error":"#N/A"},{"$error":"#N/A"},"",""]
[421,{"$f":"IF(A456<=n_select,'2) Check for series resistance'!F460,0)","v":0},{"$f":"IF(A456<=n_select,'2) Check for series resistance'!G460,\"\")","v":""},0,"",{"$f":"IF(AND(Validation!E$10,B456<>0,D456>=V_ex2),B456-V_bi,0)","v":0},"",{"$error":"#N/A"},{"$error":"#N/A"},"",""]
[422,{"$f":"IF(A457<=n_select,'2) Check for series resistance'!F461,0)","v":0},{"$f":"IF(A457<=n_select,'2) Check for series resistance'!G461,\"\")","v":""},0,"",{"$f":"IF(AND(Validation!E$10,B457<>0,D457>=V_ex2),B457-V_bi,0)","v":0},"",{"$error":"#N/A"},{"$error":"#N/A"},"",""]
[423,{"$f":"IF(A458<=n_select,'2) Check for series resistance'!F462,0)","v":0},{"$f":"IF(A458<=n_select,'2) Check for series resistance'!G462,\"\")","v":""},0,"",{"$f":"IF(AND(Validation!E$10,B458<>0,D458>=V_ex2),B458-V_bi,0)","v":0},"",{"$error":"#N/A"},{"$error":"#N/A"},"",""]
[424,{"$f":"IF(A459<=n_select,'2) Check for series resistance'!F463,0)","v":0},{"$f":"IF(A459<=n_select,'2) Check for series resistance'!G463,\"\")","v":""},0,"",{"$f":"IF(AND(Validation!E$10,B459<>0,D459>=V_ex2),B459-V_bi,0)","v":0},"",{"$error":"#N/A"},{"$error":"#N/A"},"",""]
[425,{"$f":"IF(A460<=n_select,'2) Check for series resistance'!F464,0)","v":0},{"$f":"IF(A460<=n_select,'2) Check for series resistance'!G464,\"\")","v":""},0,"",{"$f":"IF(AND(Validation!E$10,B460<>0,D460>=V_ex2),B460-V_bi,0)","v":0},"",{"$error":"#N/A"},{"$error":"#N/A"},"",""]
[426,{"$f":"IF(A461<=n_select,'2) Check for series resistance'!F465,0)","v":0},{"$f":"IF(A461<=n_select,'2) Check for series resistance'!G465,\"\")","v":""},0,"",{"$f":"IF(AND(Validation!E$10,B461<>0,D461>=V_ex2),B461-V_bi,0)","v":0},"",{"$error":"#N/A"},{"$error":"#N/A"},"",""]
[427,{"$f":"IF(A462<=n_select,'2) Check for series resistance'!F466,0)","v":0},{"$f":"IF(A462<=n_select,'2) Check for series resistance'!G466,\"\")","v":""},0,"",{"$f":"IF(AND(Validation!E$10,B462<>0,D462>=V_ex2),B462-V_bi,0)","v":0},"",{"$error":"#N/A"},{"$error":"#N/A"},"",""]
[428,{"$f":"IF(A463<=n_select,'2) Check for series resistance'!F467,0)","v":0},{"$f":"IF(A463<=n_select,'2) Check for series resistance'!G467,\"\")","v":""},0,"",{"$f":"IF(AND(Validation!E$10,B463<>0,D463>=V_ex2),B463-V_bi,0)","v":0},"",{"$error":"#N/A"},{"$error":"#N/A"},"",""]
[429,{"$f":"IF(A464<=n_select,'2) Check for series resistance'!F468,0)","v":0},{"$f":"IF(A464<=n_select,'2) Check for series resistance'!G468,\"\")","v":""},0,"",{"$f":"IF(AND(Validation!E$10,B464<>0,D464>=V_ex2),B464-V_bi,0)","v":0},"",{"$error":"#N/A"},{"$error":"#N/A"},"",""]
[430,{"$f":"IF(A465<=n_select,'2) Check for series resistance'!F469,0)","v":0},{"$f":"IF(A465<=n_select,'2) Check for series resistance'!G469,\"\")","v":""},0,"",{"$f":"IF(AND(Validation!E$10,B465<>0,D465>=V_ex2),B465-V_bi,0)","v":0},"",{"$error":"#N/A"},{"$error":"#N/A"},"",""]
[431,{"$f":"IF(A466<=n_select,'2) Check for series resistance'!F470,0)","v":0},{"$f":"IF(A466<=n_select,'2) Check for series resistance'!G470,\"\")","v":""},0,"",{"$f":"IF(AND(Validation!E$10,B466<>0,D466>=V_ex2),B466-V_bi,0)","v":0},"",{"$error":"#N/A"},{"$error":"#N/A"},"",""]
[432,{"$f":"IF(A467<=n_select,'2) Check for series resistance'!F471,0)","v":0},{"$f":"IF(A467<=n_select,'2) Check for series resistance'!G471,\"\")","v":""},0,"",{"$f":"IF(AND(Validation!E$10,B467<>0,D467>=V_ex2),B467-V_bi,0)","v":0},"",{"$error":"#N/A"},{"$error":"#N/A"},"",""]
[433,{"$f":"IF(A468<=n_select,'2) Check for series resistance'!F472,0)","v":0},{"$f":"IF(A468<=n_select,'2) Check for series resistance'!G472,\"\")","v":""},0,"",{"$f":"IF(AND(Validation!E$10,B468<>0,D468>=V_ex2),B468-V_bi,0)","v":0},"",{"$error":"#N/A"},{"$error":"#N/A"},"",""]
[434,{"$f":"IF(A469<=n_select,'2) Check for series resistance'!F473,0)","v":0},{"$f":"IF(A469<=n_select,'2) Check for series resistance'!G473,\"\")","v":""},0,"",{"$f":"IF(AND(Validation!E$10,B469<>0,D469>=V_ex2),B469-V_bi,0)","v":0},"",{"$error":"#N/A"},{"$error":"#N/A"},"",""]
[435,{"$f":"IF(A470<=n_select,'2) Check for series resistance'!F474,0)","v":0},{"$f":"IF(A470<=n_select,'2) Check for series resistance'!G474,\"\")","v":""},0,"",{"$f":"IF(AND(Validation!E$10,B470<>0,D470>=V_ex2),B470-V_bi,0)","v":0},"",{"$error":"#N/A"},{"$error":"#N/A"},"",""]
[436,{"$f":"IF(A471<=n_select,'2) Check for series resistance'!F475,0)","v":0},{"$f":"IF(A471<=n_select,'2) Check for series resistance'!G475,\"\")","v":""},0,"",{"$f":"IF(AND(Validation!E$10,B471<>0,D471>=V_ex2),B471-V_bi,0)","v":0},"",{"$error":"#N/A"},{"$error":"#N/A"},"",""]
[437,{"$f":"IF(A472<=n_select,'2) Check for series resistance'!F476,0)","v":0},{"$f":"IF(A472<=n_select,'2) Check for series resistance'!G476,\"\")","v":""},0,"",{"$f":"IF(AND(Validation!E$10,B472<>0,D472>=V_ex2),B472-V_bi,0)","v":0},"",{"$error":"#N/A"},{"$error":"#N/A"},"",""]
[438,{"$f":"IF(A473<=n_select,'2) Check for series resistance'!F477,0)","v":0},{"$f":"IF(A473<=n_select,'2) Check for series resistance'!G477,\"\")","v":""},0,"",{"$f":"IF(AND(Validation!E$10,B473<>0,D473>=V_ex2),B473-V_bi,0)","v":0},"",{"$error":"#N/A"},{"$error":"#N/A"},"",""]
[439,{"$f":"IF(A474<=n_select,'2) Check for series resistance'!F478,0)","v":0},{"$f":"IF(A474<=n_select,'2) Check for series resistance'!G478,\"\")","v":""},0,"",{"$f":"IF(AND(Validation!E$10,B474<>0,D474>=V_ex2),B474-V_bi,0)","v":0},"",{"$error":"#N/A"},{"$error":"#N/A"},"",""]
[440,{"$f":"IF(A475<=n_select,'2) Check for series resistance'!F479,0)","v":0},{"$f":"IF(A475<=n_select,'2) Check for series resistance'!G479,\"\")","v":""},0,"",{"$f":"IF(AND(Validation!E$10,B475<>0,D475>=V_ex2),B475-V_bi,0)","v":0},"",{"$error":"#N/A"},{"$error":"#N/A"},"",""]
[441,{"$f":"IF(A476<=n_select,'2) Check for series resistance'!F480,0)","v":0},{"$f":"IF(A476<=n_select,'2) Check for series resistance'!G480,\"\")","v":""},0,"",{"$f":"IF(AND(Validation!E$10,B476<>0,D476>=V_ex2),B476-V_bi,0)","v":0},"",{"$error":"#N/A"},{"$error":"#N/A"},"",""]
[442,{"$f":"IF(A477<=n_select,'2) Check for series resistance'!F481,0)","v":0},{"$f":"IF(A477<=n_select,'2) Check for series resistance'!G481,\"\")","v":""},0,"",{"$f":"IF(AND(Validation!E$10,B477<>0,D477>=V_ex2),B477-V_bi,0)","v":0},"",{"$error":"#N/A"},{"$error":"#N/A"},"",""]
[443,{"$f":"IF(A478<=n_select,'2) Check for series resistance'!F482,0)","v":0},{"$f":"IF(A478<=n_select,'2) Check for series resistance'!G482,\"\")","v":""},0,"",{"$f":"IF(AND(Validation!E$10,B478<>0,D478>=V_ex2),B478-V_bi,0)","v":0},"",{"$error":"#N/A"},{"$error":"#N/A"},"",""]
[444,{"$f":"IF(A479<=n_select,'2) Check for series resistance'!F483,0)","v":0},{"$f":"IF(A479<=n_select,'2) Check for series resistance'!G483,\"\")","v":""},0,"",{"$f":"IF(AND(Validation!E$10,B479<>0,D479>=V_ex2),B479-V_bi,0)","v":0},"",{"$error":"#N/A"},{"$error":"#N/A"},"",""]
[445,{"$f":"IF(A480<=n_select,'2) Check for series resistance'!F484,0)","v":0},{"$f":"IF(A480<=n_select,'2) Check for series resistance'!G484,\"\")","v":""},0,"",{"$f":"IF(AND(Validation!E$10,B480<>0,D480>=V_ex2),B480-V_bi,0)","v":0},"",{"$error":"#N/A"},{"$error":"#N/A"},"",""]
[446,{"$f":"IF(A481<=n_select,'2) Check for series resistance'!F485,0)","v":0},{"$f":"IF(A481<=n_select,'2) Check for series resistance'!G485,\"\")","v":""},0,"",{"$f":"IF(AND(Validation!E$10,B481<>0,D481>=V_ex2),B481-V_bi,0)","v":0},"",{"$error":"#N/A"},{"$error":"#N/A"},"",""]
[447,{"$f":"IF(A482<=n_select,'2) Check for series resistance'!F486,0)","v":0},{"$f":"IF(A482<=n_select,'2) Check for series resistance'!G486,\"\")","v":""},0,"",{"$f":"IF(AND(Validation!E$10,B482<>0,D482>=V_ex2),B482-V_bi,0)","v":0},"",{"$error":"#N/A"},{"$error":"#N/A"},"",""]
[448,{"$f":"IF(A483<=n_select,'2) Check for series resistance'!F487,0)","v":0},{"$f":"IF(A483<=n_select,'2) Check for series resistance'!G487,\"\")","v":""},0,"",{"$f":"IF(AND(Validation!E$10,B483<>0,D483>=V_ex2),B483-V_bi,0)","v":0},"",{"$error":"#N/A"},{"$error":"#N/A"},"",""]
[449,{"$f":"IF(A484<=n_select,'2) Check for series resistance'!F488,0)","v":0},{"$f":"IF(A484<=n_select,'2) Check for series resistance'!G488,\"\")","v":""},0,"",{"$f":"IF(AND(Validation!E$10,B484<>0,D484>=V_ex2),B484-V_bi,0)","v":0},"",{"$error":"#N/A"},{"$f":"MATCH(D484*direction,J$36:J$753,1)","v":{"$error":"#N/A"}},"",""]
[450,{"$f":"IF(A485<=n_select,'2) Check for series resistance'!F489,0)","v":0},{"$f":"IF(A485<=n_select,'2) Check for series resistance'!G489,\"\")","v":""},{"$f":"IF(B485<>0,B485-$C$6,0)","v":0},{"$f":"IF(D485<>0,C485,\"\")","v":""},{"$f":"IF(AND(Validation!E$10,B485<>0,D485>=V_ex2),B485-V_bi,0)","v":0},{"$f":"IF(F485<>0,E485,\"\")","v":""},{"$f":"INDEX(C$36:C$753,I485)+(INDEX(C$36:C$753,I485+1)-INDEX(C$36:C$753,I485))*(D485-INDEX(B$36:B$753,I485))/(INDEX(B$36:B$753,I485+1)-INDEX(B$36:B$753,I485))","v":{"$error":"#N/A"}},{"$error":"#N/A"},{"$f":"IF(B485<>0,direction*B485,\"\")","v":""},{"$f":"IF(AND(B485<>0,COUNT(H485)>0),IF(AND(D485<>0,OR(H485/E485>10,E485/H485>10)),D485,\"\"),\"\")","v":""}]
[451,{"$f":"IF(A486<=n_select,'2) Check for series resistance'!F490,0)","v":0},{"$f":"IF(A486<=n_select,'2) Check for series resistance'!G490,\"\")","v":""},0,"",{"$f":"IF(AND(Validation!E$10,B486<>0,D486>=V_ex2),B486-V_bi,0)","v":0},"",{"$error":"#N/A"},{"$error":"#N/A"},"",""]
[452,{"$f":"IF(A487<=n_select,'2) Check for series resistance'!F491,0)","v":0},{"$f":"IF(A487<=n_select,'2) Check for series resistance'!G491,\"\")","v":""},0,"",{"$f":"IF(AND(Validation!E$10,B487<>0,D487>=V_ex2),B487-V_bi,0)","v":0},"",{"$error":"#N/A"},{"$error":"#N/A"},"",""]
[453,{"$f":"IF(A488<=n_select,'2) Check for series resistance'!F492,0)","v":0},{"$f":"IF(A488<=n_select,'2) Check for series resistance'!G492,\"\")","v":""},0,"",{"$f":"IF(AND(Validation!E$10,B488<>0,D488>=V_ex2),B488-V_bi,0)","v":0},"",{"$error":"#N/A"},{"$error":"#N/A"},"",""]
[454,{"$f":"IF(A489<=n_select,'2) Check for series resistance'!F493,0)","v":0},{"$f":"IF(A489<=n_select,'2) Check for series resistance'!G493,\"\")","v":""},0,"",{"$f":"IF(AND(Validation!E$10,B489<>0,D489>=V_ex2),B489-V_bi,0)","v":0},"",{"$error":"#N/A"},{"$error":"#N/A"},"",""]
[455,{"$f":"IF(A490<=n_select,'2) Check for series resistance'!F494,0)","v":0},{"$f":"IF(A490<=n_select,'2) Check for series resistance'!G494,\"\")","v":""},0,"",{"$f":"IF(AND(Validation!E$10,B490<>0,D490>=V_ex2),B490-V_bi,0)","v":0},"",{"$error":"#N/A"},{"$error":"#N/A"},"",""]
[456,{"$f":"IF(A491<=n_select,'2) Check for series resistance'!F495,0)","v":0},{"$f":"IF(A491<=n_select,'2) Check for series resistance'!G495,\"\")","v":""},0,"",{"$f":"IF(AND(Validation!E$10,B491<>0,D491>=V_ex2),B491-V_bi,0)","v":0},"",{"$error":"#N/A"},{"$error":"#N/A"},"",""]
[457,{"$f":"IF(A492<=n_select,'2) Check for series resistance'!F496,0)","v":0},{"$f":"IF(A492<=n_select,'2) Check for series resistance'!G496,\"\")","v":""},0,"",{"$f":"IF(AND(Validation!E$10,B492<>0,D492>=V_ex2),B492-V_bi,0)","v":0},"",{"$error":"#N/A"},{"$error":"#N/A"},"",""]
[458,{"$f":"IF(A493<=n_select,'2) Check for series resistance'!F497,0)","v":0},{"$f":"IF(A493<=n_select,'2) Check for series resistance'!G497,\"\")","v":""},0,"",{"$f":"IF(AND(Validation!E$10,B493<>0,D493>=V_ex2),B493-V_bi,0)","v":0},"",{"$error":"#N/A"},{"$error":"#N/A"},"",""]
[459,{"$f":"IF(A494<=n_select,'2) Check for series resistance'!F498,0)","v":0},{"$f":"IF(A494<=n_select,'2) Check for series resistance'!G498,\"\")","v":""},0,"",{"$f":"IF(AND(Validation!E$10,B494<>0,D494>=V_ex2),B494-V_bi,0)","v":0},"",{"$error":"#N/A"},{"$error":"#N/A"},"",""]
[460,{"$f":"IF(A495<=n_select,'2) Check for series resistance'!F499,0)","v":0},{"$f":"IF(A495<=n_select,'2) Check for series resistance'!G499,\"\")","v":""},0,"",{"$f":"IF(AND(Validation!E$10,B495<>0,D495>=V_ex2),B495-V_bi,0)","v":0},"",{"$error":"#N/A"},{"$error":"#N/A"},"",""]
[461,{"$f":"IF(A496<=n_select,'2) Check for series resistance'!F500,0)","v":0},{"$f":"IF(A496<=n_select,'2) Check for series resistance'!G500,\"\")","v":""},0,"",{"$f":"IF(AND(Validation!E$10,B496<>0,D496>=V_ex2),B496-V_bi,0)","v":0},"",{"$error":"#N/A"},{"$error":"#N/A"},"",""]
[462,{"$f":"IF(A497<=n_select,'2) Check for series resistance'!F501,0)","v":0},{"$f":"IF(A497<=n_select,'2) Check for series resistance'!G501,\"\")","v":""},0,"",{"$f":"IF(AND(Validation!E$10,B497<>0,D497>=V_ex2),B497-V_bi,0)","v":0},"",{"$error":"#N/A"},{"$error":"#N/A"},"",""]
[463,{"$f":"IF(A498<=n_select,'2) Check for series resistance'!F502,0)","v":0},{"$f":"IF(A498<=n_select,'2) Check for series resistance'!G502,\"\")","v":""},0,"",{"$f":"IF(AND(Validation!E$10,B498<>0,D498>=V_ex2),B498-V_bi,0)","v":0},"",{"$error":"#N/A"},{"$error":"#N/A"},"",""]
[464,{"$f":"IF(A499<=n_select,'2) Check for series resistance'!F503,0)","v":0},{"$f":"IF(A499<=n_select,'2) Check for series resistance'!G503,\"\")","v":""},0,"",{"$f":"IF(AND(Validation!E$10,B499<>0,D499>=V_ex2),B499-V_bi,0)","v":0},"",{"$error":"#N/A"},{"$error":"#N/A"},"",""]
[465,{"$f":"IF(A500<=n_select,'2) Check for series resistance'!F504,0)","v":0},{"$f":"IF(A500<=n_select,'2) Check for series resistance'!G504,\"\")","v":""},0,"",{"$f":"IF(AND(Validation!E$10,B500<>0,D500>=V_ex2),B500-V_bi,0)","v":0},"",{"$error":"#N/A"},{"$error":"#N/A"},"",""]
[466,{"$f":"IF(A501<=n_select,'2) Check for series resistance'!F505,0)","v":0},{"$f":"IF(A501<=n_select,'2) Check for series resistance'!G505,\"\")","v":""},0,"",{"$f":"IF(AND(Validation!E$10,B501<>0,D501>=V_ex2),B501-V_bi,0)","v":0},"",{"$error":"#N/A"},{"$error":"#N/A"},"",""]
[467,{"$f":"IF(A502<=n_select,'2) Check for series resistance'!F506,0)","v":0},{"$f":"IF(A502<=n_select,'2) Check for series resistance'!G506,\"\")","v":""},0,"",{"$f":"IF(AND(Validation!E$10,B502<>0,D502>=V_ex2),B502-V_bi,0)","v":0},"",{"$error":"#N/A"},{"$error":"#N/A"},"",""]
[468,{"$f":"IF(A503<=n_select,'2) Check for series resistance'!F507,0)","v":0},{"$f":"IF(A503<=n_select,'2) Check for series resistance'!G507,\"\")","v":""},0,"",{"$f":"IF(AND(Validation!E$10,B503<>0,D503>=V_ex2),B503-V_bi,0)","v":0},"",{"$error":"#N/A"},{"$error":"#N/A"},"",""]
[469,{"$f":"IF(A504<=n_select,'2) Check for series resistance'!F508,0)","v":0},{"$f":"IF(A504<=n_select,'2) Check for series resistance'!G508,\"\")","v":""},0,"",{"$f":"IF(AND(Validation!E$10,B504<>0,D504>=V_ex2),B504-V_bi,0)","v":0},"",{"$error":"#N/A"},{"$error":"#N/A"},"",""]
[470,{"$f":"IF(A505<=n_select,'2) Check for series resistance'!F509,0)","v":0},{"$f":"IF(A505<=n_select,'2) Check for series resistance'!G509,\"\")","v":""},0,"",{"$f":"IF(AND(Validation!E$10,B505<>0,D505>=V_ex2),B505-V_bi,0)","v":0},"",{"$error":"#N/A"},{"$error":"#N/A"},"",""]
[471,{"$f":"IF(A506<=n_select,'2) Check for series resistance'!F510,0)","v":0},{"$f":"IF(A506<=n_select,'2) Check for series resistance'!G510,\"\")","v":""},0,"",{"$f":"IF(AND(Validation!E$10,B506<>0,D506>=V_ex2),B506-V_bi,0)","v":0},"",{"$error":"#N/A"},{"$error":"#N/A"},"",""]
[472,{"$f":"IF(A507<=n_select,'2) Check for series resistance'!F511,0)","v":0},{"$f":"IF(A507<=n_select,'2) Check for series resistance'!G511,\"\")","v":""},0,"",{"$f":"IF(AND(Validation!E$10,B507<>0,D507>=V_ex2),B507-V_bi,0)","v":0},"",{"$error":"#N/A"},{"$error":"#N/A"},"",""]
[473,{"$f":"IF(A508<=n_select,'2) Check for series resistance'!F512,0)","v":0},{"$f":"IF(A508<=n_select,'2) Check for series resistance'!G512,\"\")","v":""},0,"",{"$f":"IF(AND(Validation!E$10,B508<>0,D508>=V_ex2),B508-V_bi,0)","v":0},"",{"$error":"#N/A"},{"$error":"#N/A"},"",""]
[474,{"$f":"IF(A509<=n_select,'2) Check for series resistance'!F513,0)","v":0},{"$f":"IF(A509<=n_select,'2) Check for series resistance'!G513,\"\")","v":""},0,"",{"$f":"IF(AND(Validation!E$10,B509<>0,D509>=V_ex2),B509-V_bi,0)","v":0},"",{"$error":"#N/A"},{"$error":"#N/A"},"",""]
[475,{"$f":"IF(A510<=n_select,'2) Check for series resistance'!F514,0)","v":0},{"$f":"IF(A510<=n_select,'2) Check for series resistance'!G514,\"\")","v":""},0,"",{"$f":"IF(AND(Validation!E$10,B510<>0,D510>=V_ex2),B510-V_bi,0)","v":0},"",{"$error":"#N/A"},{"$error":"#N/A"},"",""]
[476,{"$f":"IF(A511<=n_select,'2) Check for series resistance'!F515,0)","v":0},{"$f":"IF(A511<=n_select,'2) Check for series resistance'!G515,\"\")","v":""},0,"",{"$f":"IF(AND(Validation!E$10,B511<>0,D511>=V_ex2),B511-V_bi,0)","v":0},"",{"$error":"#N/A"},{"$error":"#N/A"},"",""]
[477,{"$f":"IF(A512<=n_select,'2) Check for series resistance'!F516,0)","v":0},{"$f":"IF(A512<=n_select,'2) Check for series resistance'!G516,\"\")","v":""},0,"",{"$f":"IF(AND(Validation!E$10,B512<>0,D512>=V_ex2),B512-V_bi,0)","v":0},"",{"$error":"#N/A"},{"$error":"#N/A"},"",""]
[478,{"$f":"IF(A513<=n_select,'2) Check for series resistance'!F517,0)","v":0},{"$f":"IF(A513<=n_select,'2) Check for series resistance'!G517,\"\")","v":""},0,"",{"$f":"IF(AND(Validation!E$10,B513<>0,D513>=V_ex2),B513-V_bi,0)","v":0},"",{"$error":"#N/A"},{"$error":"#N/A"},"",""]
[479,{"$f":"IF(A514<=n_select,'2) Check for series resistance'!F518,0)","v":0},{"$f":"IF(A514<=n_select,'2) Check for series resistance'!G518,\"\")","v":""},0,"",{"$f":"IF(AND(Validation!E$10,B514<>0,D514>=V_ex2),B514-V_bi,0)","v":0},"",{"$error":"#N/A"},{"$error":"#N/A"},"",""]
[480,{"$f":"IF(A515<=n_select,'2) Check for series resistance'!F519,0)","v":0},{"$f":"IF(A515<=n_select,'2) Check for series resistance'!G519,\"\")","v":""},0,"",{"$f":"IF(AND(Validation!E$10,B515<>0,D515>=V_ex2),B515-V_bi,0)","v":0},"",{"$error":"#N/A"},{"$error":"#N/A"},"",""]
[481,{"$f":"IF(A516<=n_select,'2) Check for series resistance'!F520,0)","v":0},{"$f":"IF(A516<=n_select,'2) Check for series resistance'!G520,\"\")","v":""},0,"",{"$f":"IF(AND(Validation!E$10,B516<>0,D516>=V_ex2),B516-V_bi,0)","v":0},"",{"$error":"#N/A"},{"$error":"#N/A"},"",""]
[482,{"$f":"IF(A517<=n_select,'2) Check for series resistance'!F521,0)","v":0},{"$f":"IF(A517<=n_select,'2) Check for series resistance'!G521,\"\")","v":""},0,"",{"$f":"IF(AND(Validation!E$10,B517<>0,D517>=V_ex2),B517-V_bi,0)","v":0},"",{"$error":"#N/A"},{"$error":"#N/A"},"",""]
[483,{"$f":"IF(A518<=n_select,'2) Check for series resistance'!F522,0)","v":0},{"$f":"IF(A518<=n_select,'2) Check for series resistance'!G522,\"\")","v":""},0,"",{"$f":"IF(AND(Validation!E$10,B518<>0,D518>=V_ex2),B518-V_bi,0)","v":0},"",{"$error":"#N/A"},{"$error":"#N/A"},"",""]
[484,{"$f":"IF(A519<=n_select,'2) Check for series resistance'!F523,0)","v":0},{"$f":"IF(A519<=n_select,'2) Check for series resistance'!G523,\"\")","v":""},0,"",{"$f":"IF(AND(Validation!E$10,B519<>0,D519>=V_ex2),B519-V_bi,0)","v":0},"",{"$error":"#N/A"},{"$error":"#N/A"},"",""]
[485,{"$f":"IF(A520<=n_select,'2) Check for series resistance'!F524,0)","v":0},{"$f":"IF(A520<=n_select,'2) Check for series resistance'!G524,\"\")","v":""},0,"",{"$f":"IF(AND(Validation!E$10,B520<>0,D520>=V_ex2),B520-V_bi,0)","v":0},"",{"$error":"#N/A"},{"$error":"#N/A"},"",""]
[486,{"$f":"IF(A521<=n_select,'2) Check for series resistance'!F525,0)","v":0},{"$f":"IF(A521<=n_select,'2) Check for series resistance'!G525,\"\")","v":""},0,"",{"$f":"IF(AND(Validation!E$10,B521<>0,D521>=V_ex2),B521-V_bi,0)","v":0},"",{"$error":"#N/A"},{"$error":"#N/A"},"",""]
[487,{"$f":"IF(A522<=n_select,'2) Check for series resistance'!F526,0)","v":0},{"$f":"IF(A522<=n_select,'2) Check for series resistance'!G526,\"\")","v":""},0,"",{"$f":"IF(AND(Validation!E$10,B522<>0,D522>=V_ex2),B522-V_bi,0)","v":0},"",{"$error":"#N/A"},{"$error":"#N/A"},"",""]
[488,{"$f":"IF(A523<=n_select,'2) Check for series resistance'!F527,0)","v":0},{"$f":"IF(A523<=n_select,'2) Check for series resistance'!G527,\"\")","v":""},0,"",{"$f":"IF(AND(Validation!E$10,B523<>0,D523>=V_ex2),B523-V_bi,0)","v":0},"",{"$error":"#N/A"},{"$error":"#N/A"},"",""]
[489,{"$f":"IF(A524<=n_select,'2) Check for series resistance'!F528,0)","v":0},{"$f":"IF(A524<=n_select,'2) Check for series resistance'!G528,\"\")","v":""},0,"",{"$f":"IF(AND(Validation!E$10,B524<>0,D524>=V_ex2),B524-V_bi,0)","v":0},"",{"$error":"#N/A"},{"$error":"#N/A"},"",""]
[490,{"$f":"IF(A525<=n_select,'2) Check for series resistance'!F529,0)","v":0},{"$f":"IF(A525<=n_select,'2) Check for series resistance'!G529,\"\")","v":""},0,"",{"$f":"IF(AND(Validation!E$10,B525<>0,D525>=V_ex2),B525-V_bi,0)","v":0},"",{"$error":"#N/A"},{"$error":"#N/A"},"",""]
[491,{"$f":"IF(A526<=n_select,'2) Check for series resistance'!F530,0)","v":0},{"$f":"IF(A526<=n_select,'2) Check for series resistance'!G530,\"\")","v":""},0,"",{"$f":"IF(AND(Validation!E$10,B526<>0,D526>=V_ex2),B526-V_bi,0)","v":0},"",{"$error":"#N/A"},{"$error":"#N/A"},"",""]
[492,{"$f":"IF(A527<=n_select,'2) Check for series resistance'!F531,0)","v":0},{"$f":"IF(A527<=n_select,'2) Check for series resistance'!G531,\"\")","v":""},0,"",{"$f":"IF(AND(Validation!E$10,B527<>0,D527>=V_ex2),B527-V_bi,0)","v":0},"",{"$error":"#N/A"},{"$error":"#N/A"},"",""]
[493,{"$f":"IF(A528<=n_select,'2) Check for series resistance'!F532,0)","v":0},{"$f":"IF(A528<=n_select,'2) Check for series resistance'!G532,\"\")","v":""},0,"",{"$f":"IF(AND(Validation!E$10,B528<>0,D528>=V_ex2),B528-V_bi,0)","v":0},"",{"$error":"#N/A"},{"$error":"#N/A"},"",""]
[494,{"$f":"IF(A529<=n_select,'2) Check for series resistance'!F533,0)","v":0},{"$f":"IF(A529<=n_select,'2) Check for series resistance'!G533,\"\")","v":""},0,"",{"$f":"IF(AND(Validation!E$10,B529<>0,D529>=V_ex2),B529-V_bi,0)","v":0},"",{"$error":"#N/A"},{"$error":"#N/A"},"",""]
[495,{"$f":"IF(A530<=n_select,'2) Check for series resistance'!F534,0)","v":0},{"$f":"IF(A530<=n_select,'2) Check for series resistance'!G534,\"\")","v":""},0,"",{"$f":"IF(AND(Validation!E$10,B530<>0,D530>=V_ex2),B530-V_bi,0)","v":0},"",{"$error":"#N/A"},{"$error":"#N/A"},"",""]
[496,{"$f":"IF(A531<=n_select,'2) Check for series resistance'!F535,0)","v":0},{"$f":"IF(A531<=n_select,'2) Check for series resistance'!G535,\"\")","v":""},0,"",{"$f":"IF(AND(Validation!E$10,B531<>0,D531>=V_ex2),B531-V_bi,0)","v":0},"",{"$error":"#N/A"},{"$error":"#N/A"},"",""]
[497,{"$f":"IF(A532<=n_select,'2) Check for series resistance'!F536,0)","v":0},{"$f":"IF(A532<=n_select,'2) Check for series resistance'!G536,\"\")","v":""},0,"",{"$f":"IF(AND(Validation!E$10,B532<>0,D532>=V_ex2),B532-V_bi,0)","v":0},"",{"$error":"#N/A"},{"$error":"#N/A"},"",""]
[498,{"$f":"IF(A533<=n_select,'2) Check for series resistance'!F537,0)","v":0},{"$f":"IF(A533<=n_select,'2) Check for series resistance'!G537,\"\")","v":""},0,"",{"$f":"IF(AND(Validation!E$10,B533<>0,D533>=V_ex2),B533-V_bi,0)","v":0},"",{"$error":"#N/A"},{"$error":"#N/A"},"",""]
[499,{"$f":"IF(A534<=n_select,'2) Check for series resistance'!F538,0)","v":0},{"$f":"IF(A534<=n_select,'2) Check for series resistance'!G538,\"\")","v":""},0,"",{"$f":"IF(AND(Validation!E$10,B534<>0,D534>=V_ex2),B534-V_bi,0)","v":0},"",{"$error":"#N/A"},{"$error":"#N/A"},"",""]
[500,{"$f":"IF(A535<=n_select,'2) Check for series resistance'!F539,0)","v":0},{"$f":"IF(A535<=n_select,'2) Check for series resistance'!G539,\"\")","v":""},0,"",{"$f":"IF(AND(Validation!E$10,B535<>0,D535>=V_ex2),B535-V_bi,0)","v":0},"",{"$error":"#N/A"},{"$error":"#N/A"},"",""]
[501,{"$f":"IF(A536<=n_select,'2) Check for series resistance'!F540,0)","v":0},{"$f":"IF(A536<=n_select,'2) Check for series resistance'!G540,\"\")","v":""},0,"",{"$f":"IF(AND(Validation!E$10,B536<>0,D536>=V_ex2),B536-V_bi,0)","v":0},"",{"$error":"#N/A"},{"$error":"#N/A"},"",""]
[502,{"$f":"IF(A537<=n_select,'2) Check for series resistance'!F541,0)","v":0},{"$f":"IF(A537<=n_select,'2) Check for series resistance'!G541,\"\")","v":""},0,"",{"$f":"IF(AND(Validation!E$10,B537<>0,D537>=V_ex2),B537-V_bi,0)","v":0},"",{"$error":"#N/A"},{"$error":"#N/A"},"",""]
[503,{"$f":"IF(A538<=n_select,'2) Check for series resistance'!F542,0)","v":0},{"$f":"IF(A538<=n_select,'2) Check for series resistance'!G542,\"\")","v":""},0,"",{"$f":"IF(AND(Validation!E$10,B538<>0,D538>=V_ex2),B538-V_bi,0)","v":0},"",{"$error":"#N/A"},{"$error":"#N/A"},"",""]
[504,{"$f":"IF(A539<=n_select,'2) Check for series resistance'!F543,0)","v":0},{"$f":"IF(A539<=n_select,'2) Check for series resistance'!G543,\"\")","v":""},0,"",{"$f":"IF(AND(Validation!E$10,B539<>0,D539>=V_ex2),B539-V_bi,0)","v":0},"",{"$error":"#N/A"},{"$error":"#N/A"},"",""]
[505,{"$f":"IF(A540<=n_select,'2) Check for series resistance'!F544,0)","v":0},{"$f":"IF(A540<=n_select,'2) Check for series resistance'!G544,\"\")","v":""},0,"",{"$f":"IF(AND(Validation!E$10,B540<>0,D540>=V_ex2),B540-V_bi,0)","v":0},"",{"$error":"#N/A"},{"$error":"#N/A"},"",""]
[506,{"$f":"IF(A541<=n_select,'2) Check for series resistance'!F545,0)","v":0},{"$f":"IF(A541<=n_select,'2) Check for series resistance'!G545,\"\")","v":""},0,"",{"$f":"IF(AND(Validation!E$10,B541<>0,D541>=V_ex2),B541-V_bi,0)","v":0},"",{"$error":"#N/A"},{"$error":"#N/A"},"",""]
[507,{"$f":"IF(A542<=n_select,'2) Check for series resistance'!F546,0)","v":0},{"$f":"IF(A542<=n_select,'2) Check for series resistance'!G546,\"\")","v":""},0,"",{"$f":"IF(AND(Validation!E$10,B542<>0,D542>=V_ex2),B542-V_bi,0)","v":0},"",{"$error":"#N/A"},{"$error":"#N/A"},"",""]
[508,{"$f":"IF(A543<=n_select,'2) Check for series resistance'!F547,0)","v":0},{"$f":"IF(A543<=n_select,'2) Check for series resistance'!G547,\"\")","v":""},0,"",{"$f":"IF(AND(Validation!E$10,B543<>0,D543>=V_ex2),B543-V_bi,0)","v":0},"",{"$error":"#N/A"},{"$error":"#N/A"},"",""]
[509,{"$f":"IF(A544<=n_select,'2) Check for series resistance'!F548,0)","v":0},{"$f":"IF(A544<=n_select,'2) Check for series resistance'!G548,\"\")","v":""},0,"",{"$f":"IF(AND(Validation!E$10,B544<>0,D544>=V_ex2),B544-V_bi,0)","v":0},"",{"$error":"#N/A"},{"$error":"#N/A"},"",""]
[510,{"$f":"IF(A545<=n_select,'2) Check for series resistance'!F549,0)","v":0},{"$f":"IF(A545<=n_select,'2) Check for series resistance'!G549,\"\")","v":""},0,"",{"$f":"IF(AND(Validation!E$10,B545<>0,D545>=V_ex2),B545-V_bi,0)","v":0},"",{"$error":"#N/A"},{"$error":"#N/A"},"",""]
[511,{"$f":"IF(A546<=n_select,'2) Check for series resistance'!F550,0)","v":0},{"$f":"IF(A546<=n_select,'2) Check for series resistance'!G550,\"\")","v":""},0,"",{"$f":"IF(AND(Validation!E$10,B546<>0,D546>=V_ex2),B546-V_bi,0)","v":0},"",{"$error":"#N/A"},{"$error":"#N/A"},"",""]
[512,{"$f":"IF(A547<=n_select,'2) Check for series resistance'!F551,0)","v":0},{"$f":"IF(A547<=n_select,'2) Check for series resistance'!G551,\"\")","v":""},0,"",{"$f":"IF(AND(Validation!E$10,B547<>0,D547>=V_ex2),B547-V_bi,0)","v":0},"",{"$error":"#N/A"},{"$error":"#N/A"},"",""]
[513,{"$f":"IF(A548<=n_select,'2) Check for series resistance'!F552,0)","v":0},{"$f":"IF(A548<=n_select,'2) Check for series resistance'!G552,\"\")","v":""},0,"",{"$f":"IF(AND(Validation!E$10,B548<>0,D548>=V_ex2),B548-V_bi,0)","v":0},"",{"$error":"#N/A"},{"$f":"MATCH(D548*direction,J$36:J$753,1)","v":{"$error":"#N/A"}},"",""]
[514,{"$f":"IF(A549<=n_select,'2) Check for series resistance'!F553,0)","v":0},{"$f":"IF(A549<=n_select,'2) Check for series resistance'!G553,\"\")","v":""},{"$f":"IF(B549<>0,B549-$C$6,0)","v":0},{"$f":"IF(D549<>0,C549,\"\")","v":""},{"$f":"IF(AND(Validation!E$10,B549<>0,D549>=V_ex2),B549-V_bi,0)","v":0},{"$f":"IF(F549<>0,E549,\"\")","v":""},{"$f":"INDEX(C$36:C$753,I549)+(INDEX(C$36:C$753,I549+1)-INDEX(C$36:C$753,I549))*(D549-INDEX(B$36:B$753,I549))/(INDEX(B$36:B$753,I549+1)-INDEX(B$36:B$753,I549))","v":{"$error":"#N/A"}},{"$error":"#N/A"},{"$f":"IF(B549<>0,direction*B549,\"\")","v":""},{"$f":"IF(AND(B549<>0,COUNT(H549)>0),IF(AND(D549<>0,OR(H549/E549>10,E549/H549>10)),D549,\"\"),\"\")","v":""}]
[515,{"$f":"IF(A550<=n_select,'2) Check for series resistance'!F554,0)","v":0},{"$f":"IF(A550<=n_select,'2) Check for series resistance'!G554,\"\")","v":""},0,"",{"$f":"IF(AND(Validation!E$10,B550<>0,D550>=V_ex2),B550-V_bi,0)","v":0},"",{"$error":"#N/A"},{"$error":"#N/A"},"",""]
[516,{"$f":"IF(A551<=n_select,'2) Check for series resistance'!F555,0)","v":0},{"$f":"IF(A551<=n_select,'2) Check for series resistance'!G555,\"\")","v":""},0,"",{"$f":"IF(AND(Validation!E$10,B551<>0,D551>=V_ex2),B551-V_bi,0)","v":0},"",{"$error":"#N/A"},{"$error":"#N/A"},"",""]
[517,{"$f":"IF(A552<=n_select,'2) Check for series resistance'!F556,0)","v":0},{"$f":"IF(A552<=n_select,'2) Check for series resistance'!G556,\"\")","v":""},0,"",{"$f":"IF(AND(Validation!E$10,B552<>0,D552>=V_ex2),B552-V_bi,0)","v":0},"",{"$error":"#N/A"},{"$error":"#N/A"},"",""]
[518,{"$f":"IF(A553<=n_select,'2) Check for series resistance'!F557,0)","v":0},{"$f":"IF(A553<=n_select,'2) Check for series resistance'!G557,\"\")","v":""},0,"",{"$f":"IF(AND(Validation!E$10,B553<>0,D553>=V_ex2),B553-V_bi,0)","v":0},"",{"$error":"#N/A"},{"$error":"#N/A"},"",""]
[519,{"$f":"IF(A554<=n_select,'2) Check for series resistance'!F558,0)","v":0},{"$f":"IF(A554<=n_select,'2) Check for series resistance'!G558,\"\")","v":""},0,"",{"$f":"IF(AND(Validation!E$10,B554<>0,D554>=V_ex2),B554-V_bi,0)","v":0},"",{"$error":"#N/A"},{"$error":"#N/A"},"",""]
[520,{"$f":"IF(A555<=n_select,'2) Check for series resistance'!F559,0)","v":0},{"$f":"IF(A555<=n_select,'2) Check for series resistance'!G559,\"\")","v":""},0,"",{"$f":"IF(AND(Validation!E$10,B555<>0,D555>=V_ex2),B555-V_bi,0)","v":0},"",{"$error":"#N/A"},{"$error":"#N/A"},"",""]
[521,{"$f":"IF(A556<=n_select,'2) Check for series resistance'!F560,0)","v":0},{"$f":"IF(A556<=n_select,'2) Check for series resistance'!G560,\"\")","v":""},0,"",{"$f":"IF(AND(Validation!E$10,B556<>0,D556>=V_ex2),B556-V_bi,0)","v":0},"",{"$error":"#N/A"},{"$error":"#N/A"},"",""]
[522,{"$f":"IF(A557<=n_select,'2) Check for series resistance'!F561,0)","v":0},{"$f":"IF(A557<=n_select,'2) Check for series resistance'!G561,\"\")","v":""},0,"",{"$f":"IF(AND(Validation!E$10,B557<>0,D557>=V_ex2),B557-V_bi,0)","v":0},"",{"$error":"#N/A"},{"$error":"#N/A"},"",""]
[523,{"$f":"IF(A558<=n_select,'2) Check for series resistance'!F562,0)","v":0},{"$f":"IF(A558<=n_select,'2) Check for series resistance'!G562,\"\")","v":""},0,"",{"$f":"IF(AND(Validation!E$10,B558<>0,D558>=V_ex2),B558-V_bi,0)","v":0},"",{"$error":"#N/A"},{"$error":"#N/A"},"",""]
[524,{"$f":"IF(A559<=n_select,'2) Check for series resistance'!F563,0)","v":0},{"$f":"IF(A559<=n_select,'2) Check for series resistance'!G563,\"\")","v":""},0,"",{"$f":"IF(AND(Validation!E$10,B559<>0,D559>=V_ex2),B559-V_bi,0)","v":0},"",{"$error":"#N/A"},{"$error":"#N/A"},"",""]
[525,{"$f":"IF(A560<=n_select,'2) Check for series resistance'!F564,0)","v":0},{"$f":"IF(A560<=n_select,'2) Check for series resistance'!G564,\"\")","v":""},0,"",{"$f":"IF(AND(Validation!E$10,B560<>0,D560>=V_ex2),B560-V_bi,0)","v":0},"",{"$error":"#N/A"},{"$error":"#N/A"},"",""]
[526,{"$f":"IF(A561<=n_select,'2) Check for series resistance'!F565,0)","v":0},{"$f":"IF(A561<=n_select,'2) Check for series resistance'!G565,\"\")","v":""},0,"",{"$f":"IF(AND(Validation!E$10,B561<>0,D561>=V_ex2),B561-V_bi,0)","v":0},"",{"$error":"#N/A"},{"$error":"#N/A"},"",""]
[527,{"$f":"IF(A562<=n_select,'2) Check for series resistance'!F566,0)","v":0},{"$f":"IF(A562<=n_select,'2) Check for series resistance'!G566,\"\")","v":""},0,"",{"$f":"IF(AND(Validation!E$10,B562<>0,D562>=V_ex2),B562-V_bi,0)","v":0},"",{"$error":"#N/A"},{"$error":"#N/A"},"",""]
[528,{"$f":"IF(A563<=n_select,'2) Check for series resistance'!F567,0)","v":0},{"$f":"IF(A563<=n_select,'2) Check for series resistance'!G567,\"\")","v":""},0,"",{"$f":"IF(AND(Validation!E$10,B563<>0,D563>=V_ex2),B563-V_bi,0)","v":0},"",{"$error":"#N/A"},{"$error":"#N/A"},"",""]
[529,{"$f":"IF(A564<=n_select,'2) Check for series resistance'!F568,0)","v":0},{"$f":"IF(A564<=n_select,'2) Check for series resistance'!G568,\"\")","v":""},0,"",{"$f":"IF(AND(Validation!E$10,B564<>0,D564>=V_ex2),B564-V_bi,0)","v":0},"",{"$error":"#N/A"},{"$error":"#N/A"},"",""]
[530,{"$f":"IF(A565<=n_select,'2) Check for series resistance'!F569,0)","v":0},{"$f":"IF(A565<=n_select,'2) Check for series resistance'!G569,\"\")","v":""},0,"",{"$f":"IF(AND(Validation!E$10,B565<>0,D565>=V_ex2),B565-V_bi,0)","v":0},"",{"$error":"#N/A"},{"$error":"#N/A"},"",""]
[531,{"$f":"IF(A566<=n_select,'2) Check for series resistance'!F570,0)","v":0},{"$f":"IF(A566<=n_select,'2) Check for series resistance'!G570,\"\")","v":""},0,"",{"$f":"IF(AND(Validation!E$10,B566<>0,D566>=V_ex2),B566-V_bi,0)","v":0},"",{"$error":"#N/A"},{"$error":"#N/A"},"",""]
[532,{"$f":"IF(A567<=n_select,'2) Check for series resistance'!F571,0)","v":0},{"$f":"IF(A567<=n_select,'2) Check for series resistance'!G571,\"\")","v":""},0,"",{"$f":"IF(AND(Validation!E$10,B567<>0,D567>=V_ex2),B567-V_bi,0)","v":0},"",{"$error":"#N/A"},{"$error":"#N/A"},"",""]
[533,{"$f":"IF(A568<=n_select,'2) Check for series resistance'!F572,0)","v":0},{"$f":"IF(A568<=n_select,'2) Check for series resistance'!G572,\"\")","v":""},0,"",{"$f":"IF(AND(Validation!E$10,B568<>0,D568>=V_ex2),B568-V_bi,0)","v":0},"",{"$error":"#N/A"},{"$error":"#N/A"},"",""]
[534,{"$f":"IF(A569<=n_select,'2) Check for series resistance'!F573,0)","v":0},{"$f":"IF(A569<=n_select,'2) Check for series resistance'!G573,\"\")","v":""},0,"",{"$f":"IF(AND(Validation!E$10,B569<>0,D569>=V_ex2),B569-V_bi,0)","v":0},"",{"$error":"#N/A"},{"$error":"#N/A"},"",""]
[535,{"$f":"IF(A570<=n_select,'2) Check for series resistance'!F574,0)","v":0},{"$f":"IF(A570<=n_select,'2) Check for series resistance'!G574,\"\")","v":""},0,"",{"$f":"IF(AND(Validation!E$10,B570<>0,D570>=V_ex2),B570-V_bi,0)","v":0},"",{"$error":"#N/A"},{"$error":"#N/A"},"",""]
[536,{"$f":"IF(A571<=n_select,'2) Check for series resistance'!F575,0)","v":0},{"$f":"IF(A571<=n_select,'2) Check for series resistance'!G575,\"\")","v":""},0,"",{"$f":"IF(AND(Validation!E$10,B571<>0,D571>=V_ex2),B571-V_bi,0)","v":0},"",{"$error":"#N/A"},{"$error":"#N/A"},"",""]
[537,{"$f":"IF(A572<=n_select,'2) Check for series resistance'!F576,0)","v":0},{"$f":"IF(A572<=n_select,'2) Check for series resistance'!G576,\"\")","v":""},0,"",{"$f":"IF(AND(Validation!E$10,B572<>0,D572>=V_ex2),B572-V_bi,0)","v":0},"",{"$error":"#N/A"},{"$error":"#N/A"},"",""]
[538,{"$f":"IF(A573<=n_select,'2) Check for series resistance'!F577,0)","v":0},{"$f":"IF(A573<=n_select,'2) Check for series resistance'!G577,\"\")","v":""},0,"",{"$f":"IF(AND(Validation!E$10,B573<>0,D573>=V_ex2),B573-V_bi,0)","v":0},"",{"$error":"#N/A"},{"$error":"#N/A"},"",""]
[539,{"$f":"IF(A574<=n_select,'2) Check for series resistance'!F578,0)","v":0},{"$f":"IF(A574<=n_select,'2) Check for series resistance'!G578,\"\")","v":""},0,"",{"$f":"IF(AND(Validation!E$10,B574<>0,D574>=V_ex2),B574-V_bi,0)","v":0},"",{"$error":"#N/A"},{"$error":"#N/A"},"",""]
[540,{"$f":"IF(A575<=n_select,'2) Check for series resistance'!F579,0)","v":0},{"$f":"IF(A575<=n_select,'2) Check for series resistance'!G579,\"\")","v":""},0,"",{"$f":"IF(AND(Validation!E$10,B575<>0,D575>=V_ex2),B575-V_bi,0)","v":0},"",{"$error":"#N/A"},{"$error":"#N/A"},"",""]
[541,{"$f":"IF(A576<=n_select,'2) Check for series resistance'!F580,0)","v":0},{"$f":"IF(A576<=n_select,'2) Check for series resistance'!G580,\"\")","v":""},0,"",{"$f":"IF(AND(Validation!E$10,B576<>0,D576>=V_ex2),B576-V_bi,0)","v":0},"",{"$error":"#N/A"},{"$error":"#N/A"},"",""]
[542,{"$f":"IF(A577<=n_select,'2) Check for series resistance'!F581,0)","v":0},{"$f":"IF(A577<=n_select,'2) Check for series resistance'!G581,\"\")","v":""},0,"",{"$f":"IF(AND(Validation!E$10,B577<>0,D577>=V_ex2),B577-V_bi,0)","v":0},"",{"$error":"#N/A"},{"$error":"#N/A"},"",""]
[543,{"$f":"IF(A578<=n_select,'2) Check for series resistance'!F582,0)","v":0},{"$f":"IF(A578<=n_select,'2) Check for series resistance'!G582,\"\")","v":""},0,"",{"$f":"IF(AND(Validation!E$10,B578<>0,D578>=V_ex2),B578-V_bi,0)","v":0},"",{"$error":"#N/A"},{"$error":"#N/A"},"",""]
[544,{"$f":"IF(A579<=n_select,'2) Check for series resistance'!F583,0)","v":0},{"$f":"IF(A579<=n_select,'2) Check for series resistance'!G583,\"\")","v":""},0,"",{"$f":"IF(AND(Validation!E$10,B579<>0,D579>=V_ex2),B579-V_bi,0)","v":0},"",{"$error":"#N/A"},{"$error":"#N/A"},"",""]
[545,{"$f":"IF(A580<=n_select,'2) Check for series resistance'!F584,0)","v":0},{"$f":"IF(A580<=n_select,'2) Check for series resistance'!G584,\"\")","v":""},0,"",{"$f":"IF(AND(Validation!E$10,B580<>0,D580>=V_ex2),B580-V_bi,0)","v":0},"",{"$error":"#N/A"},{"$error":"#N/A"},"",""]
[546,{"$f":"IF(A581<=n_select,'2) Check for series resistance'!F585,0)","v":0},{"$f":"IF(A581<=n_select,'2) Check for series resistance'!G585,\"\")","v":""},0,"",{"$f":"IF(AND(Validation!E$10,B581<>0,D581>=V_ex2),B581-V_bi,0)","v":0},"",{"$error":"#N/A"},{"$error":"#N/A"},"",""]
[547,{"$f":"IF(A582<=n_select,'2) Check for series resistance'!F586,0)","v":0},{"$f":"IF(A582<=n_select,'2) Check for series resistance'!G586,\"\")","v":""},0,"",{"$f":"IF(AND(Validation!E$10,B582<>0,D582>=V_ex2),B582-V_bi,0)","v":0},"",{"$error":"#N/A"},{"$error":"#N/A"},"",""]
[548,{"$f":"IF(A583<=n_select,'2) Check for series resistance'!F587,0)","v":0},{"$f":"IF(A583<=n_select,'2) Check for series resistance'!G587,\"\")","v":""},0,"",{"$f":"IF(AND(Validation!E$10,B583<>0,D583>=V_ex2),B583-V_bi,0)","v":0},"",{"$error":"#N/A"},{"$error":"#N/A"},"",""]
[549,{"$f":"IF(A584<=n_select,'2) Check for series resistance'!F588,0)","v":0},{"$f":"IF(A584<=n_select,'2) Check for series resistance'!G588,\"\")","v":""},0,"",{"$f":"IF(AND(Validation!E$10,B584<>0,D584>=V_ex2),B584-V_bi,0)","v":0},"",{"$error":"#N/A"},{"$error":"#N/A"},"",""]
[550,{"$f":"IF(A585<=n_select,'2) Check for series resistance'!F589,0)","v":0},{"$f":"IF(A585<=n_select,'2) Check for series resistance'!G589,\"\")","v":""},0,"",{"$f":"IF(AND(Validation!E$10,B585<>0,D585>=V_ex2),B585-V_bi,0)","v":0},"",{"$error":"#N/A"},{"$error":"#N/A"},"",""]
[551,{"$f":"IF(A586<=n_select,'2) Check for series resistance'!F590,0)","v":0},{"$f":"IF(A586<=n_select,'2) Check for series resistance'!G590,\"\")","v":""},0,"",{"$f":"IF(AND(Validation!E$10,B586<>0,D586>=V_ex2),B586-V_bi,0)","v":0},"",{"$error":"#N/A"},{"$error":"#N/A"},"",""]
[552,{"$f":"IF(A587<=n_select,'2) Check for series resistance'!F591,0)","v":0},{"$f":"IF(A587<=n_select,'2) Check for series resistance'!G591,\"\")","v":""},0,"",{"$f":"IF(AND(Validation!E$10,B587<>0,D587>=V_ex2),B587-V_bi,0)","v":0},"",{"$error":"#N/A"},{"$error":"#N/A"},"",""]
[553,{"$f":"IF(A588<=n_select,'2) Check for series resistance'!F592,0)","v":0},{"$f":"IF(A588<=n_select,'2) Check for series resistance'!G592,\"\")","v":""},0,"",{"$f":"IF(AND(Validation!E$10,B588<>0,D588>=V_ex2),B588-V_bi,0)","v":0},"",{"$error":"#N/A"},{"$error":"#N/A"},"",""]
[554,{"$f":"IF(A589<=n_select,'2) Check for series resistance'!F593,0)","v":0},{"$f":"IF(A589<=n_select,'2) Check for series resistance'!G593,\"\")","v":""},0,"",{"$f":"IF(AND(Validation!E$10,B589<>0,D589>=V_ex2),B589-V_bi,0)","v":0},"",{"$error":"#N/A"},{"$error":"#N/A"},"",""]
[555,{"$f":"IF(A590<=n_select,'2) Check for series resistance'!F594,0)","v":0},{"$f":"IF(A590<=n_select,'2) Check for series resistance'!G594,\"\")","v":""},0,"",{"$f":"IF(AND(Validation!E$10,B590<>0,D590>=V_ex2),B590-V_bi,0)","v":0},"",{"$error":"#N/A"},{"$error":"#N/A"},"",""]
[556,{"$f":"IF(A591<=n_select,'2) Check for series resistance'!F595,0)","v":0},{"$f":"IF(A591<=n_select,'2) Check for series resistance'!G595,\"\")","v":""},0,"",{"$f":"IF(AND(Validation!E$10,B591<>0,D591>=V_ex2),B591-V_bi,0)","v":0},"",{"$error":"#N/A"},{"$error":"#N/A"},"",""]
[557,{"$f":"IF(A592<=n_select,'2) Check for series resistance'!F596,0)","v":0},{"$f":"IF(A592<=n_select,'2) Check for series resistance'!G596,\"\")","v":""},0,"",{"$f":"IF(AND(Validation!E$10,B592<>0,D592>=V_ex2),B592-V_bi,0)","v":0},"",{"$error":"#N/A"},{"$error":"#N/A"},"",""]
[558,{"$f":"IF(A593<=n_select,'2) Check for series resistance'!F597,0)","v":0},{"$f":"IF(A593<=n_select,'2) Check for series resistance'!G597,\"\")","v":""},0,"",{"$f":"IF(AND(Validation!E$10,B593<>0,D593>=V_ex2),B593-V_bi,0)","v":0},"",{"$error":"#N/A"},{"$error":"#N/A"},"",""]
[559,{"$f":"IF(A594<=n_select,'2) Check for series resistance'!F598,0)","v":0},{"$f":"IF(A594<=n_select,'2) Check for series resistance'!G598,\"\")","v":""},0,"",{"$f":"IF(AND(Validation!E$10,B594<>0,D594>=V_ex2),B594-V_bi,0)","v":0},"",{"$error":"#N/A"},{"$error":"#N/A"},"",""]
[560,{"$f":"IF(A595<=n_select,'2) Check for series resistance'!F599,0)","v":0},{"$f":"IF(A595<=n_select,'2) Check for series resistance'!G599,\"\")","v":""},0,"",{"$f":"IF(AND(Validation!E$10,B595<>0,D595>=V_ex2),B595-V_bi,0)","v":0},"",{"$error":"#N/A"},{"$error":"#N/A"},"",""]
[561,{"$f":"IF(A596<=n_select,'2) Check for series resistance'!F600,0)","v":0},{"$f":"IF(A596<=n_select,'2) Check for series resistance'!G600,\"\")","v":""},0,"",{"$f":"IF(AND(Validation!E$10,B596<>0,D596>=V_ex2),B596-V_bi,0)","v":0},"",{"$error":"#N/A"},{"$error":"#N/A"},"",""]
[562,{"$f":"IF(A597<=n_select,'2) Check for series resistance'!F601,0)","v":0},{"$f":"IF(A597<=n_select,'2) Check for series resistance'!G601,\"\")","v":""},0,"",{"$f":"IF(AND(Validation!E$10,B597<>0,D597>=V_ex2),B597-V_bi,0)","v":0},"",{"$error":"#N/A"},{"$error":"#N/A"},"",""]
[563,{"$f":"IF(A598<=n_select,'2) Check for series resistance'!F602,0)","v":0},{"$f":"IF(A598<=n_select,'2) Check for series resistance'!G602,\"\")","v":""},0,"",{"$f":"IF(AND(Validation!E$10,B598<>0,D598>=V_ex2),B598-V_bi,0)","v":0},"",{"$error":"#N/A"},{"$error":"#N/A"},"",""]
[564,{"$f":"IF(A599<=n_select,'2) Check for series resistance'!F603,0)","v":0},{"$f":"IF(A599<=n_select,'2) Check for series resistance'!G603,\"\")","v":""},0,"",{"$f":"IF(AND(Validation!E$10,B599<>0,D599>=V_ex2),B599-V_bi,0)","v":0},"",{"$error":"#N/A"},{"$error":"#N/A"},"",""]
[565,{"$f":"IF(A600<=n_select,'2) Check for series resistance'!F604,0)","v":0},{"$f":"IF(A600<=n_select,'2) Check for series resistance'!G604,\"\")","v":""},0,"",{"$f":"IF(AND(Validation!E$10,B600<>0,D600>=V_ex2),B600-V_bi,0)","v":0},"",{"$error":"#N/A"},{"$error":"#N/A"},"",""]
[566,{"$f":"IF(A601<=n_select,'2) Check for series resistance'!F605,0)","v":0},{"$f":"IF(A601<=n_select,'2) Check for series resistance'!G605,\"\")","v":""},0,"",{"$f":"IF(AND(Validation!E$10,B601<>0,D601>=V_ex2),B601-V_bi,0)","v":0},"",{"$error":"#N/A"},{"$error":"#N/A"},"",""]
[567,{"$f":"IF(A602<=n_select,'2) Check for series resistance'!F606,0)","v":0},{"$f":"IF(A602<=n_select,'2) Check for series resistance'!G606,\"\")","v":""},0,"",{"$f":"IF(AND(Validation!E$10,B602<>0,D602>=V_ex2),B602-V_bi,0)","v":0},"",{"$error":"#N/A"},{"$error":"#N/A"},"",""]
[568,{"$f":"IF(A603<=n_select,'2) Check for series resistance'!F607,0)","v":0},{"$f":"IF(A603<=n_select,'2) Check for series resistance'!G607,\"\")","v":""},0,"",{"$f":"IF(AND(Validation!E$10,B603<>0,D603>=V_ex2),B603-V_bi,0)","v":0},"",{"$error":"#N/A"},{"$error":"#N/A"},"",""]
[569,{"$f":"IF(A604<=n_select,'2) Check for series resistance'!F608,0)","v":0},{"$f":"IF(A604<=n_select,'2) Check for series resistance'!G608,\"\")","v":""},0,"",{"$f":"IF(AND(Validation!E$10,B604<>0,D604>=V_ex2),B604-V_bi,0)","v":0},"",{"$error":"#N/A"},{"$error":"#N/A"},"",""]
[570,{"$f":"IF(A605<=n_select,'2) Check for series resistance'!F609,0)","v":0},{"$f":"IF(A605<=n_select,'2) Check for series resistance'!G609,\"\")","v":""},0,"",{"$f":"IF(AND(Validation!E$10,B605<>0,D605>=V_ex2),B605-V_bi,0)","v":0},"",{"$error":"#N/A"},{"$error":"#N/A"},"",""]
[571,{"$f":"IF(A606<=n_select,'2) Check for series resistance'!F610,0)","v":0},{"$f":"IF(A606<=n_select,'2) Check for series resistance'!G610,\"\")","v":""},0,"",{"$f":"IF(AND(Validation!E$10,B606<>0,D606>=V_ex2),B606-V_bi,0)","v":0},"",{"$error":"#N/A"},{"$error":"#N/A"},"",""]
[572,{"$f":"IF(A607<=n_select,'2) Check for series resistance'!F611,0)","v":0},{"$f":"IF(A607<=n_select,'2) Check for series resistance'!G611,\"\")","v":""},0,"",{"$f":"IF(AND(Validation!E$10,B607<>0,D607>=V_ex2),B607-V_bi,0)","v":0},"",{"$error":"#N/A"},{"$error":"#N/A"},"",""]
[573,{"$f":"IF(A608<=n_select,'2) Check for series resistance'!F612,0)","v":0},{"$f":"IF(A608<=n_select,'2) Check for series resistance'!G612,\"\")","v":""},0,"",{"$f":"IF(AND(Validation!E$10,B608<>0,D608>=V_ex2),B608-V_bi,0)","v":0},"",{"$error":"#N/A"},{"$error":"#N/A"},"",""]
[574,{"$f":"IF(A609<=n_select,'2) Check for series resistance'!F613,0)","v":0},{"$f":"IF(A609<=n_select,'2) Check for series resistance'!G613,\"\")","v":""},0,"",{"$f":"IF(AND(Validation!E$10,B609<>0,D609>=V_ex2),B609-V_bi,0)","v":0},"",{"$error":"#N/A"},{"$error":"#N/A"},"",""]
[575,{"$f":"IF(A610<=n_select,'2) Check for series resistance'!F614,0)","v":0},{"$f":"IF(A610<=n_select,'2) Check for series resistance'!G614,\"\")","v":""},0,"",{"$f":"IF(AND(Validation!E$10,B610<>0,D610>=V_ex2),B610-V_bi,0)","v":0},"",{"$error":"#N/A"},{"$error":"#N/A"},"",""]
[576,{"$f":"IF(A611<=n_select,'2) Check for series resistance'!F615,0)","v":0},{"$f":"IF(A611<=n_select,'2) Check for series resistance'!G615,\"\")","v":""},0,"",{"$f":"IF(AND(Validation!E$10,B611<>0,D611>=V_ex2),B611-V_bi,0)","v":0},"",{"$error":"#N/A"},{"$error":"#N/A"},"",""]
[577,{"$f":"IF(A612<=n_select,'2) Check for series resistance'!F616,0)","v":0},{"$f":"IF(A612<=n_select,'2) Check for series resistance'!G616,\"\")","v":""},0,"",{"$f":"IF(AND(Validation!E$10,B612<>0,D612>=V_ex2),B612-V_bi,0)","v":0},"",{"$error":"#N/A"},{"$f":"MATCH(D612*direction,J$36:J$753,1)","v":{"$error":"#N/A"}},"",""]
[578,{"$f":"IF(A613<=n_select,'2) Check for series resistance'!F617,0)","v":0},{"$f":"IF(A613<=n_select,'2) Check for series resistance'!G617,\"\")","v":""},{"$f":"IF(B613<>0,B613-$C$6,0)","v":0},{"$f":"IF(D613<>0,C613,\"\")","v":""},{"$f":"IF(AND(Validation!E$10,B613<>0,D613>=V_ex2),B613-V_bi,0)","v":0},{"$f":"IF(F613<>0,E613,\"\")","v":""},{"$f":"INDEX(C$36:C$753,I613)+(INDEX(C$36:C$753,I613+1)-INDEX(C$36:C$753,I613))*(D613-INDEX(B$36:B$753,I613))/(INDEX(B$36:B$753,I613+1)-INDEX(B$36:B$753,I613))","v":{"$error":"#N/A"}},{"$error":"#N/A"},{"$f":"IF(B613<>0,direction*B613,\"\")","v":""},{"$f":"IF(AND(B613<>0,COUNT(H613)>0),IF(AND(D613<>0,OR(H613/E613>10,E613/H613>10)),D613,\"\"),\"\")","v":""}]
[579,{"$f":"IF(A614<=n_select,'2) Check for series resistance'!F618,0)","v":0},{"$f":"IF(A614<=n_select,'2) Check for series resistance'!G618,\"\")","v":""},0,"",{"$f":"IF(AND(Validation!E$10,B614<>0,D614>=V_ex2),B614-V_bi,0)","v":0},"",{"$error":"#N/A"},{"$error":"#N/A"},"",""]
[580,{"$f":"IF(A615<=n_select,'2) Check for series resistance'!F619,0)","v":0},{"$f":"IF(A615<=n_select,'2) Check for series resistance'!G619,\"\")","v":""},0,"",{"$f":"IF(AND(Validation!E$10,B615<>0,D615>=V_ex2),B615-V_bi,0)","v":0},"",{"$error":"#N/A"},{"$error":"#N/A"},"",""]
[581,{"$f":"IF(A616<=n_select,'2) Check for series resistance'!F620,0)","v":0},{"$f":"IF(A616<=n_select,'2) Check for series resistance'!G620,\"\")","v":""},0,"",{"$f":"IF(AND(Validation!E$10,B616<>0,D616>=V_ex2),B616-V_bi,0)","v":0},"",{"$error":"#N/A"},{"$error":"#N/A"},"",""]
[582,{"$f":"IF(A617<=n_select,'2) Check for series resistance'!F621,0)","v":0},{"$f":"IF(A617<=n_select,'2) Check for series resistance'!G621,\"\")","v":""},0,"",{"$f":"IF(AND(Validation!E$10,B617<>0,D617>=V_ex2),B617-V_bi,0)","v":0},"",{"$error":"#N/A"},{"$error":"#N/A"},"",""]
[583,{"$f":"IF(A618<=n_select,'2) Check for series resistance'!F622,0)","v":0},{"$f":"IF(A618<=n_select,'2) Check for series resistance'!G622,\"\")","v":""},0,"",{"$f":"IF(AND(Validation!E$10,B618<>0,D618>=V_ex2),B618-V_bi,0)","v":0},"",{"$error":"#N/A"},{"$error":"#N/A"},"",""]
[584,{"$f":"IF(A619<=n_select,'2) Check for series resistance'!F623,0)","v":0},{"$f":"IF(A619<=n_select,'2) Check for series resistance'!G623,\"\")","v":""},0,"",{"$f":"IF(AND(Validation!E$10,B619<>0,D619>=V_ex2),B619-V_bi,0)","v":0},"",{"$error":"#N/A"},{"$error":"#N/A"},"",""]
[585,{"$f":"IF(A620<=n_select,'2) Check for series resistance'!F624,0)","v":0},{"$f":"IF(A620<=n_select,'2) Check for series resistance'!G624,\"\")","v":""},0,"",{"$f":"IF(AND(Validation!E$10,B620<>0,D620>=V_ex2),B620-V_bi,0)","v":0},"",{"$error":"#N/A"},{"$error":"#N/A"},"",""]
[586,{"$f":"IF(A621<=n_select,'2) Check for series resistance'!F625,0)","v":0},{"$f":"IF(A621<=n_select,'2) Check for series resistance'!G625,\"\")","v":""},0,"",{"$f":"IF(AND(Validation!E$10,B621<>0,D621>=V_ex2),B621-V_bi,0)","v":0},"",{"$error":"#N/A"},{"$error":"#N/A"},"",""]
[587,{"$f":"IF(A622<=n_select,'2) Check for series resistance'!F626,0)","v":0},{"$f":"IF(A622<=n_select,'2) Check for series resistance'!G626,\"\")","v":""},0,"",{"$f":"IF(AND(Validation!E$10,B622<>0,D622>=V_ex2),B622-V_bi,0)","v":0},"",{"$error":"#N/A"},{"$error":"#N/A"},"",""]
[588,{"$f":"IF(A623<=n_select,'2) Check for series resistance'!F627,0)","v":0},{"$f":"IF(A623<=n_select,'2) Check for series resistance'!G627,\"\")","v":""},0,"",{"$f":"IF(AND(Validation!E$10,B623<>0,D623>=V_ex2),B623-V_bi,0)","v":0},"",{"$error":"#N/A"},{"$error":"#N/A"},"",""]
[589,{"$f":"IF(A624<=n_select,'2) Check for series resistance'!F628,0)","v":0},{"$f":"IF(A624<=n_select,'2) Check for series resistance'!G628,\"\")","v":""},0,"",{"$f":"IF(AND(Validation!E$10,B624<>0,D624>=V_ex2),B624-V_bi,0)","v":0},"",{"$error":"#N/A"},{"$error":"#N/A"},"",""]
[590,{"$f":"IF(A625<=n_select,'2) Check for series resistance'!F629,0)","v":0},{"$f":"IF(A625<=n_select,'2) Check for series resistance'!G629,\"\")","v":""},0,"",{"$f":"IF(AND(Validation!E$10,B625<>0,D625>=V_ex2),B625-V_bi,0)","v":0},"",{"$error":"#N/A"},{"$error":"#N/A"},"",""]
[591,{"$f":"IF(A626<=n_select,'2) Check for series resistance'!F630,0)","v":0},{"$f":"IF(A626<=n_select,'2) Check for series resistance'!G630,\"\")","v":""},0,"",{"$f":"IF(AND(Validation!E$10,B626<>0,D626>=V_ex2),B626-V_bi,0)","v":0},"",{"$error":"#N/A"},{"$error":"#N/A"},"",""]
[592,{"$f":"IF(A627<=n_select,'2) Check for series resistance'!F631,0)","v":0},{"$f":"IF(A627<=n_select,'2) Check for series resistance'!G631,\"\")","v":""},0,"",{"$f":"IF(AND(Validation!E$10,B627<>0,D627>=V_ex2),B627-V_bi,0)","v":0},"",{"$error":"#N/A"},{"$error":"#N/A"},"",""]
[593,{"$f":"IF(A628<=n_select,'2) Check for series resistance'!F632,0)","v":0},{"$f":"IF(A628<=n_select,'2) Check for series resistance'!G632,\"\")","v":""},0,"",{"$f":"IF(AND(Validation!E$10,B628<>0,D628>=V_ex2),B628-V_bi,0)","v":0},"",{"$error":"#N/A"},{"$error":"#N/A"},"",""]
[594,{"$f":"IF(A629<=n_select,'2) Check for series resistance'!F633,0)","v":0},{"$f":"IF(A629<=n_select,'2) Check for series resistance'!G633,\"\")","v":""},0,"",{"$f":"IF(AND(Validation!E$10,B629<>0,D629>=V_ex2),B629-V_bi,0)","v":0},"",{"$error":"#N/A"},{"$error":"#N/A"},"",""]
[595,{"$f":"IF(A630<=n_select,'2) Check for series resistance'!F634,0)","v":0},{"$f":"IF(A630<=n_select,'2) Check for series resistance'!G634,\"\")","v":""},0,"",{"$f":"IF(AND(Validation!E$10,B630<>0,D630>=V_ex2),B630-V_bi,0)","v":0},"",{"$error":"#N/A"},{"$error":"#N/A"},"",""]
[596,{"$f":"IF(A631<=n_select,'2) Check for series resistance'!F635,0)","v":0},{"$f":"IF(A631<=n_select,'2) Check for series resistance'!G635,\"\")","v":""},0,"",{"$f":"IF(AND(Validation!E$10,B631<>0,D631>=V_ex2),B631-V_bi,0)","v":0},"",{"$error":"#N/A"},{"$error":"#N/A"},"",""]
[597,{"$f":"IF(A632<=n_select,'2) Check for series resistance'!F636,0)","v":0},{"$f":"IF(A632<=n_select,'2) Check for series resistance'!G636,\"\")","v":""},0,"",{"$f":"IF(AND(Validation!E$10,B632<>0,D632>=V_ex2),B632-V_bi,0)","v":0},"",{"$error":"#N/A"},{"$error":"#N/A"},"",""]
[598,{"$f":"IF(A633<=n_select,'2) Check for series resistance'!F637,0)","v":0},{"$f":"IF(A633<=n_select,'2) Check for series resistance'!G637,\"\")","v":""},0,"",{"$f":"IF(AND(Validation!E$10,B633<>0,D633>=V_ex2),B633-V_bi,0)","v":0},"",{"$error":"#N/A"},{"$error":"#N/A"},"",""]
[599,{"$f":"IF(A634<=n_select,'2) Check for series resistance'!F638,0)","v":0},{"$f":"IF(A634<=n_select,'2) Check for series resistance'!G638,\"\")","v":""},0,"",{"$f":"IF(AND(Validation!E$10,B634<>0,D634>=V_ex2),B634-V_bi,0)","v":0},"",{"$error":"#N/A"},{"$error":"#N/A"},"",""]
[600,{"$f":"IF(A635<=n_select,'2) Check for series resistance'!F639,0)","v":0},{"$f":"IF(A635<=n_select,'2) Check for series resistance'!G639,\"\")","v":""},0,"",{"$f":"IF(AND(Validation!E$10,B635<>0,D635>=V_ex2),B635-V_bi,0)","v":0},"",{"$error":"#N/A"},{"$error":"#N/A"},"",""]
[601,{"$f":"IF(A636<=n_select,'2) Check for series resistance'!F640,0)","v":0},{"$f":"IF(A636<=n_select,'2) Check for series resistance'!G640,\"\")","v":""},0,"",{"$f":"IF(AND(Validation!E$10,B636<>0,D636>=V_ex2),B636-V_bi,0)","v":0},"",{"$error":"#N/A"},{"$error":"#N/A"},"",""]
[602,{"$f":"IF(A637<=n_select,'2) Check for series resistance'!F641,0)","v":0},{"$f":"IF(A637<=n_select,'2) Check for series resistance'!G641,\"\")","v":""},0,"",{"$f":"IF(AND(Validation!E$10,B637<>0,D637>=V_ex2),B637-V_bi,0)","v":0},"",{"$error":"#N/A"},{"$error":"#N/A"},"",""]
[603,{"$f":"IF(A638<=n_select,'2) Check for series resistance'!F642,0)","v":0},{"$f":"IF(A638<=n_select,'2) Check for series resistance'!G642,\"\")","v":""},0,"",{"$f":"IF(AND(Validation!E$10,B638<>0,D638>=V_ex2),B638-V_bi,0)","v":0},"",{"$error":"#N/A"},{"$error":"#N/A"},"",""]
[604,{"$f":"IF(A639<=n_select,'2) Check for series resistance'!F643,0)","v":0},{"$f":"IF(A639<=n_select,'2) Check for series resistance'!G643,\"\")","v":""},0,"",{"$f":"IF(AND(Validation!E$10,B639<>0,D639>=V_ex2),B639-V_bi,0)","v":0},"",{"$error":"#N/A"},{"$error":"#N/A"},"",""]
[605,{"$f":"IF(A640<=n_select,'2) Check for series resistance'!F644,0)","v":0},{"$f":"IF(A640<=n_select,'2) Check for series resistance'!G644,\"\")","v":""},0,"",{"$f":"IF(AND(Validation!E$10,B640<>0,D640>=V_ex2),B640-V_bi,0)","v":0},"",{"$error":"#N/A"},{"$error":"#N/A"},"",""]
[606,{"$f":"IF(A641<=n_select,'2) Check for series resistance'!F645,0)","v":0},{"$f":"IF(A641<=n_select,'2) Check for series resistance'!G645,\"\")","v":""},0,"",{"$f":"IF(AND(Validation!E$10,B641<>0,D641>=V_ex2),B641-V_bi,0)","v":0},"",{"$error":"#N/A"},{"$error":"#N/A"},"",""]
[607,{"$f":"IF(A642<=n_select,'2) Check for series resistance'!F646,0)","v":0},{"$f":"IF(A642<=n_select,'2) Check for series resistance'!G646,\"\")","v":""},0,"",{"$f":"IF(AND(Validation!E$10,B642<>0,D642>=V_ex2),B642-V_bi,0)","v":0},"",{"$error":"#N/A"},{"$error":"#N/A"},"",""]
[608,{"$f":"IF(A643<=n_select,'2) Check for series resistance'!F647,0)","v":0},{"$f":"IF(A643<=n_select,'2) Check for series resistance'!G647,\"\")","v":""},0,"",{"$f":"IF(AND(Validation!E$10,B643<>0,D643>=V_ex2),B643-V_bi,0)","v":0},"",{"$error":"#N/A"},{"$error":"#N/A"},"",""]
[609,{"$f":"IF(A644<=n_select,'2) Check for series resistance'!F648,0)","v":0},{"$f":"IF(A644<=n_select,'2) Check for series resistance'!G648,\"\")","v":""},0,"",{"$f":"IF(AND(Validation!E$10,B644<>0,D644>=V_ex2),B644-V_bi,0)","v":0},"",{"$error":"#N/A"},{"$error":"#N/A"},"",""]
[610,{"$f":"IF(A645<=n_select,'2) Check for series resistance'!F649,0)","v":0},{"$f":"IF(A645<=n_select,'2) Check for series resistance'!G649,\"\")","v":""},0,"",{"$f":"IF(AND(Validation!E$10,B645<>0,D645>=V_ex2),B645-V_bi,0)","v":0},"",{"$error":"#N/A"},{"$error":"#N/A"},"",""]
[611,{"$f":"IF(A646<=n_select,'2) Check for series resistance'!F650,0)","v":0},{"$f":"IF(A646<=n_select,'2) Check for series resistance'!G650,\"\")","v":""},0,"",{"$f":"IF(AND(Validation!E$10,B646<>0,D646>=V_ex2),B646-V_bi,0)","v":0},"",{"$error":"#N/A"},{"$error":"#N/A"},"",""]
[612,{"$f":"IF(A647<=n_select,'2) Check for series resistance'!F651,0)","v":0},{"$f":"IF(A647<=n_select,'2) Check for series resistance'!G651,\"\")","v":""},0,"",{"$f":"IF(AND(Validation!E$10,B647<>0,D647>=V_ex2),B647-V_bi,0)","v":0},"",{"$error":"#N/A"},{"$error":"#N/A"},"",""]
[613,{"$f":"IF(A648<=n_select,'2) Check for series resistance'!F652,0)","v":0},{"$f":"IF(A648<=n_select,'2) Check for series resistance'!G652,\"\")","v":""},0,"",{"$f":"IF(AND(Validation!E$10,B648<>0,D648>=V_ex2),B648-V_bi,0)","v":0},"",{"$error":"#N/A"},{"$error":"#N/A"},"",""]
[614,{"$f":"IF(A649<=n_select,'2) Check for series resistance'!F653,0)","v":0},{"$f":"IF(A649<=n_select,'2) Check for series resistance'!G653,\"\")","v":""},0,"",{"$f":"IF(AND(Validation!E$10,B649<>0,D649>=V_ex2),B649-V_bi,0)","v":0},"",{"$error":"#N/A"},{"$error":"#N/A"},"",""]
[615,{"$f":"IF(A650<=n_select,'2) Check for series resistance'!F654,0)","v":0},{"$f":"IF(A650<=n_select,'2) Check for series resistance'!G654,\"\")","v":""},0,"",{"$f":"IF(AND(Validation!E$10,B650<>0,D650>=V_ex2),B650-V_bi,0)","v":0},"",{"$error":"#N/A"},{"$error":"#N/A"},"",""]
[616,{"$f":"IF(A651<=n_select,'2) Check for series resistance'!F655,0)","v":0},{"$f":"IF(A651<=n_select,'2) Check for series resistance'!G655,\"\")","v":""},0,"",{"$f":"IF(AND(Validation!E$10,B651<>0,D651>=V_ex2),B651-V_bi,0)","v":0},"",{"$error":"#N/A"},{"$error":"#N/A"},"",""]
[617,{"$f":"IF(A652<=n_select,'2) Check for series resistance'!F656,0)","v":0},{"$f":"IF(A652<=n_select,'2) Check for series resistance'!G656,\"\")","v":""},0,"",{"$f":"IF(AND(Validation!E$10,B652<>0,D652>=V_ex2),B652-V_bi,0)","v":0},"",{"$error":"#N/A"},{"$error":"#N/A"},"",""]
[618,{"$f":"IF(A653<=n_select,'2) Check for series resistance'!F657,0)","v":0},{"$f":"IF(A653<=n_select,'2) Check for series resistance'!G657,\"\")","v":""},0,"",{"$f":"IF(AND(Validation!E$10,B653<>0,D653>=V_ex2),B653-V_bi,0)","v":0},"",{"$error":"#N/A"},{"$error":"#N/A"},"",""]
[619,{"$f":"IF(A654<=n_select,'2) Check for series resistance'!F658,0)","v":0},{"$f":"IF(A654<=n_select,'2) Check for series resistance'!G658,\"\")","v":""},0,"",{"$f":"IF(AND(Validation!E$10,B654<>0,D654>=V_ex2),B654-V_bi,0)","v":0},"",{"$error":"#N/A"},{"$error":"#N/A"},"",""]
[620,{"$f":"IF(A655<=n_select,'2) Check for series resistance'!F659,0)","v":0},{"$f":"IF(A655<=n_select,'2) Check for series resistance'!G659,\"\")","v":""},0,"",{"$f":"IF(AND(Validation!E$10,B655<>0,D655>=V_ex2),B655-V_bi,0)","v":0},"",{"$error":"#N/A"},{"$error":"#N/A"},"",""]
[621,{"$f":"IF(A656<=n_select,'2) Check for series resistance'!F660,0)","v":0},{"$f":"IF(A656<=n_select,'2) Check for series resistance'!G660,\"\")","v":""},0,"",{"$f":"IF(AND(Validation!E$10,B656<>0,D656>=V_ex2),B656-V_bi,0)","v":0},"",{"$error":"#N/A"},{"$error":"#N/A"},"",""]
[622,{"$f":"IF(A657<=n_select,'2) Check for series resistance'!F661,0)","v":0},{"$f":"IF(A657<=n_select,'2) Check for series resistance'!G661,\"\")","v":""},0,"",{"$f":"IF(AND(Validation!E$10,B657<>0,D657>=V_ex2),B657-V_bi,0)","v":0},"",{"$error":"#N/A"},{"$error":"#N/A"},"",""]
[623,{"$f":"IF(A658<=n_select,'2) Check for series resistance'!F662,0)","v":0},{"$f":"IF(A658<=n_select,'2) Check for series resistance'!G662,\"\")","v":""},0,"",{"$f":"IF(AND(Validation!E$10,B658<>0,D658>=V_ex2),B658-V_bi,0)","v":0},"",{"$error":"#N/A"},{"$error":"#N/A"},"",""]
[624,{"$f":"IF(A659<=n_select,'2) Check for series resistance'!F663,0)","v":0},{"$f":"IF(A659<=n_select,'2) Check for series resistance'!G663,\"\")","v":""},0,"",{"$f":"IF(AND(Validation!E$10,B659<>0,D659>=V_ex2),B659-V_bi,0)","v":0},"",{"$error":"#N/A"},{"$error":"#N/A"},"",""]
[625,{"$f":"IF(A660<=n_select,'2) Check for series resistance'!F664,0)","v":0},{"$f":"IF(A660<=n_select,'2) Check for series resistance'!G664,\"\")","v":""},0,"",{"$f":"IF(AND(Validation!E$10,B660<>0,D660>=V_ex2),B660-V_bi,0)","v":0},"",{"$error":"#N/A"},{"$error":"#N/A"},"",""]
[626,{"$f":"IF(A661<=n_select,'2) Check for series resistance'!F665,0)","v":0},{"$f":"IF(A661<=n_select,'2) Check for series resistance'!G665,\"\")","v":""},0,"",{"$f":"IF(AND(Validation!E$10,B661<>0,D661>=V_ex2),B661-V_bi,0)","v":0},"",{"$error":"#N/A"},{"$error":"#N/A"},"",""]
[627,{"$f":"IF(A662<=n_select,'2) Check for series resistance'!F666,0)","v":0},{"$f":"IF(A662<=n_select,'2) Check for series resistance'!G666,\"\")","v":""},0,"",{"$f":"IF(AND(Validation!E$10,B662<>0,D662>=V_ex2),B662-V_bi,0)","v":0},"",{"$error":"#N/A"},{"$error":"#N/A"},"",""]
[628,{"$f":"IF(A663<=n_select,'2) Check for series resistance'!F667,0)","v":0},{"$f":"IF(A663<=n_select,'2) Check for series resistance'!G667,\"\")","v":""},0,"",{"$f":"IF(AND(Validation!E$10,B663<>0,D663>=V_ex2),B663-V_bi,0)","v":0},"",{"$error":"#N/A"},{"$error":"#N/A"},"",""]
[629,{"$f":"IF(A664<=n_select,'2) Check for series resistance'!F668,0)","v":0},{"$f":"IF(A664<=n_select,'2) Check for series resistance'!G668,\"\")","v":""},0,"",{"$f":"IF(AND(Validation!E$10,B664<>0,D664>=V_ex2),B664-V_bi,0)","v":0},"",{"$error":"#N/A"},{"$error":"#N/A"},"",""]
[630,{"$f":"IF(A665<=n_select,'2) Check for series resistance'!F669,0)","v":0},{"$f":"IF(A665<=n_select,'2) Check for series resistance'!G669,\"\")","v":""},0,"",{"$f":"IF(AND(Validation!E$10,B665<>0,D665>=V_ex2),B665-V_bi,0)","v":0},"",{"$error":"#N/A"},{"$error":"#N/A"},"",""]
[631,{"$f":"IF(A666<=n_select,'2) Check for series resistance'!F670,0)","v":0},{"$f":"IF(A666<=n_select,'2) Check for series resistance'!G670,\"\")","v":""},0,"",{"$f":"IF(AND(Validation!E$10,B666<>0,D666>=V_ex2),B666-V_bi,0)","v":0},"",{"$error":"#N/A"},{"$error":"#N/A"},"",""]
[632,{"$f":"IF(A667<=n_select,'2) Check for series resistance'!F671,0)","v":0},{"$f":"IF(A667<=n_select,'2) Check for series resistance'!G671,\"\")","v":""},0,"",{"$f":"IF(AND(Validation!E$10,B667<>0,D667>=V_ex2),B667-V_bi,0)","v":0},"",{"$error":"#N/A"},{"$error":"#N/A"},"",""]
[633,{"$f":"IF(A668<=n_select,'2) Check for series resistance'!F672,0)","v":0},{"$f":"IF(A668<=n_select,'2) Check for series resistance'!G672,\"\")","v":""},0,"",{"$f":"IF(AND(Validation!E$10,B668<>0,D668>=V_ex2),B668-V_bi,0)","v":0},"",{"$error":"#N/A"},{"$error":"#N/A"},"",""]
[634,{"$f":"IF(A669<=n_select,'2) Check for series resistance'!F673,0)","v":0},{"$f":"IF(A669<=n_select,'2) Check for series resistance'!G673,\"\")","v":""},0,"",{"$f":"IF(AND(Validation!E$10,B669<>0,D669>=V_ex2),B669-V_bi,0)","v":0},"",{"$error":"#N/A"},{"$error":"#N/A"},"",""]
[635,{"$f":"IF(A670<=n_select,'2) Check for series resistance'!F674,0)","v":0},{"$f":"IF(A670<=n_select,'2) Check for series resistance'!G674,\"\")","v":""},0,"",{"$f":"IF(AND(Validation!E$10,B670<>0,D670>=V_ex2),B670-V_bi,0)","v":0},"",{"$error":"#N/A"},{"$error":"#N/A"},"",""]
[636,{"$f":"IF(A671<=n_select,'2) Check for series resistance'!F675,0)","v":0},{"$f":"IF(A671<=n_select,'2) Check for series resistance'!G675,\"\")","v":""},0,"",{"$f":"IF(AND(Validation!E$10,B671<>0,D671>=V_ex2),B671-V_bi,0)","v":0},"",{"$error":"#N/A"},{"$error":"#N/A"},"",""]
[637,{"$f":"IF(A672<=n_select,'2) Check for series resistance'!F676,0)","v":0},{"$f":"IF(A672<=n_select,'2) Check for series resistance'!G676,\"\")","v":""},0,"",{"$f":"IF(AND(Validation!E$10,B672<>0,D672>=V_ex2),B672-V_bi,0)","v":0},"",{"$error":"#N/A"},{"$error":"#N/A"},"",""]
[638,{"$f":"IF(A673<=n_select,'2) Check for series resistance'!F677,0)","v":0},{"$f":"IF(A673<=n_select,'2) Check for series resistance'!G677,\"\")","v":""},0,"",{"$f":"IF(AND(Validation!E$10,B673<>0,D673>=V_ex2),B673-V_bi,0)","v":0},"",{"$error":"#N/A"},{"$error":"#N/A"},"",""]
[639,{"$f":"IF(A674<=n_select,'2) Check for series resistance'!F678,0)","v":0},{"$f":"IF(A674<=n_select,'2) Check for series resistance'!G678,\"\")","v":""},0,"",{"$f":"IF(AND(Validation!E$10,B674<>0,D674>=V_ex2),B674-V_bi,0)","v":0},"",{"$error":"#N/A"},{"$error":"#N/A"},"",""]
[640,{"$f":"IF(A675<=n_select,'2) Check for series resistance'!F679,0)","v":0},{"$f":"IF(A675<=n_select,'2) Check for series resistance'!G679,\"\")","v":""},0,"",{"$f":"IF(AND(Validation!E$10,B675<>0,D675>=V_ex2),B675-V_bi,0)","v":0},"",{"$error":"#N/A"},{"$error":"#N/A"},"",""]
[641,{"$f":"IF(A676<=n_select,'2) Check for series resistance'!F680,0)","v":0},{"$f":"IF(A676<=n_select,'2) Check for series resistance'!G680,\"\")","v":""},0,"",{"$f":"IF(AND(Validation!E$10,B676<>0,D676>=V_ex2),B676-V_bi,0)","v":0},"",{"$error":"#N/A"},{"$f":"MATCH(D676*direction,J$36:J$753,1)","v":{"$error":"#N/A"}},"",""]
[642,{"$f":"IF(A677<=n_select,'2) Check for series resistance'!F681,0)","v":0},{"$f":"IF(A677<=n_select,'2) Check for series resistance'!G681,\"\")","v":""},{"$f":"IF(B677<>0,B677-$C$6,0)","v":0},{"$f":"IF(D677<>0,C677,\"\")","v":""},{"$f":"IF(AND(Validation!E$10,B677<>0,D677>=V_ex2),B677-V_bi,0)","v":0},{"$f":"IF(F677<>0,E677,\"\")","v":""},{"$f":"INDEX(C$36:C$753,I677)+(INDEX(C$36:C$753,I677+1)-INDEX(C$36:C$753,I677))*(D677-INDEX(B$36:B$753,I677))/(INDEX(B$36:B$753,I677+1)-INDEX(B$36:B$753,I677))","v":{"$error":"#N/A"}},{"$error":"#N/A"},{"$f":"IF(B677<>0,direction*B677,\"\")","v":""},{"$f":"IF(AND(B677<>0,COUNT(H677)>0),IF(AND(D677<>0,OR(H677/E677>10,E677/H677>10)),D677,\"\"),\"\")","v":""}]
[643,{"$f":"IF(A678<=n_select,'2) Check for series resistance'!F682,0)","v":0},{"$f":"IF(A678<=n_select,'2) Check for series resistance'!G682,\"\")","v":""},0,"",{"$f":"IF(AND(Validation!E$10,B678<>0,D678>=V_ex2),B678-V_bi,0)","v":0},"",{"$error":"#N/A"},{"$error":"#N/A"},"",""]
[644,{"$f":"IF(A679<=n_select,'2) Check for series resistance'!F683,0)","v":0},{"$f":"IF(A679<=n_select,'2) Check for series resistance'!G683,\"\")","v":""},0,"",{"$f":"IF(AND(Validation!E$10,B679<>0,D679>=V_ex2),B679-V_bi,0)","v":0},"",{"$error":"#N/A"},{"$error":"#N/A"},"",""]
[645,{"$f":"IF(A680<=n_select,'2) Check for series resistance'!F684,0)","v":0},{"$f":"IF(A680<=n_select,'2) Check for series resistance'!G684,\"\")","v":""},0,"",{"$f":"IF(AND(Validation!E$10,B680<>0,D680>=V_ex2),B680-V_bi,0)","v":0},"",{"$error":"#N/A"},{"$error":"#N/A"},"",""]
[646,{"$f":"IF(A681<=n_select,'2) Check for series resistance'!F685,0)","v":0},{"$f":"IF(A681<=n_select,'2) Check for series resistance'!G685,\"\")","v":""},0,"",{"$f":"IF(AND(Validation!E$10,B681<>0,D681>=V_ex2),B681-V_bi,0)","v":0},"",{"$error":"#N/A"},{"$error":"#N/A"},"",""]
[647,{"$f":"IF(A682<=n_select,'2) Check for series resistance'!F686,0)","v":0},{"$f":"IF(A682<=n_select,'2) Check for series resistance'!G686,\"\")","v":""},0,"",{"$f":"IF(AND(Validation!E$10,B682<>0,D682>=V_ex2),B682-V_bi,0)","v":0},"",{"$error":"#N/A"},{"$error":"#N/A"},"",""]
[648,{"$f":"IF(A683<=n_select,'2) Check for series resistance'!F687,0)","v":0},{"$f":"IF(A683<=n_select,'2) Check for series resistance'!G687,\"\")","v":""},0,"",{"$f":"IF(AND(Validation!E$10,B683<>0,D683>=V_ex2),B683-V_bi,0)","v":0},"",{"$error":"#N/A"},{"$error":"#N/A"},"",""]
[649,{"$f":"IF(A684<=n_select,'2) Check for series resistance'!F688,0)","v":0},{"$f":"IF(A684<=n_select,'2) Check for series resistance'!G688,\"\")","v":""},0,"",{"$f":"IF(AND(Validation!E$10,B684<>0,D684>=V_ex2),B684-V_bi,0)","v":0},"",{"$error":"#N/A"},{"$error":"#N/A"},"",""]
[650,{"$f":"IF(A685<=n_select,'2) Check for series resistance'!F689,0)","v":0},{"$f":"IF(A685<=n_select,'2) Check for series resistance'!G689,\"\")","v":""},0,"",{"$f":"IF(AND(Validation!E$10,B685<>0,D685>=V_ex2),B685-V_bi,0)","v":0},"",{"$error":"#N/A"},{"$error":"#N/A"},"",""]
[651,{"$f":"IF(A686<=n_select,'2) Check for series resistance'!F690,0)","v":0},{"$f":"IF(A686<=n_select,'2) Check for series resistance'!G690,\"\")","v":""},0,"",{"$f":"IF(AND(Validation!E$10,B686<>0,D686>=V_ex2),B686-V_bi,0)","v":0},"",{"$error":"#N/A"},{"$error":"#N/A"},"",""]
[652,{"$f":"IF(A687<=n_select,'2) Check for series resistance'!F691,0)","v":0},{"$f":"IF(A687<=n_select,'2) Check for series resistance'!G691,\"\")","v":""},0,"",{"$f":"IF(AND(Validation!E$10,B687<>0,D687>=V_ex2),B687-V_bi,0)","v":0},"",{"$error":"#N/A"},{"$error":"#N/A"},"",""]
[653,{"$f":"IF(A688<=n_select,'2) Check for series resistance'!F692,0)","v":0},{"$f":"IF(A688<=n_select,'2) Check for series resistance'!G692,\"\")","v":""},0,"",{"$f":"IF(AND(Validation!E$10,B688<>0,D688>=V_ex2),B688-V_bi,0)","v":0},"",{"$error":"#N/A"},{"$error":"#N/A"},"",""]
[654,{"$f":"IF(A689<=n_select,'2) Check for series resistance'!F693,0)","v":0},{"$f":"IF(A689<=n_select,'2) Check for series resistance'!G693,\"\")","v":""},0,"",{"$f":"IF(AND(Validation!E$10,B689<>0,D689>=V_ex2),B689-V_bi,0)","v":0},"",{"$error":"#N/A"},{"$error":"#N/A"},"",""]
[655,{"$f":"IF(A690<=n_select,'2) Check for series resistance'!F694,0)","v":0},{"$f":"IF(A690<=n_select,'2) Check for series resistance'!G694,\"\")","v":""},0,"",{"$f":"IF(AND(Validation!E$10,B690<>0,D690>=V_ex2),B690-V_bi,0)","v":0},"",{"$error":"#N/A"},{"$error":"#N/A"},"",""]
[656,{"$f":"IF(A691<=n_select,'2) Check for series resistance'!F695,0)","v":0},{"$f":"IF(A691<=n_select,'2) Check for series resistance'!G695,\"\")","v":""},0,"",{"$f":"IF(AND(Validation!E$10,B691<>0,D691>=V_ex2),B691-V_bi,0)","v":0},"",{"$error":"#N/A"},{"$error":"#N/A"},"",""]
[657,{"$f":"IF(A692<=n_select,'2) Check for series resistance'!F696,0)","v":0},{"$f":"IF(A692<=n_select,'2) Check for series resistance'!G696,\"\")","v":""},0,"",{"$f":"IF(AND(Validation!E$10,B692<>0,D692>=V_ex2),B692-V_bi,0)","v":0},"",{"$error":"#N/A"},{"$error":"#N/A"},"",""]
[658,{"$f":"IF(A693<=n_select,'2) Check for series resistance'!F697,0)","v":0},{"$f":"IF(A693<=n_select,'2) Check for series resistance'!G697,\"\")","v":""},0,"",{"$f":"IF(AND(Validation!E$10,B693<>0,D693>=V_ex2),B693-V_bi,0)","v":0},"",{"$error":"#N/A"},{"$error":"#N/A"},"",""]
[659,{"$f":"IF(A694<=n_select,'2) Check for series resistance'!F698,0)","v":0},{"$f":"IF(A694<=n_select,'2) Check for series resistance'!G698,\"\")","v":""},0,"",{"$f":"IF(AND(Validation!E$10,B694<>0,D694>=V_ex2),B694-V_bi,0)","v":0},"",{"$error":"#N/A"},{"$error":"#N/A"},"",""]
[660,{"$f":"IF(A695<=n_select,'2) Check for series resistance'!F699,0)","v":0},{"$f":"IF(A695<=n_select,'2) Check for series resistance'!G699,\"\")","v":""},0,"",{"$f":"IF(AND(Validation!E$10,B695<>0,D695>=V_ex2),B695-V_bi,0)","v":0},"",{"$error":"#N/A"},{"$error":"#N/A"},"",""]
[661,{"$f":"IF(A696<=n_select,'2) Check for series resistance'!F700,0)","v":0},{"$f":"IF(A696<=n_select,'2) Check for series resistance'!G700,\"\")","v":""},0,"",{"$f":"IF(AND(Validation!E$10,B696<>0,D696>=V_ex2),B696-V_bi,0)","v":0},"",{"$error":"#N/A"},{"$error":"#N/A"},"",""]
[662,{"$f":"IF(A697<=n_select,'2) Check for series resistance'!F701,0)","v":0},{"$f":"IF(A697<=n_select,'2) Check for series resistance'!G701,\"\")","v":""},0,"",{"$f":"IF(AND(Validation!E$10,B697<>0,D697>=V_ex2),B697-V_bi,0)","v":0},"",{"$error":"#N/A"},{"$error":"#N/A"},"",""]
[663,{"$f":"IF(A698<=n_select,'2) Check for series resistance'!F702,0)","v":0},{"$f":"IF(A698<=n_select,'2) Check for series resistance'!G702,\"\")","v":""},0,"",{"$f":"IF(AND(Validation!E$10,B698<>0,D698>=V_ex2),B698-V_bi,0)","v":0},"",{"$error":"#N/A"},{"$error":"#N/A"},"",""]
[664,{"$f":"IF(A699<=n_select,'2) Check for series resistance'!F703,0)","v":0},{"$f":"IF(A699<=n_select,'2) Check for series resistance'!G703,\"\")","v":""},0,"",{"$f":"IF(AND(Validation!E$10,B699<>0,D699>=V_ex2),B699-V_bi,0)","v":0},"",{"$error":"#N/A"},{"$error":"#N/A"},"",""]
[665,{"$f":"IF(A700<=n_select,'2) Check for series resistance'!F704,0)","v":0},{"$f":"IF(A700<=n_select,'2) Check for series resistance'!G704,\"\")","v":""},0,"",{"$f":"IF(AND(Validation!E$10,B700<>0,D700>=V_ex2),B700-V_bi,0)","v":0},"",{"$error":"#N/A"},{"$error":"#N/A"},"",""]
[666,{"$f":"IF(A701<=n_select,'2) Check for series resistance'!F705,0)","v":0},{"$f":"IF(A701<=n_select,'2) Check for series resistance'!G705,\"\")","v":""},0,"",{"$f":"IF(AND(Validation!E$10,B701<>0,D701>=V_ex2),B701-V_bi,0)","v":0},"",{"$error":"#N/A"},{"$error":"#N/A"},"",""]
[667,{"$f":"IF(A702<=n_select,'2) Check for series resistance'!F706,0)","v":0},{"$f":"IF(A702<=n_select,'2) Check for series resistance'!G706,\"\")","v":""},0,"",{"$f":"IF(AND(Validation!E$10,B702<>0,D702>=V_ex2),B702-V_bi,0)","v":0},"",{"$error":"#N/A"},{"$error":"#N/A"},"",""]
[668,{"$f":"IF(A703<=n_select,'2) Check for series resistance'!F707,0)","v":0},{"$f":"IF(A703<=n_select,'2) Check for series resistance'!G707,\"\")","v":""},0,"",{"$f":"IF(AND(Validation!E$10,B703<>0,D703>=V_ex2),B703-V_bi,0)","v":0},"",{"$error":"#N/A"},{"$error":"#N/A"},"",""]
[669,{"$f":"IF(A704<=n_select,'2) Check for series resistance'!F708,0)","v":0},{"$f":"IF(A704<=n_select,'2) Check for series resistance'!G708,\"\")","v":""},0,"",{"$f":"IF(AND(Validation!E$10,B704<>0,D704>=V_ex2),B704-V_bi,0)","v":0},"",{"$error":"#N/A"},{"$error":"#N/A"},"",""]
[670,{"$f":"IF(A705<=n_select,'2) Check for series resistance'!F709,0)","v":0},{"$f":"IF(A705<=n_select,'2) Check for series resistance'!G709,\"\")","v":""},0,"",{"$f":"IF(AND(Validation!E$10,B705<>0,D705>=V_ex2),B705-V_bi,0)","v":0},"",{"$error":"#N/A"},{"$error":"#N/A"},"",""]
[671,{"$f":"IF(A706<=n_select,'2) Check for series resistance'!F710,0)","v":0},{"$f":"IF(A706<=n_select,'2) Check for series resistance'!G710,\"\")","v":""},0,"",{"$f":"IF(AND(Validation!E$10,B706<>0,D706>=V_ex2),B706-V_bi,0)","v":0},"",{"$error":"#N/A"},{"$error":"#N/A"},"",""]
[672,{"$f":"IF(A707<=n_select,'2) Check for series resistance'!F711,0)","v":0},{"$f":"IF(A707<=n_select,'2) Check for series resistance'!G711,\"\")","v":""},0,"",{"$f":"IF(AND(Validation!E$10,B707<>0,D707>=V_ex2),B707-V_bi,0)","v":0},"",{"$error":"#N/A"},{"$error":"#N/A"},"",""]
[673,{"$f":"IF(A708<=n_select,'2) Check for series resistance'!F712,0)","v":0},{"$f":"IF(A708<=n_select,'2) Check for series resistance'!G712,\"\")","v":""},0,"",{"$f":"IF(AND(Validation!E$10,B708<>0,D708>=V_ex2),B708-V_bi,0)","v":0},"",{"$error":"#N/A"},{"$error":"#N/A"},"",""]
[674,{"$f":"IF(A709<=n_select,'2) Check for series resistance'!F713,0)","v":0},{"$f":"IF(A709<=n_select,'2) Check for series resistance'!G713,\"\")","v":""},0,"",{"$f":"IF(AND(Validation!E$10,B709<>0,D709>=V_ex2),B709-V_bi,0)","v":0},"",{"$error":"#N/A"},{"$error":"#N/A"},"",""]
[675,{"$f":"IF(A710<=n_select,'2) Check for series resistance'!F714,0)","v":0},{"$f":"IF(A710<=n_select,'2) Check for series resistance'!G714,\"\")","v":""},0,"",{"$f":"IF(AND(Validation!E$10,B710<>0,D710>=V_ex2),B710-V_bi,0)","v":0},"",{"$error":"#N/A"},{"$error":"#N/A"},"",""]
[676,{"$f":"IF(A711<=n_select,'2) Check for series resistance'!F715,0)","v":0},{"$f":"IF(A711<=n_select,'2) Check for series resistance'!G715,\"\")","v":""},0,"",{"$f":"IF(AND(Validation!E$10,B711<>0,D711>=V_ex2),B711-V_bi,0)","v":0},"",{"$error":"#N/A"},{"$error":"#N/A"},"",""]
[677,{"$f":"IF(A712<=n_select,'2) Check for series resistance'!F716,0)","v":0},{"$f":"IF(A712<=n_select,'2) Check for series resistance'!G716,\"\")","v":""},0,"",{"$f":"IF(AND(Validation!E$10,B712<>0,D712>=V_ex2),B712-V_bi,0)","v":0},"",{"$error":"#N/A"},{"$error":"#N/A"},"",""]
[678,{"$f":"IF(A713<=n_select,'2) Check for series resistance'!F717,0)","v":0},{"$f":"IF(A713<=n_select,'2) Check for series resistance'!G717,\"\")","v":""},0,"",{"$f":"IF(AND(Validation!E$10,B713<>0,D713>=V_ex2),B713-V_bi,0)","v":0},"",{"$error":"#N/A"},{"$error":"#N/A"},"",""]
[679,{"$f":"IF(A714<=n_select,'2) Check for series resistance'!F718,0)","v":0},{"$f":"IF(A714<=n_select,'2) Check for series resistance'!G718,\"\")","v":""},0,"",{"$f":"IF(AND(Validation!E$10,B714<>0,D714>=V_ex2),B714-V_bi,0)","v":0},"",{"$error":"#N/A"},{"$error":"#N/A"},"",""]
[680,{"$f":"IF(A715<=n_select,'2) Check for series resistance'!F719,0)","v":0},{"$f":"IF(A715<=n_select,'2) Check for series resistance'!G719,\"\")","v":""},0,"",{"$f":"IF(AND(Validation!E$10,B715<>0,D715>=V_ex2),B715-V_bi,0)","v":0},"",{"$error":"#N/A"},{"$error":"#N/A"},"",""]
[681,{"$f":"IF(A716<=n_select,'2) Check for series resistance'!F720,0)","v":0},{"$f":"IF(A716<=n_select,'2) Check for series resistance'!G720,\"\")","v":""},0,"",{"$f":"IF(AND(Validation!E$10,B716<>0,D716>=V_ex2),B716-V_bi,0)","v":0},"",{"$error":"#N/A"},{"$error":"#N/A"},"",""]
[682,{"$f":"IF(A717<=n_select,'2) Check for series resistance'!F721,0)","v":0},{"$f":"IF(A717<=n_select,'2) Check for series resistance'!G721,\"\")","v":""},0,"",{"$f":"IF(AND(Validation!E$10,B717<>0,D717>=V_ex2),B717-V_bi,0)","v":0},"",{"$error":"#N/A"},{"$error":"#N/A"},"",""]
[683,{"$f":"IF(A718<=n_select,'2) Check for series resistance'!F722,0)","v":0},{"$f":"IF(A718<=n_select,'2) Check for series resistance'!G722,\"\")","v":""},0,"",{"$f":"IF(AND(Validation!E$10,B718<>0,D718>=V_ex2),B718-V_bi,0)","v":0},"",{"$error":"#N/A"},{"$error":"#N/A"},"",""]
[684,{"$f":"IF(A719<=n_select,'2) Check for series resistance'!F723,0)","v":0},{"$f":"IF(A719<=n_select,'2) Check for series resistance'!G723,\"\")","v":""},0,"",{"$f":"IF(AND(Validation!E$10,B719<>0,D719>=V_ex2),B719-V_bi,0)","v":0},"",{"$error":"#N/A"},{"$error":"#N/A"},"",""]
[685,{"$f":"IF(A720<=n_select,'2) Check for series resistance'!F724,0)","v":0},{"$f":"IF(A720<=n_select,'2) Check for series resistance'!G724,\"\")","v":""},0,"",{"$f":"IF(AND(Validation!E$10,B720<>0,D720>=V_ex2),B720-V_bi,0)","v":0},"",{"$error":"#N/A"},{"$error":"#N/A"},"",""]
[686,{"$f":"IF(A721<=n_select,'2) Check for series resistance'!F725,0)","v":0},{"$f":"IF(A721<=n_select,'2) Check for series resistance'!G725,\"\")","v":""},0,"",{"$f":"IF(AND(Validation!E$10,B721<>0,D721>=V_ex2),B721-V_bi,0)","v":0},"",{"$error":"#N/A"},{"$error":"#N/A"},"",""]
[687,{"$f":"IF(A722<=n_select,'2) Check for series resistance'!F726,0)","v":0},{"$f":"IF(A722<=n_select,'2) Check for series resistance'!G726,\"\")","v":""},0,"",{"$f":"IF(AND(Validation!E$10,B722<>0,D722>=V_ex2),B722-V_bi,0)","v":0},"",{"$error":"#N/A"},{"$error":"#N/A"},"",""]
[688,{"$f":"IF(A723<=n_select,'2) Check for series resistance'!F727,0)","v":0},{"$f":"IF(A723<=n_select,'2) Check for series resistance'!G727,\"\")","v":""},0,"",{"$f":"IF(AND(Validation!E$10,B723<>0,D723>=V_ex2),B723-V_bi,0)","v":0},"",{"$error":"#N/A"},{"$error":"#N/A"},"",""]
[689,{"$f":"IF(A724<=n_select,'2) Check for series resistance'!F728,0)","v":0},{"$f":"IF(A724<=n_select,'2) Check for series resistance'!G728,\"\")","v":""},0,"",{"$f":"IF(AND(Validation!E$10,B724<>0,D724>=V_ex2),B724-V_bi,0)","v":0},"",{"$error":"#N/A"},{"$error":"#N/A"},"",""]
[690,{"$f":"IF(A725<=n_select,'2) Check for series resistance'!F729,0)","v":0},{"$f":"IF(A725<=n_select,'2) Check for series resistance'!G729,\"\")","v":""},0,"",{"$f":"IF(AND(Validation!E$10,B725<>0,D725>=V_ex2),B725-V_bi,0)","v":0},"",{"$error":"#N/A"},{"$error":"#N/A"},"",""]
[691,{"$f":"IF(A726<=n_select,'2) Check for series resistance'!F730,0)","v":0},{"$f":"IF(A726<=n_select,'2) Check for series resistance'!G730,\"\")","v":""},0,"",{"$f":"IF(AND(Validation!E$10,B726<>0,D726>=V_ex2),B726-V_bi,0)","v":0},"",{"$error":"#N/A"},{"$error":"#N/A"},"",""]
[692,{"$f":"IF(A727<=n_select,'2) Check for series resistance'!F731,0)","v":0},{"$f":"IF(A727<=n_select,'2) Check for series resistance'!G731,\"\")","v":""},0,"",{"$f":"IF(AND(Validation!E$10,B727<>0,D727>=V_ex2),B727-V_bi,0)","v":0},"",{"$error":"#N/A"},{"$error":"#N/A"},"",""]
[693,{"$f":"IF(A728<=n_select,'2) Check for series resistance'!F732,0)","v":0},{"$f":"IF(A728<=n_select,'2) Check for series resistance'!G732,\"\")","v":""},0,"",{"$f":"IF(AND(Validation!E$10,B728<>0,D728>=V_ex2),B728-V_bi,0)","v":0},"",{"$error":"#N/A"},{"$error":"#N/A"},"",""]
[694,{"$f":"IF(A729<=n_select,'2) Check for series resistance'!F733,0)","v":0},{"$f":"IF(A729<=n_select,'2) Check for series resistance'!G733,\"\")","v":""},0,"",{"$f":"IF(AND(Validation!E$10,B729<>0,D729>=V_ex2),B729-V_bi,0)","v":0},"",{"$error":"#N/A"},{"$error":"#N/A"},"",""]
[695,{"$f":"IF(A730<=n_select,'2) Check for series resistance'!F734,0)","v":0},{"$f":"IF(A730<=n_select,'2) Check for series resistance'!G734,\"\")","v":""},0,"",{"$f":"IF(AND(Validation!E$10,B730<>0,D730>=V_ex2),B730-V_bi,0)","v":0},"",{"$error":"#N/A"},{"$error":"#N/A"},"",""]
[696,{"$f":"IF(A731<=n_select,'2) Check for series resistance'!F735,0)","v":0},{"$f":"IF(A731<=n_select,'2) Check for series resistance'!G735,\"\")","v":""},0,"",{"$f":"IF(AND(Validation!E$10,B731<>0,D731>=V_ex2),B731-V_bi,0)","v":0},"",{"$error":"#N/A"},{"$error":"#N/A"},"",""]
[697,{"$f":"IF(A732<=n_select,'2) Check for series resistance'!F736,0)","v":0},{"$f":"IF(A732<=n_select,'2) Check for series resistance'!G736,\"\")","v":""},0,"",{"$f":"IF(AND(Validation!E$10,B732<>0,D732>=V_ex2),B732-V_bi,0)","v":0},"",{"$error":"#N/A"},{"$error":"#N/A"},"",""]
[698,{"$f":"IF(A733<=n_select,'2) Check for series resistance'!F737,0)","v":0},{"$f":"IF(A733<=n_select,'2) Check for series resistance'!G737,\"\")","v":""},0,"",{"$f":"IF(AND(Validation!E$10,B733<>0,D733>=V_ex2),B733-V_bi,0)","v":0},"",{"$error":"#N/A"},{"$error":"#N/A"},"",""]
[699,{"$f":"IF(A734<=n_select,'2) Check for series resistance'!F738,0)","v":0},{"$f":"IF(A734<=n_select,'2) Check for series resistance'!G738,\"\")","v":""},0,"",{"$f":"IF(AND(Validation!E$10,B734<>0,D734>=V_ex2),B734-V_bi,0)","v":0},"",{"$error":"#N/A"},{"$error":"#N/A"},"",""]
[700,{"$f":"IF(A735<=n_select,'2) Check for series resistance'!F739,0)","v":0},{"$f":"IF(A735<=n_select,'2) Check for series resistance'!G739,\"\")","v":""},0,"",{"$f":"IF(AND(Validation!E$10,B735<>0,D735>=V_ex2),B735-V_bi,0)","v":0},"",{"$error":"#N/A"},{"$error":"#N/A"},"",""]
[701,{"$f":"IF(A736<=n_select,'2) Check for series resistance'!F740,0)","v":0},{"$f":"IF(A736<=n_select,'2) Check for series resistance'!G740,\"\")","v":""},0,"",{"$f":"IF(AND(Validation!E$10,B736<>0,D736>=V_ex2),B736-V_bi,0)","v":0},"",{"$error":"#N/A"},{"$error":"#N/A"},"",""]
[702,{"$f":"IF(A737<=n_select,'2) Check for series resistance'!F741,0)","v":0},{"$f":"IF(A737<=n_select,'2) Check for series resistance'!G741,\"\")","v":""},0,"",{"$f":"IF(AND(Validation!E$10,B737<>0,D737>=V_ex2),B737-V_bi,0)","v":0},"",{"$error":"#N/A"},{"$error":"#N/A"},"",""]
[703,{"$f":"IF(A738<=n_select,'2) Check for series resistance'!F742,0)","v":0},{"$f":"IF(A738<=n_select,'2) Check for series resistance'!G742,\"\")","v":""},0,"",{"$f":"IF(AND(Validation!E$10,B738<>0,D738>=V_ex2),B738-V_bi,0)","v":0},"",{"$error":"#N/A"},{"$error":"#N/A"},"",""]
[704,{"$f":"IF(A739<=n_select,'2) Check for series resistance'!F743,0)","v":0},{"$f":"IF(A739<=n_select,'2) Check for series resistance'!G743,\"\")","v":""},0,"",{"$f":"IF(AND(Validation!E$10,B739<>0,D739>=V_ex2),B739-V_bi,0)","v":0},"",{"$error":"#N/A"},{"$error":"#N/A"},"",""]
[705,{"$f":"IF(A740<=n_select,'2) Check for series resistance'!F744,0)","v":0},{"$f":"IF(A740<=n_select,'2) Check for series resistance'!G744,\"\")","v":""},0,"",{"$f":"IF(AND(Validation!E$10,B740<>0,D740>=V_ex2),B740-V_bi,0)","v":0},"",{"$error":"#N/A"},{"$f":"MATCH(D740*direction,J$36:J$753,1)","v":{"$error":"#N/A"}},"",""]
[706,{"$f":"IF(A741<=n_select,'2) Check for series resistance'!F745,0)","v":0},{"$f":"IF(A741<=n_select,'2) Check for series resistance'!G745,\"\")","v":""},{"$f":"IF(B741<>0,B741-$C$6,0)","v":0},{"$f":"IF(D741<>0,C741,\"\")","v":""},{"$f":"IF(AND(Validation!E$10,B741<>0,D741>=V_ex2),B741-V_bi,0)","v":0},{"$f":"IF(F741<>0,E741,\"\")","v":""},{"$f":"INDEX(C$36:C$753,I741)+(INDEX(C$36:C$753,I741+1)-INDEX(C$36:C$753,I741))*(D741-INDEX(B$36:B$753,I741))/(INDEX(B$36:B$753,I741+1)-INDEX(B$36:B$753,I741))","v":{"$error":"#N/A"}},{"$error":"#N/A"},{"$f":"IF(B741<>0,direction*B741,\"\")","v":""},{"$f":"IF(AND(B741<>0,COUNT(H741)>0),IF(AND(D741<>0,OR(H741/E741>10,E741/H741>10)),D741,\"\"),\"\")","v":""}]
[707,{"$f":"IF(A742<=n_select,'2) Check for series resistance'!F746,0)","v":0},{"$f":"IF(A742<=n_select,'2) Check for series resistance'!G746,\"\")","v":""},0,"",{"$f":"IF(AND(Validation!E$10,B742<>0,D742>=V_ex2),B742-V_bi,0)","v":0},"",{"$error":"#N/A"},{"$error":"#N/A"},"",""]
[708,{"$f":"IF(A743<=n_select,'2) Check for series resistance'!F747,0)","v":0},{"$f":"IF(A743<=n_select,'2) Check for series resistance'!G747,\"\")","v":""},0,"",{"$f":"IF(AND(Validation!E$10,B743<>0,D743>=V_ex2),B743-V_bi,0)","v":0},"",{"$error":"#N/A"},{"$error":"#N/A"},"",""]
[709,{"$f":"IF(A744<=n_select,'2) Check for series resistance'!F748,0)","v":0},{"$f":"IF(A744<=n_select,'2) Check for series resistance'!G748,\"\")","v":""},0,"",{"$f":"IF(AND(Validation!E$10,B744<>0,D744>=V_ex2),B744-V_bi,0)","v":0},"",{"$error":"#N/A"},{"$error":"#N/A"},"",""]
[710,{"$f":"IF(A745<=n_select,'2) Check for series resistance'!F749,0)","v":0},{"$f":"IF(A745<=n_select,'2) Check for series resistance'!G749,\"\")","v":""},0,"",{"$f":"IF(AND(Validation!E$10,B745<>0,D745>=V_ex2),B745-V_bi,0)","v":0},"",{"$error":"#N/A"},{"$error":"#N/A"},"",""]
[711,{"$f":"IF(A746<=n_select,'2) Check for series resistance'!F750,0)","v":0},{"$f":"IF(A746<=n_select,'2) Check for series resistance'!G750,\"\")","v":""},0,"",{"$f":"IF(AND(Validation!E$10,B746<>0,D746>=V_ex2),B746-V_bi,0)","v":0},"",{"$error":"#N/A"},{"$error":"#N/A"},"",""]
[712,{"$f":"IF(A747<=n_select,'2) Check for series resistance'!F751,0)","v":0},{"$f":"IF(A747<=n_select,'2) Check for series resistance'!G751,\"\")","v":""},0,"",{"$f":"IF(AND(Validation!E$10,B747<>0,D747>=V_ex2),B747-V_bi,0)","v":0},"",{"$error":"#N/A"},{"$error":"#N/A"},"",""]
[713,{"$f":"IF(A748<=n_select,'2) Check for series resistance'!F752,0)","v":0},{"$f":"IF(A748<=n_select,'2) Check for series resistance'!G752,\"\")","v":""},0,"",{"$f":"IF(AND(Validation!E$10,B748<>0,D748>=V_ex2),B748-V_bi,0)","v":0},"",{"$error":"#N/A"},{"$error":"#N/A"},"",""]
[714,{"$f":"IF(A749<=n_select,'2) Check for series resistance'!F753,0)","v":0},{"$f":"IF(A749<=n_select,'2) Check for series resistance'!G753,\"\")","v":""},0,"",{"$f":"IF(AND(Validation!E$10,B749<>0,D749>=V_ex2),B749-V_bi,0)","v":0},"",{"$error":"#N/A"},{"$error":"#N/A"},"",""]
[715,{"$f":"IF(A750<=n_select,'2) Check for series resistance'!F754,0)","v":0},{"$f":"IF(A750<=n_select,'2) Check for series resistance'!G754,\"\")","v":""},0,"",{"$f":"IF(AND(Validation!E$10,B750<>0,D750>=V_ex2),B750-V_bi,0)","v":0},"",{"$error":"#N/A"},{"$error":"#N/A"},"",""]
[716,{"$f":"IF(A751<=n_select,'2) Check for series resistance'!F755,0)","v":0},{"$f":"IF(A751<=n_select,'2) Check for series resistance'!G755,\"\")","v":""},0,"",{"$f":"IF(AND(Validation!E$10,B751<>0,D751>=V_ex2),B751-V_bi,0)","v":0},"",{"$error":"#N/A"},{"$error":"#N/A"},"",""]
[717,{"$f":"IF(A752<=n_select,'2) Check for series resistance'!F756,0)","v":0},{"$f":"IF(A752<=n_select,'2) Check for series resistance'!G756,\"\")","v":""},0,"",{"$f":"IF(AND(Validation!E$10,B752<>0,D752>=V_ex2),B752-V_bi,0)","v":0},"",{"$error":"#N/A"},{"$error":"#N/A"},"",""]
[718,{"$f":"IF(A753<=n_select,'2) Check for series resistance'!F757,0)","v":0},{"$f":"IF(A753<=n_select,'2) Check for series resistance'!G757,\"\")","v":""},0,"",{"$f":"IF(AND(Validation!E$10,B753<>0,D753>=V_ex2),B753-V_bi,0)","v":0},"",{"$error":"#N/A"},{"$error":"#N/A"},"",""]

{"sheet":"4) Select data for fitting","index":5,"n_rows":756,"n_cols":21,"rows_kept":756,"cut":false,"hidden":false,"merged":[[2,1,2,10],[3,1,3,10],[36,1,36,2],[36,3,36,4],[26,1,26,3],[27,1,27,3],[36,7,36,8],[29,1,29,3],[31,1,31,3],[13,1,13,10],[22,2,24,4],[36,5,36,6],[21,1,21,10],[32,1,32,3],[33,1,33,3],[34,1,34,3],[36,19,36,20],[36,13,36,14]]}
[null,"4) Select data for fitting"]
[]
[null,"• Adjust the limits below to select a range of data that appears reasonably straight in figure 4.1"]
[null,"• Theoretically the SCLC conditions are better satisfied at higher voltages. Where there are several distinct regions in the current-voltage curve that the fitting algorithm cannot fit to them all, narrow down the fitting  range to the upper part."]
[]
[]
[null,"Range for fitting:"]
[null,{"$f":"V_ex2","v":0},"<=","V","<=",{"$f":"V_ex1","v":1000000},"V"]
[]
[]
[]
[null,"5) Perform least-squaress fitting"]
[]
[null,"• Enter the fixed parameters below and click on the fit button"]
[]
[null,null,null,"Film thickness, d",null,"nm"]
[null,null,null,"Device area, A",null,"cm2"]
[null,null,null,"Relative dielectric constant, εr",3.5,"(default = 3.5)"]
[]
[]
[]
[null,"• The protocol is finished when fitting is complete. Return to the report page."]
[null,null,"Record notes /  comments here"]
[]
[]
[]
[null,"Minimum fitting voltage",null,null,{"$f":"IF(Vloewr>V_ex2,Vloewr,V_ex2)","v":0},"V"]
[null,"Maximum fitting voltage",null,null,{"$f":"IF(Vupper<V_ex1,Vupper,V_ex1)","v":1000000},"V"]
[null,null,null,"Number of points for fitting",226]
[null,"Fit μ0",null,null,{"$f":"POWER(10,E31)","v":1.6461462206448568E-5},"cm2/Vs"]
[null,null,"Log10(mu0)",null,-4.7835315907526876]
[null,"Fit γ",null,null,2.9197742776603821E-3,"cm1/2/V1/2"]
[null,"d",null,null,{"$f":"E16*0.0000001","v":0},"cm"]
[null,"A",null,null,{"$f":"area","v":0},"cm2"]
[null,"Permittivity",null,null,{"$f":"E18*0.0000000000000854","v":2.9889999999999997E-13},"F/cm"]
[]
[null,"Compensated data",null,"Selected range",null,"Complete compensated data",null,"Logged data",null,null,null,null,null,"Fit",null,null,null,null,null,"Complete fit"]
[null,"Voltage (V)","Current (A)","Voltage (V)","Current (A)","Voltage (V)","Current (A)","Log [Voltage (V) ]","Log [Current (A)]","Model","Residual","R^2","good fit voltage?","Voltage (V)","Current (A)",null,null,null,null,"Voltage (V)","Current (A)"]
[1,{"$f":"'3) Built-in voltage compensatio'!F36","v":0},{"$f":"'3) Built-in voltage compensatio'!G36","v":""},{"$f":"B39","v":0},{"$f":"IF(D39>=Vloewr,IF(D39<=Vupper,C39,\"\"),\"\")","v":""},{"$f":"'2) Check for series resistance'!D40-V_bi","v":0},{"$f":"'2) Check for series resistance'!C40","v":""},{"$f":"IF(D39>0,LOG10(D39),\"\")","v":""},{"$f":"IF(E39<>\"\",IF(E39>0,LOG10(E39),\"\"),\"\")","v":""},{"$f":"IF(AND(H39<>\"\",B39>0),LOG10(A*mu0*(9/8)*eps/(d_cm*d_cm*d_cm))+2*H39+0.387*POWER(10,H39/2)*gamma/SQRT(d_cm),\"\")","v":""},{"$f":"IF(AND(I39<>\"\",J39<>\"\"),I39-J39,\"\")","v":""},{"$f":"IF(K39<>\"\",K39*K39,\"\")","v":""},{"$f":"IF(AND(U39<>\"\",G39<>\"\"),IF(OR(G39/U39>1.258,G39/U39<0.794),\"\",F39),\"\")","v":""},{"$f":"B39","v":0},{"$f":"IF(N39>0,A*(9/8)*mu0*eps*(B39*B39)/(d_cm*d_cm*d_cm)*EXP(0.891*gamma*SQRT(B39/d_cm)),\"\")","v":""},null,"chi^2",{"$f":"SUM(L39:L756)/(COUNT(L39:L756)-3)","v":0},null,{"$f":"F39","v":0},{"$f":"IF(T39>0,A*(9/8)*mu0*eps*(F39*F39)/(d_cm*d_cm*d_cm)*EXP(0.891*gamma*SQRT(F39/d_cm)),\"\")","v":""}]
[2,{"$f":"'3) Built-in voltage compensatio'!F37","v":0},{"$f":"'3) Built-in voltage compensatio'!G37","v":""},{"$f":"B40","v":0},"",{"$f":"'2) Check for series resistance'!D41-V_bi","v":0},{"$f":"'2) Check for series resistance'!C41","v":""},{"$f":"IF(D40>0,LOG10(D40),\"\")","v":""},{"$f":"IF(E40<>\"\",IF(E40>0,LOG10(E40),\"\"),\"\")","v":""},{"$f":"IF(AND(H40<>\"\",H40>0),LOG10(A*mu0*(9/8)*eps/(d_cm*d_cm*d_cm))+2*H40+0.387*POWER(10,H40/2)*gamma/SQRT(d_cm),\"\")","v":""},{"$f":"IF(AND(I40<>\"\",J40<>\"\"),I40-J40,\"\")","v":""},{"$f":"IF(K40<>\"\",K40*K40,\"\")","v":""},{"$f":"IF(AND(U40<>\"\",G40<>\"\"),IF(OR(G40/U40>1.258,G40/U40<0.794),\"\",F40),\"\")","v":""},{"$f":"B40","v":0},"",null,null,null,null,{"$f":"F40","v":0},""]
[3,{"$f":"'3) Built-in voltage compensatio'!F38","v":0},{"$f":"'3) Built-in voltage compensatio'!G38","v":""},0,"",{"$f":"'2) Check for series resistance'!D42-V_bi","v":0},{"$f":"'2) Check for series resistance'!C42","v":""},"","","","","","",0,"",null,null,{"$f":"MIN($R$39)","v":0},null,0,""]
[4,{"$f":"'3) Built-in voltage compensatio'!F39","v":0},{"$f":"'3) Built-in voltage compensatio'!G39","v":""},0,"",{"$f":"'2) Check for series resistance'!D43-V_bi","v":0},{"$f":"'2) Check for series resistance'!C43","v":""},"","","","","","",0,"",null,null,{"$f":"COUNT($E$31:$E$32)","v":2},null,0,""]
[5,{"$f":"'3) Built-in voltage compensatio'!F40","v":0},{"$f":"'3) Built-in voltage compensatio'!G40","v":""},0,"",{"$f":"'2) Check for series resistance'!D44-V_bi","v":0},{"$f":"'2) Check for series resistance'!C44","v":""},"","","","","","",0,"",null,null,{"$f":"gamma>=0","v":true},null,0,""]
[6,{"$f":"'3) Built-in voltage compensatio'!F41","v":0},{"$f":"'3) Built-in voltage compensatio'!G41","v":""},0,"",{"$f":"'2) Check for series resistance'!D45-V_bi","v":0},{"$f":"'2) Check for series resistance'!C45","v":""},"","","","","","",0,"",null,null,{"$f":"{32767,32767,1E-20,0.01,FALSE,FALSE,FALSE,1,2,1,0.0001,FALSE}","v":32767},null,0,""]
[7,{"$f":"'3) Built-in voltage compensatio'!F42","v":0},{"$f":"'3) Built-in voltage compensatio'!G42","v":""},0,"",{"$f":"'2) Check for series resistance'!D46-V_bi","v":0},{"$f":"'2) Check for series resistance'!C46","v":""},"","","","","","",0,"",null,null,{"$f":"{0,0,1,100,0,FALSE,FALSE,0.075,0,0,FALSE,30}","v":0},null,0,""]
[8,{"$f":"'3) Built-in voltage compensatio'!F43","v":0},{"$f":"'3) Built-in voltage compensatio'!G43","v":""},0,"",{"$f":"'2) Check for series resistance'!D47-V_bi","v":0},{"$f":"'2) Check for series resistance'!C47","v":""},"","","","","","",0,"",null,null,null,null,0,""]
[9,{"$f":"'3) Built-in voltage compensatio'!F44","v":0},{"$f":"'3) Built-in voltage compensatio'!G44","v":""},0,"",{"$f":"'2) Check for series resistance'!D48-V_bi","v":0},{"$f":"'2) Check for series resistance'!C48","v":""},"","","","","","",0,"",null,null,null,null,0,""]
[10,{"$f":"'3) Built-in voltage compensatio'!F45","v":0},{"$f":"'3) Built-in voltage compensatio'!G45","v":""},0,"",{"$f":"'2) Check for series resistance'!D49-V_bi","v":0},{"$f":"'2) Check for series resistance'!C49","v":""},"","","","","","",0,"",null,null,null,null,0,""]
[11,{"$f":"'3) Built-in voltage compensatio'!F46","v":0},{"$f":"'3) Built-in voltage compensatio'!G46","v":""},0,"",{"$f":"'2) Check for series resistance'!D50-V_bi","v":0},{"$f":"'2) Check for series resistance'!C50","v":""},"","","","","","",0,"",null,null,null,null,0,""]
[12,{"$f":"'3) Built-in voltage compensatio'!F47","v":0},{"$f":"'3) Built-in voltage compensatio'!G47","v":""},0,"",{"$f":"'2) Check for series resistance'!D51-V_bi","v":0},{"$f":"'2) Check for series resistance'!C51","v":""},"","","","","","",0,"",null,null,null,null,0,""]
[13,{"$f":"'3) Built-in voltage compensatio'!F48","v":0},{"$f":"'3) Built-in voltage compensatio'!G48","v":""},0,"",{"$f":"'2) Check for series resistance'!D52-V_bi","v":0},{"$f":"'2) Check for series resistance'!C52","v":""},"","","","","","",0,"",null,null,null,null,0,""]
[14,{"$f":"'3) Built-in voltage compensatio'!F49","v":0},{"$f":"'3) Built-in voltage compensatio'!G49","v":""},0,"",{"$f":"'2) Check for series resistance'!D53-V_bi","v":0},{"$f":"'2) Check for series resistance'!C53","v":""},"","","","","","",0,"",null,null,null,null,0,""]
[15,{"$f":"'3) Built-in voltage compensatio'!F50","v":0},{"$f":"'3) Built-in voltage compensatio'!G50","v":""},0,"",{"$f":"'2) Check for series resistance'!D54-V_bi","v":0},{"$f":"'2) Check for series resistance'!C54","v":""},"","","","","","",0,"",null,null,null,null,0,""]
[16,{"$f":"'3) Built-in voltage compensatio'!F51","v":0},{"$f":"'3) Built-in voltage compensatio'!G51","v":""},0,"",{"$f":"'2) Check for series resistance'!D55-V_bi","v":0},{"$f":"'2) Check for series resistance'!C55","v":""},"","","","","","",0,"",null,null,null,null,0,""]
[17,{"$f":"'3) Built-in voltage compensatio'!F52","v":0},{"$f":"'3) Built-in voltage compensatio'!G52","v":""},0,"",{"$f":"'2) Check for series resistance'!D56-V_bi","v":0},{"$f":"'2) Check for series resistance'!C56","v":""},"","","","","","",0,"",null,null,null,null,0,""]
[18,{"$f":"'3) Built-in voltage compensatio'!F53","v":0},{"$f":"'3) Built-in voltage compensatio'!G53","v":""},0,"",{"$f":"'2) Check for series resistance'!D57-V_bi","v":0},{"$f":"'2) Check for series resistance'!C57","v":""},"","","","","","",0,"",null,null,null,null,0,""]
[19,{"$f":"'3) Built-in voltage compensatio'!F54","v":0},{"$f":"'3) Built-in voltage compensatio'!G54","v":""},0,"",{"$f":"'2) Check for series resistance'!D58-V_bi","v":0},{"$f":"'2) Check for series resistance'!C58","v":""},"","","","","","",0,"",null,null,null,null,0,""]
[20,{"$f":"'3) Built-in voltage compensatio'!F55","v":0},{"$f":"'3) Built-in voltage compensatio'!G55","v":""},0,"",{"$f":"'2) Check for series resistance'!D59-V_bi","v":0},{"$f":"'2) Check for series resistance'!C59","v":""},"","","","","","",0,"",null,null,null,null,0,""]
[21,{"$f":"'3) Built-in voltage compensatio'!F56","v":0},{"$f":"'3) Built-in voltage compensatio'!G56","v":""},0,"",{"$f":"'2) Check for series resistance'!D60-V_bi","v":0},{"$f":"'2) Check for series resistance'!C60","v":""},"","","","","","",0,"",null,null,null,null,0,""]
[22,{"$f":"'3) Built-in voltage compensatio'!F57","v":0},{"$f":"'3) Built-in voltage compensatio'!G57","v":""},0,"",{"$f":"'2) Check for series resistance'!D61-V_bi","v":0},{"$f":"'2) Check for series resistance'!C61","v":""},"","","","","","",0,"",null,null,null,null,0,""]
[23,{"$f":"'3) Built-in voltage compensatio'!F58","v":0},{"$f":"'3) Built-in voltage compensatio'!G58","v":""},0,"",{"$f":"'2) Check for series resistance'!D62-V_bi","v":0},{"$f":"'2) Check for series resistance'!C62","v":""},"","","","","","",0,"",null,null,null,null,0,""]
[24,{"$f":"'3) Built-in voltage compensatio'!F59","v":0},{"$f":"'3) Built-in voltage compensatio'!G59","v":""},0,"",{"$f":"'2) Check for series resistance'!D63-V_bi","v":0},{"$f":"'2) Check for series resistance'!C63","v":""},"","","","","","",0,"",null,null,null,null,0,""]
[25,{"$f":"'3) Built-in voltage compensatio'!F60","v":0},{"$f":"'3) Built-in voltage compensatio'!G60","v":""},0,"",{"$f":"'2) Check for series resistance'!D64-V_bi","v":0},{"$f":"'2) Check for series resistance'!C64","v":""},"","","","","","",0,"",null,null,null,null,0,""]
[26,{"$f":"'3) Built-in voltage compensatio'!F61","v":0},{"$f":"'3) Built-in voltage compensatio'!G61","v":""},0,"",{"$f":"'2) Check for series resistance'!D65-V_bi","v":0},{"$f":"'2) Check for series resistance'!C65","v":""},"","","","","","",0,"",null,null,null,null,0,""]
[27,{"$f":"'3) Built-in voltage compensatio'!F62","v":0},{"$f":"'3) Built-in voltage compensatio'!G62","v":""},0,"",{"$f":"'2) Check for series resistance'!D66-V_bi","v":0},{"$f":"'2) Check for series resistance'!C66","v":""},"","","","","","",0,"",null,null,null,null,0,""]
[28,{"$f":"'3) Built-in voltage compensatio'!F63","v":0},{"$f":"'3) Built-in voltage compensatio'!G63","v":""},0,"",{"$f":"'2) Check for series resistance'!D67-V_bi","v":0},{"$f":"'2) Check for series resistance'!C67","v":""},"","","","","","",0,"",null,null,null,null,0,""]
[29,{"$f":"'3) Built-in voltage compensatio'!F64","v":0},{"$f":"'3) Built-in voltage compensatio'!G64","v":""},0,"",{"$f":"'2) Check for series resistance'!D68-V_bi","v":0},{"$f":"'2) Check for series resistance'!C68","v":""},"","","","","","",0,"",null,null,null,null,0,""]
[30,{"$f":"'3) Built-in voltage compensatio'!F65","v":0},{"$f":"'3) Built-in voltage compensatio'!G65","v":""},0,"",{"$f":"'2) Check for series resistance'!D69-V_bi","v":0},{"$f":"'2) Check for series resistance'!C69","v":""},"","","","","","",0,"",null,null,null,null,0,""]
[31,{"$f":"'3) Built-in voltage compensatio'!F66","v":0},{"$f":"'3) Built-in voltage compensatio'!G66","v":""},0,"",{"$f":"'2) Check for series resistance'!D70-V_bi","v":0},{"$f":"'2) Check for series resistance'!C70","v":""},"","","","","","",0,"",null,null,null,null,0,""]
[32,{"$f":"'3) Built-in voltage compensatio'!F67","v":0},{"$f":"'3) Built-in voltage compensatio'!G67","v":""},0,"",{"$f":"'2) Check for series resistance'!D71-V_bi","v":0},{"$f":"'2) Check for series resistance'!C71","v":""},"","","","","","",0,"",null,null,null,null,0,""]
[33,{"$f":"'3) Built-in voltage compensatio'!F68","v":0},{"$f":"'3) Built-in voltage compensatio'!G68","v":""},0,"",{"$f":"'2) Check for series resistance'!D72-V_bi","v":0},{"$f":"'2) Check for series resistance'!C72","v":""},"","","","","","",0,"",null,null,null,null,0,""]
[34,{"$f":"'3) Built-in voltage compensatio'!F69","v":0},{"$f":"'3) Built-in voltage compensatio'!G69","v":""},0,"",{"$f":"'2) Check for series resistance'!D73-V_bi","v":0},{"$f":"'2) Check for series resistance'!C73","v":""},"","","","","","",0,"",null,null,null,null,0,""]
[35,{"$f":"'3) Built-in voltage compensatio'!F70","v":0},{"$f":"'3) Built-in voltage compensatio'!G70","v":""},0,"",{"$f":"'2) Check for series resistance'!D74-V_bi","v":0},{"$f":"'2) Check for series resistance'!C74","v":""},"","","","","","",0,"",null,null,null,null,0,""]
[36,{"$f":"'3) Built-in voltage compensatio'!F71","v":0},{"$f":"'3) Built-in voltage compensatio'!G71","v":""},0,"",{"$f":"'2) Check for series resistance'!D75-V_bi","v":0},{"$f":"'2) Check for series resistance'!C75","v":""},"","","","","","",0,"",null,null,null,null,0,""]
[37,{"$f":"'3) Built-in voltage compensatio'!F72","v":0},{"$f":"'3) Built-in voltage compensatio'!G72","v":""},0,"",{"$f":"'2) Check for series resistance'!D76-V_bi","v":0},{"$f":"'2) Check for series resistance'!C76","v":""},"","","","","","",0,"",null,null,null,null,0,""]
[38,{"$f":"'3) Built-in voltage compensatio'!F73","v":0},{"$f":"'3) Built-in voltage compensatio'!G73","v":""},0,"",{"$f":"'2) Check for series resistance'!D77-V_bi","v":0},{"$f":"'2) Check for series resistance'!C77","v":""},"","","","","","",0,"",null,null,null,null,0,""]
[39,{"$f":"'3) Built-in voltage compensatio'!F74","v":0},{"$f":"'3) Built-in voltage compensatio'!G74","v":""},0,"",{"$f":"'2) Check for series resistance'!D78-V_bi","v":0},{"$f":"'2) Check for series resistance'!C78","v":""},"","","","","","",0,"",null,null,null,null,0,""]
[40,{"$f":"'3) Built-in voltage compensatio'!F75","v":0},{"$f":"'3) Built-in voltage compensatio'!G75","v":""},0,"",{"$f":"'2) Check for series resistance'!D79-V_bi","v":0},{"$f":"'2) Check for series resistance'!C79","v":""},"","","","","","",0,"",null,null,null,null,0,""]
[41,{"$f":"'3) Built-in voltage compensatio'!F76","v":0},{"$f":"'3) Built-in voltage compensatio'!G76","v":""},0,"",{"$f":"'2) Check for series resistance'!D80-V_bi","v":0},{"$f":"'2) Check for series resistance'!C80","v":""},"","","","","","",0,"",null,null,null,null,0,""]
[42,{"$f":"'3) Built-in voltage compensatio'!F77","v":0},{"$f":"'3) Built-in voltage compensatio'!G77","v":""},0,"",{"$f":"'2) Check for series resistance'!D81-V_bi","v":0},{"$f":"'2) Check for series resistance'!C81","v":""},"","","","","","",0,"",null,null,null,null,0,""]
[43,{"$f":"'3) Built-in voltage compensatio'!F78","v":0},{"$f":"'3) Built-in voltage compensatio'!G78","v":""},0,"",{"$f":"'2) Check for series resistance'!D82-V_bi","v":0},{"$f":"'2) Check for series resistance'!C82","v":""},"","","","","","",0,"",null,null,null,null,0,""]
[44,{"$f":"'3) Built-in voltage compensatio'!F79","v":0},{"$f":"'3) Built-in voltage compensatio'!G79","v":""},0,"",{"$f":"'2) Check for series resistance'!D83-V_bi","v":0},{"$f":"'2) Check for series resistance'!C83","v":""},"","","","","","",0,"",null,null,null,null,0,""]
[45,{"$f":"'3) Built-in voltage compensatio'!F80","v":0},{"$f":"'3) Built-in voltage compensatio'!G80","v":""},0,"",{"$f":"'2) Check for series resistance'!D84-V_bi","v":0},{"$f":"'2) Check for series resistance'!C84","v":""},"","","","","","",0,"",null,null,null,null,0,""]
[46,{"$f":"'3) Built-in voltage compensatio'!F81","v":0},{"$f":"'3) Built-in voltage compensatio'!G81","v":""},0,"",{"$f":"'2) Check for series resistance'!D85-V_bi","v":0},{"$f":"'2) Check for series resistance'!C85","v":""},"","","","","","",0,"",null,null,null,null,0,""]
[47,{"$f":"'3) Built-in voltage compensatio'!F82","v":0},{"$f":"'3) Built-in voltage compensatio'!G82","v":""},0,"",{"$f":"'2) Check for series resistance'!D86-V_bi","v":0},{"$f":"'2) Check for series resistance'!C86","v":""},"","","","","","",0,"",null,null,null,null,0,""]
[48,{"$f":"'3) Built-in voltage compensatio'!F83","v":0},{"$f":"'3) Built-in voltage compensatio'!G83","v":""},0,"",{"$f":"'2) Check for series resistance'!D87-V_bi","v":0},{"$f":"'2) Check for series resistance'!C87","v":""},"","","","","","",0,"",null,null,null,null,0,""]
[49,{"$f":"'3) Built-in voltage compensatio'!F84","v":0},{"$f":"'3) Built-in voltage compensatio'!G84","v":""},0,"",{"$f":"'2) Check for series resistance'!D88-V_bi","v":0},{"$f":"'2) Check for series resistance'!C88","v":""},"","","","","","",0,"",null,null,null,null,0,""]
[50,{"$f":"'3) Built-in voltage compensatio'!F85","v":0},{"$f":"'3) Built-in voltage compensatio'!G85","v":""},0,"",{"$f":"'2) Check for series resistance'!D89-V_bi","v":0},{"$f":"'2) Check for series resistance'!C89","v":""},"","","","","","",0,"",null,null,null,null,0,""]
[51,{"$f":"'3) Built-in voltage compensatio'!F86","v":0},{"$f":"'3) Built-in voltage compensatio'!G86","v":""},0,"",{"$f":"'2) Check for series resistance'!D90-V_bi","v":0},{"$f":"'2) Check for series resistance'!C90","v":""},"","","","","","",0,"",null,null,null,null,0,""]
[52,{"$f":"'3) Built-in voltage compensatio'!F87","v":0},{"$f":"'3) Built-in voltage compensatio'!G87","v":""},0,"",{"$f":"'2) Check for series resistance'!D91-V_bi","v":0},{"$f":"'2) Check for series resistance'!C91","v":""},"","","","","","",0,"",null,null,null,null,0,""]
[53,{"$f":"'3) Built-in voltage compensatio'!F88","v":0},{"$f":"'3) Built-in voltage compensatio'!G88","v":""},0,"",{"$f":"'2) Check for series resistance'!D92-V_bi","v":0},{"$f":"'2) Check for series resistance'!C92","v":""},"","","","","","",0,"",null,null,null,null,0,""]
[54,{"$f":"'3) Built-in voltage compensatio'!F89","v":0},{"$f":"'3) Built-in voltage compensatio'!G89","v":""},0,"",{"$f":"'2) Check for series resistance'!D93-V_bi","v":0},{"$f":"'2) Check for series resistance'!C93","v":""},"","","","","","",0,"",null,null,null,null,0,""]
[55,{"$f":"'3) Built-in voltage compensatio'!F90","v":0},{"$f":"'3) Built-in voltage compensatio'!G90","v":""},0,"",{"$f":"'2) Check for series resistance'!D94-V_bi","v":0},{"$f":"'2) Check for series resistance'!C94","v":""},"","","","","","",0,"",null,null,null,null,0,""]
[56,{"$f":"'3) Built-in voltage compensatio'!F91","v":0},{"$f":"'3) Built-in voltage compensatio'!G91","v":""},0,"",{"$f":"'2) Check for series resistance'!D95-V_bi","v":0},{"$f":"'2) Check for series resistance'!C95","v":""},"","","","","","",0,"",null,null,null,null,0,""]
[57,{"$f":"'3) Built-in voltage compensatio'!F92","v":0},{"$f":"'3) Built-in voltage compensatio'!G92","v":""},0,"",{"$f":"'2) Check for series resistance'!D96-V_bi","v":0},{"$f":"'2) Check for series resistance'!C96","v":""},"","","","","","",0,"",null,null,null,null,0,""]
[58,{"$f":"'3) Built-in voltage compensatio'!F93","v":0},{"$f":"'3) Built-in voltage compensatio'!G93","v":""},0,"",{"$f":"'2) Check for series resistance'!D97-V_bi","v":0},{"$f":"'2) Check for series resistance'!C97","v":""},"","","","","","",0,"",null,null,null,null,0,""]
[59,{"$f":"'3) Built-in voltage compensatio'!F94","v":0},{"$f":"'3) Built-in voltage compensatio'!G94","v":""},0,"",{"$f":"'2) Check for series resistance'!D98-V_bi","v":0},{"$f":"'2) Check for series resistance'!C98","v":""},"","","","","","",0,"",null,null,null,null,0,""]
[60,{"$f":"'3) Built-in voltage compensatio'!F95","v":0},{"$f":"'3) Built-in voltage compensatio'!G95","v":""},0,"",{"$f":"'2) Check for series resistance'!D99-V_bi","v":0},{"$f":"'2) Check for series resistance'!C99","v":""},"","","","","","",0,"",null,null,null,null,0,""]
[61,{"$f":"'3) Built-in voltage compensatio'!F96","v":0},{"$f":"'3) Built-in voltage compensatio'!G96","v":""},0,"",{"$f":"'2) Check for series resistance'!D100-V_bi","v":0},{"$f":"'2) Check for series resistance'!C100","v":""},"","","","","","",0,"",null,null,null,null,0,""]
[62,{"$f":"'3) Built-in voltage compensatio'!F97","v":0},{"$f":"'3) Built-in voltage compensatio'!G97","v":""},0,"",{"$f":"'2) Check for series resistance'!D101-V_bi","v":0},{"$f":"'2) Check for series resistance'!C101","v":""},"","","","","","",0,"",null,null,null,null,0,""]
[63,{"$f":"'3) Built-in voltage compensatio'!F98","v":0},{"$f":"'3) Built-in voltage compensatio'!G98","v":""},0,"",{"$f":"'2) Check for series resistance'!D102-V_bi","v":0},{"$f":"'2) Check for series resistance'!C102","v":""},"","","","","","",0,"",null,null,null,null,0,""]
[64,{"$f":"'3) Built-in voltage compensatio'!F99","v":0},{"$f":"'3) Built-in voltage compensatio'!G99","v":""},0,"",{"$f":"'2) Check for series resistance'!D103-V_bi","v":0},{"$f":"'2) Check for series resistance'!C103","v":""},"","","","","","",0,"",null,null,null,null,0,""]
[65,{"$f":"'3) Built-in voltage compensatio'!F100","v":0},{"$f":"'3) Built-in voltage compensatio'!G100","v":""},0,{"$f":"IF(D103>=Vloewr,IF(D103<=Vupper,C103,\"\"),\"\")","v":""},{"$f":"'2) Check for series resistance'!D104-V_bi","v":0},{"$f":"'2) Check for series resistance'!C104","v":""},"","","","","","",0,{"$f":"IF(N103>0,A*(9/8)*mu0*eps*(B103*B103)/(d_cm*d_cm*d_cm)*EXP(0.891*gamma*SQRT(B103/d_cm)),\"\")","v":""},null,null,null,null,0,{"$f":"IF(T103>0,A*(9/8)*mu0*eps*(F103*F103)/(d_cm*d_cm*d_cm)*EXP(0.891*gamma*SQRT(F103/d_cm)),\"\")","v":""}]
[66,{"$f":"'3) Built-in voltage compensatio'!F101","v":0},{"$f":"'3) Built-in voltage compensatio'!G101","v":""},{"$f":"B104","v":0},"",{"$f":"'2) Check for series resistance'!D105-V_bi","v":0},{"$f":"'2) Check for series resistance'!C105","v":""},{"$f":"IF(D104>0,LOG10(D104),\"\")","v":""},{"$f":"IF(E104<>\"\",IF(E104>0,LOG10(E104),\"\"),\"\")","v":""},{"$f":"IF(AND(H104<>\"\",H104>0),LOG10(A*mu0*(9/8)*eps/(d_cm*d_cm*d_cm))+2*H104+0.387*POWER(10,H104/2)*gamma/SQRT(d_cm),\"\")","v":""},{"$f":"IF(AND(I104<>\"\",J104<>\"\"),I104-J104,\"\")","v":""},{"$f":"IF(K104<>\"\",K104*K104,\"\")","v":""},{"$f":"IF(AND(U104<>\"\",G104<>\"\"),IF(OR(G104/U104>1.258,G104/U104<0.794),\"\",F104),\"\")","v":""},{"$f":"B104","v":0},"",null,null,null,null,{"$f":"F104","v":0},""]
[67,{"$f":"'3) Built-in voltage compensatio'!F102","v":0},{"$f":"'3) Built-in voltage compensatio'!G102","v":""},0,"",{"$f":"'2) Check for series resistance'!D106-V_bi","v":0},{"$f":"'2) Check for series resistance'!C106","v":""},"","","","","","",0,"",null,null,null,null,0,""]
[68,{"$f":"'3) Built-in voltage compensatio'!F103","v":0},{"$f":"'3) Built-in voltage compensatio'!G103","v":""},0,"",{"$f":"'2) Check for series resistance'!D107-V_bi","v":0},{"$f":"'2) Check for series resistance'!C107","v":""},"","","","","","",0,"",null,null,null,null,0,""]
[69,{"$f":"'3) Built-in voltage compensatio'!F104","v":0},{"$f":"'3) Built-in voltage compensatio'!G104","v":""},0,"",{"$f":"'2) Check for series resistance'!D108-V_bi","v":0},{"$f":"'2) Check for series resistance'!C108","v":""},"","","","","","",0,"",null,null,null,null,0,""]
[70,{"$f":"'3) Built-in voltage compensatio'!F105","v":0},{"$f":"'3) Built-in voltage compensatio'!G105","v":""},0,"",{"$f":"'2) Check for series resistance'!D109-V_bi","v":0},{"$f":"'2) Check for series resistance'!C109","v":""},"","","","","","",0,"",null,null,null,null,0,""]
[71,{"$f":"'3) Built-in voltage compensatio'!F106","v":0},{"$f":"'3) Built-in voltage compensatio'!G106","v":""},0,"",{"$f":"'2) Check for series resistance'!D110-V_bi","v":0},{"$f":"'2) Check for series resistance'!C110","v":""},"","","","","","",0,"",null,null,null,null,0,""]
[72,{"$f":"'3) Built-in voltage compensatio'!F107","v":0},{"$f":"'3) Built-in voltage compensatio'!G107","v":""},0,"",{"$f":"'2) Check for series resistance'!D111-V_bi","v":0},{"$f":"'2) Check for series resistance'!C111","v":""},"","","","","","",0,"",null,null,null,null,0,""]
[73,{"$f":"'3) Built-in voltage compensatio'!F108","v":0},{"$f":"'3) Built-in voltage compensatio'!G108","v":""},0,"",{"$f":"'2) Check for series resistance'!D112-V_bi","v":0},{"$f":"'2) Check for series resistance'!C112","v":""},"","","","","","",0,"",null,null,null,null,0,""]
[74,{"$f":"'3) Built-in voltage compensatio'!F109","v":0},{"$f":"'3) Built-in voltage compensatio'!G109","v":""},0,"",{"$f":"'2) Check for series resistance'!D113-V_bi","v":0},{"$f":"'2) Check for series resistance'!C113","v":""},"","","","","","",0,"",null,null,null,null,0,""]
[75,{"$f":"'3) Built-in voltage compensatio'!F110","v":0},{"$f":"'3) Built-in voltage compensatio'!G110","v":""},0,"",{"$f":"'2) Check for series resistance'!D114-V_bi","v":0},{"$f":"'2) Check for series resistance'!C114","v":""},"","","","","","",0,"",null,null,null,null,0,""]
[76,{"$f":"'3) Built-in voltage compensatio'!F111","v":0},{"$f":"'3) Built-in voltage compensatio'!G111","v":""},0,"",{"$f":"'2) Check for series resistance'!D115-V_bi","v":0},{"$f":"'2) Check for series resistance'!C115","v":""},"","","","","","",0,"",null,null,null,null,0,""]
[77,{"$f":"'3) Built-in voltage compensatio'!F112","v":0},{"$f":"'3) Built-in voltage compensatio'!G112","v":""},0,"",{"$f":"'2) Check for series resistance'!D116-V_bi","v":0},{"$f":"'2) Check for series resistance'!C116","v":""},"","","","","","",0,"",null,null,null,null,0,""]
[78,{"$f":"'3) Built-in voltage compensatio'!F113","v":0},{"$f":"'3) Built-in voltage compensatio'!G113","v":""},0,"",{"$f":"'2) Check for series resistance'!D117-V_bi","v":0},{"$f":"'2) Check for series resistance'!C117","v":""},"","","","","","",0,"",null,null,null,null,0,""]
[79,{"$f":"'3) Built-in voltage compensatio'!F114","v":0},{"$f":"'3) Built-in voltage compensatio'!G114","v":""},0,"",{"$f":"'2) Check for series resistance'!D118-V_bi","v":0},{"$f":"'2) Check for series resistance'!C118","v":""},"","","","","","",0,"",null,null,null,null,0,""]
[80,{"$f":"'3) Built-in voltage compensatio'!F115","v":0},{"$f":"'3) Built-in voltage compensatio'!G115","v":""},0,"",{"$f":"'2) Check for series resistance'!D119-V_bi","v":0},{"$f":"'2) Check for series resistance'!C119","v":""},"","","","","","",0,"",null,null,null,null,0,""]
[81,{"$f":"'3) Built-in voltage compensatio'!F116","v":0},{"$f":"'3) Built-in voltage compensatio'!G116","v":""},0,"",{"$f":"'2) Check for series resistance'!D120-V_bi","v":0},{"$f":"'2) Check for series resistance'!C120","v":""},"","","","","","",0,"",null,null,null,null,0,""]
[82,{"$f":"'3) Built-in voltage compensatio'!F117","v":0},{"$f":"'3) Built-in voltage compensatio'!G117","v":""},0,"",{"$f":"'2) Check for series resistance'!D121-V_bi","v":0},{"$f":"'2) Check for series resistance'!C121","v":""},"","","","","","",0,"",null,null,null,null,0,""]
[83,{"$f":"'3) Built-in voltage compensatio'!F118","v":0},{"$f":"'3) Built-in voltage compensatio'!G118","v":""},0,"",{"$f":"'2) Check for series resistance'!D122-V_bi","v":0},{"$f":"'2) Check for series resistance'!C122","v":""},"","","","","","",0,"",null,null,null,null,0,""]
[84,{"$f":"'3) Built-in voltage compensatio'!F119","v":0},{"$f":"'3) Built-in voltage compensatio'!G119","v":""},0,"",{"$f":"'2) Check for series resistance'!D123-V_bi","v":0},{"$f":"'2) Check for series resistance'!C123","v":""},"","","","","","",0,"",null,null,null,null,0,""]
[85,{"$f":"'3) Built-in voltage compensatio'!F120","v":0},{"$f":"'3) Built-in voltage compensatio'!G120","v":""},0,"",{"$f":"'2) Check for series resistance'!D124-V_bi","v":0},{"$f":"'2) Check for series resistance'!C124","v":""},"","","","","","",0,"",null,null,null,null,0,""]
[86,{"$f":"'3) Built-in voltage compensatio'!F121","v":0},{"$f":"'3) Built-in voltage compensatio'!G121","v":""},0,"",{"$f":"'2) Check for series resistance'!D125-V_bi","v":0},{"$f":"'2) Check for series resistance'!C125","v":""},"","","","","","",0,"",null,null,null,null,0,""]
[87,{"$f":"'3) Built-in voltage compensatio'!F122","v":0},{"$f":"'3) Built-in voltage compensatio'!G122","v":""},0,"",{"$f":"'2) Check for series resistance'!D126-V_bi","v":0},{"$f":"'2) Check for series resistance'!C126","v":""},"","","","","","",0,"",null,null,null,null,0,""]
[88,{"$f":"'3) Built-in voltage compensatio'!F123","v":0},{"$f":"'3) Built-in voltage compensatio'!G123","v":""},0,"",{"$f":"'2) Check for series resistance'!D127-V_bi","v":0},{"$f":"'2) Check for series resistance'!C127","v":""},"","","","","","",0,"",null,null,null,null,0,""]
[89,{"$f":"'3) Built-in voltage compensatio'!F124","v":0},{"$f":"'3) Built-in voltage compensatio'!G124","v":""},0,"",{"$f":"'2) Check for series resistance'!D128-V_bi","v":0},{"$f":"'2) Check for series resistance'!C128","v":""},"","","","","","",0,"",null,null,null,null,0,""]
[90,{"$f":"'3) Built-in voltage compensatio'!F125","v":0},{"$f":"'3) Built-in voltage compensatio'!G125","v":""},0,"",{"$f":"'2) Check for series resistance'!D129-V_bi","v":0},{"$f":"'2) Check for series resistance'!C129","v":""},"","","","","","",0,"",null,null,null,null,0,""]
[91,{"$f":"'3) Built-in voltage compensatio'!F126","v":0},{"$f":"'3) Built-in voltage compensatio'!G126","v":""},0,"",{"$f":"'2) Check for series resistance'!D130-V_bi","v":0},{"$f":"'2) Check for series resistance'!C130","v":""},"","","","","","",0,"",null,null,null,null,0,""]
[92,{"$f":"'3) Built-in voltage compensatio'!F127","v":0},{"$f":"'3) Built-in voltage compensatio'!G127","v":""},0,"",{"$f":"'2) Check for series resistance'!D131-V_bi","v":0},{"$f":"'2) Check for series resistance'!C131","v":""},"","","","","","",0,"",null,null,null,null,0,""]
[93,{"$f":"'3) Built-in voltage compensatio'!F128","v":0},{"$f":"'3) Built-in voltage compensatio'!G128","v":""},0,"",{"$f":"'2) Check for series resistance'!D132-V_bi","v":0},{"$f":"'2) Check for series resistance'!C132","v":""},"","","","","","",0,"",null,null,null,null,0,""]
[94,{"$f":"'3) Built-in voltage compensatio'!F129","v":0},{"$f":"'3) Built-in voltage compensatio'!G129","v":""},0,"",{"$f":"'2) Check for series resistance'!D133-V_bi","v":0},{"$f":"'2) Check for series resistance'!C133","v":""},"","","","","","",0,"",null,null,null,null,0,""]
[95,{"$f":"'3) Built-in voltage compensatio'!F130","v":0},{"$f":"'3) Built-in voltage compensatio'!G130","v":""},0,"",{"$f":"'2) Check for series resistance'!D134-V_bi","v":0},{"$f":"'2) Check for series resistance'!C134","v":""},"","","","","","",0,"",null,null,null,null,0,""]
[96,{"$f":"'3) Built-in voltage compensatio'!F131","v":0},{"$f":"'3) Built-in voltage compensatio'!G131","v":""},0,"",{"$f":"'2) Check for series resistance'!D135-V_bi","v":0},{"$f":"'2) Check for series resistance'!C135","v":""},"","","","","","",0,"",null,null,null,null,0,""]
[97,{"$f":"'3) Built-in voltage compensatio'!F132","v":0},{"$f":"'3) Built-in voltage compensatio'!G132","v":""},0,"",{"$f":"'2) Check for series resistance'!D136-V_bi","v":0},{"$f":"'2) Check for series resistance'!C136","v":""},"","","","","","",0,"",null,null,null,null,0,""]
[98,{"$f":"'3) Built-in voltage compensatio'!F133","v":0},{"$f":"'3) Built-in voltage compensatio'!G133","v":""},0,"",{"$f":"'2) Check for series resistance'!D137-V_bi","v":0},{"$f":"'2) Check for series resistance'!C137","v":""},"","","","","","",0,"",null,null,null,null,0,""]
[99,{"$f":"'3) Built-in voltage compensatio'!F134","v":0},{"$f":"'3) Built-in voltage compensatio'!G134","v":""},0,"",{"$f":"'2) Check for series resistance'!D138-V_bi","v":0},{"$f":"'2) Check for series resistance'!C138","v":""},"","","","","","",0,"",null,null,null,null,0,""]
[100,{"$f":"'3) Built-in voltage compensatio'!F135","v":0},{"$f":"'3) Built-in voltage compensatio'!G135","v":""},0,"",{"$f":"'2) Check for series resistance'!D139-V_bi","v":0},{"$f":"'2) Check for series resistance'!C139","v":""},"","","","","","",0,"",null,null,null,null,0,""]
[101,{"$f":"'3) Built-in voltage compensatio'!F136","v":0},{"$f":"'3) Built-in voltage compensatio'!G136","v":""},0,"",{"$f":"'2) Check for series resistance'!D140-V_bi","v":0},{"$f":"'2) Check for series resistance'!C140","v":""},"","","","","","",0,"",null,null,null,null,0,""]
[102,{"$f":"'3) Built-in voltage compensatio'!F137","v":0},{"$f":"'3) Built-in voltage compensatio'!G137","v":""},0,"",{"$f":"'2) Check for series resistance'!D141-V_bi","v":0},{"$f":"'2) Check for series resistance'!C141","v":""},"","","","","","",0,"",null,null,null,null,0,""]
[103,{"$f":"'3) Built-in voltage compensatio'!F138","v":0},{"$f":"'3) Built-in voltage compensatio'!G138","v":""},0,"",{"$f":"'2) Check for series resistance'!D142-V_bi","v":0},{"$f":"'2) Check for series resistance'!C142","v":""},"","","","","","",0,"",null,null,null,null,0,""]
[104,{"$f":"'3) Built-in voltage compensatio'!F139","v":0},{"$f":"'3) Built-in voltage compensatio'!G139","v":""},0,"",{"$f":"'2) Check for series resistance'!D143-V_bi","v":0},{"$f":"'2) Check for series resistance'!C143","v":""},"","","","","","",0,"",null,null,null,null,0,""]
[105,{"$f":"'3) Built-in voltage compensatio'!F140","v":0},{"$f":"'3) Built-in voltage compensatio'!G140","v":""},0,"",{"$f":"'2) Check for series resistance'!D144-V_bi","v":0},{"$f":"'2) Check for series resistance'!C144","v":""},"","","","","","",0,"",null,null,null,null,0,""]
[106,{"$f":"'3) Built-in voltage compensatio'!F141","v":0},{"$f":"'3) Built-in voltage compensatio'!G141","v":""},0,"",{"$f":"'2) Check for series resistance'!D145-V_bi","v":0},{"$f":"'2) Check for series resistance'!C145","v":""},"","","","","","",0,"",null,null,null,null,0,""]
[107,{"$f":"'3) Built-in voltage compensatio'!F142","v":0},{"$f":"'3) Built-in voltage compensatio'!G142","v":""},0,"",{"$f":"'2) Check for series resistance'!D146-V_bi","v":0},{"$f":"'2) Check for series resistance'!C146","v":""},"","","","","","",0,"",null,null,null,null,0,""]
[108,{"$f":"'3) Built-in voltage compensatio'!F143","v":0},{"$f":"'3) Built-in voltage compensatio'!G143","v":""},0,"",{"$f":"'2) Check for series resistance'!D147-V_bi","v":0},{"$f":"'2) Check for series resistance'!C147","v":""},"","","","","","",0,"",null,null,null,null,0,""]
[109,{"$f":"'3) Built-in voltage compensatio'!F144","v":0},{"$f":"'3) Built-in voltage compensatio'!G144","v":""},0,"",{"$f":"'2) Check for series resistance'!D148-V_bi","v":0},{"$f":"'2) Check for series resistance'!C148","v":""},"","","","","","",0,"",null,null,null,null,0,""]
[110,{"$f":"'3) Built-in voltage compensatio'!F145","v":0},{"$f":"'3) Built-in voltage compensatio'!G145","v":""},0,"",{"$f":"'2) Check for series resistance'!D149-V_bi","v":0},{"$f":"'2) Check for series resistance'!C149","v":""},"","","","","","",0,"",null,null,null,null,0,""]
[111,{"$f":"'3) Built-in voltage compensatio'!F146","v":0},{"$f":"'3) Built-in voltage compensatio'!G146","v":""},0,"",{"$f":"'2) Check for series resistance'!D150-V_bi","v":0},{"$f":"'2) Check for series resistance'!C150","v":""},"","","","","","",0,"",null,null,null,null,0,""]
[112,{"$f":"'3) Built-in voltage compensatio'!F147","v":0},{"$f":"'3) Built-in voltage compensatio'!G147","v":""},0,"",{"$f":"'2) Check for series resistance'!D151-V_bi","v":0},{"$f":"'2) Check for series resistance'!C151","v":""},"","","","","","",0,"",null,null,null,null,0,""]
[113,{"$f":"'3) Built-in voltage compensatio'!F148","v":0},{"$f":"'3) Built-in voltage compensatio'!G148","v":""},0,"",{"$f":"'2) Check for series resistance'!D152-V_bi","v":0},{"$f":"'2) Check for series resistance'!C152","v":""},"","","","","","",0,"",null,null,null,null,0,""]
[114,{"$f":"'3) Built-in voltage compensatio'!F149","v":0},{"$f":"'3) Built-in voltage compensatio'!G149","v":""},0,"",{"$f":"'2) Check for series resistance'!D153-V_bi","v":0},{"$f":"'2) Check for series resistance'!C153","v":""},"","","","","","",0,"",null,null,null,null,0,""]
[115,{"$f":"'3) Built-in voltage compensatio'!F150","v":0},{"$f":"'3) Built-in voltage compensatio'!G150","v":""},0,"",{"$f":"'2) Check for series resistance'!D154-V_bi","v":0},{"$f":"'2) Check for series resistance'!C154","v":""},"","","","","","",0,"",null,null,null,null,0,""]
[116,{"$f":"'3) Built-in voltage compensatio'!F151","v":0},{"$f":"'3) Built-in voltage compensatio'!G151","v":""},0,"",{"$f":"'2) Check for series resistance'!D155-V_bi","v":0},{"$f":"'2) Check for series resistance'!C155","v":""},"","","","","","",0,"",null,null,null,null,0,""]
[117,{"$f":"'3) Built-in voltage compensatio'!F152","v":0},{"$f":"'3) Built-in voltage compensatio'!G152","v":""},0,"",{"$f":"'2) Check for series resistance'!D156-V_bi","v":0},{"$f":"'2) Check for series resistance'!C156","v":""},"","","","","","",0,"",null,null,null,null,0,""]
[118,{"$f":"'3) Built-in voltage compensatio'!F153","v":0},{"$f":"'3) Built-in voltage compensatio'!G153","v":""},0,"",{"$f":"'2) Check for series resistance'!D157-V_bi","v":0},{"$f":"'2) Check for series resistance'!C157","v":""},"","","","","","",0,"",null,null,null,null,0,""]
[119,{"$f":"'3) Built-in voltage compensatio'!F154","v":0},{"$f":"'3) Built-in voltage compensatio'!G154","v":""},0,"",{"$f":"'2) Check for series resistance'!D158-V_bi","v":0},{"$f":"'2) Check for series resistance'!C158","v":""},"","","","","","",0,"",null,null,null,null,0,""]
[120,{"$f":"'3) Built-in voltage compensatio'!F155","v":0},{"$f":"'3) Built-in voltage compensatio'!G155","v":""},0,"",{"$f":"'2) Check for series resistance'!D159-V_bi","v":0},{"$f":"'2) Check for series resistance'!C159","v":""},"","","","","","",0,"",null,null,null,null,0,""]
[121,{"$f":"'3) Built-in voltage compensatio'!F156","v":0},{"$f":"'3) Built-in voltage compensatio'!G156","v":""},0,"",{"$f":"'2) Check for series resistance'!D160-V_bi","v":0},{"$f":"'2) Check for series resistance'!C160","v":""},"","","","","","",0,"",null,null,null,null,0,""]
[122,{"$f":"'3) Built-in voltage compensatio'!F157","v":0},{"$f":"'3) Built-in voltage compensatio'!G157","v":""},0,"",{"$f":"'2) Check for series resistance'!D161-V_bi","v":0},{"$f":"'2) Check for series resistance'!C161","v":""},"","","","","","",0,"",null,null,null,null,0,""]
[123,{"$f":"'3) Built-in voltage compensatio'!F158","v":0},{"$f":"'3) Built-in voltage compensatio'!G158","v":""},0,"",{"$f":"'2) Check for series resistance'!D162-V_bi","v":0},{"$f":"'2) Check for series resistance'!C162","v":""},"","","","","","",0,"",null,null,null,null,0,""]
[124,{"$f":"'3) Built-in voltage compensatio'!F159","v":0},{"$f":"'3) Built-in voltage compensatio'!G159","v":""},0,"",{"$f":"'2) Check for series resistance'!D163-V_bi","v":0},{"$f":"'2) Check for series resistance'!C163","v":""},"","","","","","",0,"",null,null,null,null,0,""]
[125,{"$f":"'3) Built-in voltage compensatio'!F160","v":0},{"$f":"'3) Built-in voltage compensatio'!G160","v":""},0,"",{"$f":"'2) Check for series resistance'!D164-V_bi","v":0},{"$f":"'2) Check for series resistance'!C164","v":""},"","","","","","",0,"",null,null,null,null,0,""]
[126,{"$f":"'3) Built-in voltage compensatio'!F161","v":0},{"$f":"'3) Built-in voltage compensatio'!G161","v":""},0,"",{"$f":"'2) Check for series resistance'!D165-V_bi","v":0},{"$f":"'2) Check for series resistance'!C165","v":""},"","","","","","",0,"",null,null,null,null,0,""]
[127,{"$f":"'3) Built-in voltage compensatio'!F162","v":0},{"$f":"'3) Built-in voltage compensatio'!G162","v":""},0,"",{"$f":"'2) Check for series resistance'!D166-V_bi","v":0},{"$f":"'2) Check for series resistance'!C166","v":""},"","","","","","",0,"",null,null,null,null,0,""]
[128,{"$f":"'3) Built-in voltage compensatio'!F163","v":0},{"$f":"'3) Built-in voltage compensatio'!G163","v":""},0,"",{"$f":"'2) Check for series resistance'!D167-V_bi","v":0},{"$f":"'2) Check for series resistance'!C167","v":""},"","","","","","",0,"",null,null,null,null,0,""]
[129,{"$f":"'3) Built-in voltage compensatio'!F164","v":0},{"$f":"'3) Built-in voltage compensatio'!G164","v":""},0,{"$f":"IF(D167>=Vloewr,IF(D167<=Vupper,C167,\"\"),\"\")","v":""},{"$f":"'2) Check for series resistance'!D168-V_bi","v":0},{"$f":"'2) Check for series resistance'!C168","v":""},"","","","","","",0,{"$f":"IF(N167>0,A*(9/8)*mu0*eps*(B167*B167)/(d_cm*d_cm*d_cm)*EXP(0.891*gamma*SQRT(B167/d_cm)),\"\")","v":""},null,null,null,null,0,{"$f":"IF(T167>0,A*(9/8)*mu0*eps*(F167*F167)/(d_cm*d_cm*d_cm)*EXP(0.891*gamma*SQRT(F167/d_cm)),\"\")","v":""}]
[130,{"$f":"'3) Built-in voltage compensatio'!F165","v":0},{"$f":"'3) Built-in voltage compensatio'!G165","v":""},{"$f":"B168","v":0},"",{"$f":"'2) Check for series resistance'!D169-V_bi","v":0},{"$f":"'2) Check for series resistance'!C169","v":""},{"$f":"IF(D168>0,LOG10(D168),\"\")","v":""},{"$f":"IF(E168<>\"\",IF(E168>0,LOG10(E168),\"\"),\"\")","v":""},{"$f":"IF(AND(H168<>\"\",H168>0),LOG10(A*mu0*(9/8)*eps/(d_cm*d_cm*d_cm))+2*H168+0.387*POWER(10,H168/2)*gamma/SQRT(d_cm),\"\")","v":""},{"$f":"IF(AND(I168<>\"\",J168<>\"\"),I168-J168,\"\")","v":""},{"$f":"IF(K168<>\"\",K168*K168,\"\")","v":""},{"$f":"IF(AND(U168<>\"\",G168<>\"\"),IF(OR(G168/U168>1.258,G168/U168<0.794),\"\",F168),\"\")","v":""},{"$f":"B168","v":0},"",null,null,null,null,{"$f":"F168","v":0},""]
[131,{"$f":"'3) Built-in voltage compensatio'!F166","v":0},{"$f":"'3) Built-in voltage compensatio'!G166","v":""},0,"",{"$f":"'2) Check for series resistance'!D170-V_bi","v":0},{"$f":"'2) Check for series resistance'!C170","v":""},"","","","","","",0,"",null,null,null,null,0,""]
[132,{"$f":"'3) Built-in voltage compensatio'!F167","v":0},{"$f":"'3) Built-in voltage compensatio'!G167","v":""},0,"",{"$f":"'2) Check for series resistance'!D171-V_bi","v":0},{"$f":"'2) Check for series resistance'!C171","v":""},"","","","","","",0,"",null,null,null,null,0,""]
[133,{"$f":"'3) Built-in voltage compensatio'!F168","v":0},{"$f":"'3) Built-in voltage compensatio'!G168","v":""},0,"",{"$f":"'2) Check for series resistance'!D172-V_bi","v":0},{"$f":"'2) Check for series resistance'!C172","v":""},"","","","","","",0,"",null,null,null,null,0,""]
[134,{"$f":"'3) Built-in voltage compensatio'!F169","v":0},{"$f":"'3) Built-in voltage compensatio'!G169","v":""},0,"",{"$f":"'2) Check for series resistance'!D173-V_bi","v":0},{"$f":"'2) Check for series resistance'!C173","v":""},"","","","","","",0,"",null,null,null,null,0,""]
[135,{"$f":"'3) Built-in voltage compensatio'!F170","v":0},{"$f":"'3) Built-in voltage compensatio'!G170","v":""},0,"",{"$f":"'2) Check for series resistance'!D174-V_bi","v":0},{"$f":"'2) Check for series resistance'!C174","v":""},"","","","","","",0,"",null,null,null,null,0,""]
[136,{"$f":"'3) Built-in voltage compensatio'!F171","v":0},{"$f":"'3) Built-in voltage compensatio'!G171","v":""},0,"",{"$f":"'2) Check for series resistance'!D175-V_bi","v":0},{"$f":"'2) Check for series resistance'!C175","v":""},"","","","","","",0,"",null,null,null,null,0,""]
[137,{"$f":"'3) Built-in voltage compensatio'!F172","v":0},{"$f":"'3) Built-in voltage compensatio'!G172","v":""},0,"",{"$f":"'2) Check for series resistance'!D176-V_bi","v":0},{"$f":"'2) Check for series resistance'!C176","v":""},"","","","","","",0,"",null,null,null,null,0,""]
[138,{"$f":"'3) Built-in voltage compensatio'!F173","v":0},{"$f":"'3) Built-in voltage compensatio'!G173","v":""},0,"",{"$f":"'2) Check for series resistance'!D177-V_bi","v":0},{"$f":"'2) Check for series resistance'!C177","v":""},"","","","","","",0,"",null,null,null,null,0,""]
[139,{"$f":"'3) Built-in voltage compensatio'!F174","v":0},{"$f":"'3) Built-in voltage compensatio'!G174","v":""},0,"",{"$f":"'2) Check for series resistance'!D178-V_bi","v":0},{"$f":"'2) Check for series resistance'!C178","v":""},"","","","","","",0,"",null,null,null,null,0,""]
[140,{"$f":"'3) Built-in voltage compensatio'!F175","v":0},{"$f":"'3) Built-in voltage compensatio'!G175","v":""},0,"",{"$f":"'2) Check for series resistance'!D179-V_bi","v":0},{"$f":"'2) Check for series resistance'!C179","v":""},"","","","","","",0,"",null,null,null,null,0,""]
[141,{"$f":"'3) Built-in voltage compensatio'!F176","v":0},{"$f":"'3) Built-in voltage compensatio'!G176","v":""},0,"",{"$f":"'2) Check for series resistance'!D180-V_bi","v":0},{"$f":"'2) Check for series resistance'!C180","v":""},"","","","","","",0,"",null,null,null,null,0,""]
[142,{"$f":"'3) Built-in voltage compensatio'!F177","v":0},{"$f":"'3) Built-in voltage compensatio'!G177","v":""},0,"",{"$f":"'2) Check for series resistance'!D181-V_bi","v":0},{"$f":"'2) Check for series resistance'!C181","v":""},"","","","","","",0,"",null,null,null,null,0,""]
[143,{"$f":"'3) Built-in voltage compensatio'!F178","v":0},{"$f":"'3) Built-in voltage compensatio'!G178","v":""},0,"",{"$f":"'2) Check for series resistance'!D182-V_bi","v":0},{"$f":"'2) Check for series resistance'!C182","v":""},"","","","","","",0,"",null,null,null,null,0,""]
[144,{"$f":"'3) Built-in voltage compensatio'!F179","v":0},{"$f":"'3) Built-in voltage compensatio'!G179","v":""},0,"",{"$f":"'2) Check for series resistance'!D183-V_bi","v":0},{"$f":"'2) Check for series resistance'!C183","v":""},"","","","","","",0,"",null,null,null,null,0,""]
[145,{"$f":"'3) Built-in voltage compensatio'!F180","v":0},{"$f":"'3) Built-in voltage compensatio'!G180","v":""},0,"",{"$f":"'2) Check for series resistance'!D184-V_bi","v":0},{"$f":"'2) Check for series resistance'!C184","v":""},"","","","","","",0,"",null,null,null,null,0,""]
[146,{"$f":"'3) Built-in voltage compensatio'!F181","v":0},{"$f":"'3) Built-in voltage compensatio'!G181","v":""},0,"",{"$f":"'2) Check for series resistance'!D185-V_bi","v":0},{"$f":"'2) Check for series resistance'!C185","v":""},"","","","","","",0,"",null,null,null,null,0,""]
[147,{"$f":"'3) Built-in voltage compensatio'!F182","v":0},{"$f":"'3) Built-in voltage compensatio'!G182","v":""},0,"",{"$f":"'2) Check for series resistance'!D186-V_bi","v":0},{"$f":"'2) Check for series resistance'!C186","v":""},"","","","","","",0,"",null,null,null,null,0,""]
[148,{"$f":"'3) Built-in voltage compensatio'!F183","v":0},{"$f":"'3) Built-in voltage compensatio'!G183","v":""},0,"",{"$f":"'2) Check for series resistance'!D187-V_bi","v":0},{"$f":"'2) Check for series resistance'!C187","v":""},"","","","","","",0,"",null,null,null,null,0,""]
[149,{"$f":"'3) Built-in voltage compensatio'!F184","v":0},{"$f":"'3) Built-in voltage compensatio'!G184","v":""},0,"",{"$f":"'2) Check for series resistance'!D188-V_bi","v":0},{"$f":"'2) Check for series resistance'!C188","v":""},"","","","","","",0,"",null,null,null,null,0,""]
[150,{"$f":"'3) Built-in voltage compensatio'!F185","v":0},{"$f":"'3) Built-in voltage compensatio'!G185","v":""},0,"",{"$f":"'2) Check for series resistance'!D189-V_bi","v":0},{"$f":"'2) Check for series resistance'!C189","v":""},"","","","","","",0,"",null,null,null,null,0,""]
[151,{"$f":"'3) Built-in voltage compensatio'!F186","v":0},{"$f":"'3) Built-in voltage compensatio'!G186","v":""},0,"",{"$f":"'2) Check for series resistance'!D190-V_bi","v":0},{"$f":"'2) Check for series resistance'!C190","v":""},"","","","","","",0,"",null,null,null,null,0,""]
[152,{"$f":"'3) Built-in voltage compensatio'!F187","v":0},{"$f":"'3) Built-in voltage compensatio'!G187","v":""},0,"",{"$f":"'2) Check for series resistance'!D191-V_bi","v":0},{"$f":"'2) Check for series resistance'!C191","v":""},"","","","","","",0,"",null,null,null,null,0,""]
[153,{"$f":"'3) Built-in voltage compensatio'!F188","v":0},{"$f":"'3) Built-in voltage compensatio'!G188","v":""},0,"",{"$f":"'2) Check for series resistance'!D192-V_bi","v":0},{"$f":"'2) Check for series resistance'!C192","v":""},"","","","","","",0,"",null,null,null,null,0,""]
[154,{"$f":"'3) Built-in voltage compensatio'!F189","v":0},{"$f":"'3) Built-in voltage compensatio'!G189","v":""},0,"",{"$f":"'2) Check for series resistance'!D193-V_bi","v":0},{"$f":"'2) Check for series resistance'!C193","v":""},"","","","","","",0,"",null,null,null,null,0,""]
[155,{"$f":"'3) Built-in voltage compensatio'!F190","v":0},{"$f":"'3) Built-in voltage compensatio'!G190","v":""},0,"",{"$f":"'2) Check for series resistance'!D194-V_bi","v":0},{"$f":"'2) Check for series resistance'!C194","v":""},"","","","","","",0,"",null,null,null,null,0,""]
[156,{"$f":"'3) Built-in voltage compensatio'!F191","v":0},{"$f":"'3) Built-in voltage compensatio'!G191","v":""},0,"",{"$f":"'2) Check for series resistance'!D195-V_bi","v":0},{"$f":"'2) Check for series resistance'!C195","v":""},"","","","","","",0,"",null,null,null,null,0,""]
[157,{"$f":"'3) Built-in voltage compensatio'!F192","v":0},{"$f":"'3) Built-in voltage compensatio'!G192","v":""},0,"",{"$f":"'2) Check for series resistance'!D196-V_bi","v":0},{"$f":"'2) Check for series resistance'!C196","v":""},"","","","","","",0,"",null,null,null,null,0,""]
[158,{"$f":"'3) Built-in voltage compensatio'!F193","v":0},{"$f":"'3) Built-in voltage compensatio'!G193","v":""},0,"",{"$f":"'2) Check for series resistance'!D197-V_bi","v":0},{"$f":"'2) Check for series resistance'!C197","v":""},"","","","","","",0,"",null,null,null,null,0,""]
[159,{"$f":"'3) Built-in voltage compensatio'!F194","v":0},{"$f":"'3) Built-in voltage compensatio'!G194","v":""},0,"",{"$f":"'2) Check for series resistance'!D198-V_bi","v":0},{"$f":"'2) Check for series resistance'!C198","v":""},"","","","","","",0,"",null,null,null,null,0,""]
[160,{"$f":"'3) Built-in voltage compensatio'!F195","v":0},{"$f":"'3) Built-in voltage compensatio'!G195","v":""},0,"",{"$f":"'2) Check for series resistance'!D199-V_bi","v":0},{"$f":"'2) Check for series resistance'!C199","v":""},"","","","","","",0,"",null,null,null,null,0,""]
[161,{"$f":"'3) Built-in voltage compensatio'!F196","v":0},{"$f":"'3) Built-in voltage compensatio'!G196","v":""},0,"",{"$f":"'2) Check for series resistance'!D200-V_bi","v":0},{"$f":"'2) Check for series resistance'!C200","v":""},"","","","","","",0,"",null,null,null,null,0,""]
[162,{"$f":"'3) Built-in voltage compensatio'!F197","v":0},{"$f":"'3) Built-in voltage compensatio'!G197","v":""},0,"",{"$f":"'2) Check for series resistance'!D201-V_bi","v":0},{"$f":"'2) Check for series resistance'!C201","v":""},"","","","","","",0,"",null,null,null,null,0,""]
[163,{"$f":"'3) Built-in voltage compensatio'!F198","v":0},{"$f":"'3) Built-in voltage compensatio'!G198","v":""},0,"",{"$f":"'2) Check for series resistance'!D202-V_bi","v":0},{"$f":"'2) Check for series resistance'!C202","v":""},"","","","","","",0,"",null,null,null,null,0,""]
[164,{"$f":"'3) Built-in voltage compensatio'!F199","v":0},{"$f":"'3) Built-in voltage compensatio'!G199","v":""},0,"",{"$f":"'2) Check for series resistance'!D203-V_bi","v":0},{"$f":"'2) Check for series resistance'!C203","v":""},"","","","","","",0,"",null,null,null,null,0,""]
[165,{"$f":"'3) Built-in voltage compensatio'!F200","v":0},{"$f":"'3) Built-in voltage compensatio'!G200","v":""},0,"",{"$f":"'2) Check for series resistance'!D204-V_bi","v":0},{"$f":"'2) Check for series resistance'!C204","v":""},"","","","","","",0,"",null,null,null,null,0,""]
[166,{"$f":"'3) Built-in voltage compensatio'!F201","v":0},{"$f":"'3) Built-in voltage compensatio'!G201","v":""},0,"",{"$f":"'2) Check for series resistance'!D205-V_bi","v":0},{"$f":"'2) Check for series resistance'!C205","v":""},"","","","","","",0,"",null,null,null,null,0,""]
[167,{"$f":"'3) Built-in voltage compensatio'!F202","v":0},{"$f":"'3) Built-in voltage compensatio'!G202","v":""},0,"",{"$f":"'2) Check for series resistance'!D206-V_bi","v":0},{"$f":"'2) Check for series resistance'!C206","v":""},"","","","","","",0,"",null,null,null,null,0,""]
[168,{"$f":"'3) Built-in voltage compensatio'!F203","v":0},{"$f":"'3) Built-in voltage compensatio'!G203","v":""},0,"",{"$f":"'2) Check for series resistance'!D207-V_bi","v":0},{"$f":"'2) Check for series resistance'!C207","v":""},"","","","","","",0,"",null,null,null,null,0,""]
[169,{"$f":"'3) Built-in voltage compensatio'!F204","v":0},{"$f":"'3) Built-in voltage compensatio'!G204","v":""},0,"",{"$f":"'2) Check for series resistance'!D208-V_bi","v":0},{"$f":"'2) Check for series resistance'!C208","v":""},"","","","","","",0,"",null,null,null,null,0,""]
[170,{"$f":"'3) Built-in voltage compensatio'!F205","v":0},{"$f":"'3) Built-in voltage compensatio'!G205","v":""},0,"",{"$f":"'2) Check for series resistance'!D209-V_bi","v":0},{"$f":"'2) Check for series resistance'!C209","v":""},"","","","","","",0,"",null,null,null,null,0,""]
[171,{"$f":"'3) Built-in voltage compensatio'!F206","v":0},{"$f":"'3) Built-in voltage compensatio'!G206","v":""},0,"",{"$f":"'2) Check for series resistance'!D210-V_bi","v":0},{"$f":"'2) Check for series resistance'!C210","v":""},"","","","","","",0,"",null,null,null,null,0,""]
[172,{"$f":"'3) Built-in voltage compensatio'!F207","v":0},{"$f":"'3) Built-in voltage compensatio'!G207","v":""},0,"",{"$f":"'2) Check for series resistance'!D211-V_bi","v":0},{"$f":"'2) Check for series resistance'!C211","v":""},"","","","","","",0,"",null,null,null,null,0,""]
[173,{"$f":"'3) Built-in voltage compensatio'!F208","v":0},{"$f":"'3) Built-in voltage compensatio'!G208","v":""},0,"",{"$f":"'2) Check for series resistance'!D212-V_bi","v":0},{"$f":"'2) Check for series resistance'!C212","v":""},"","","","","","",0,"",null,null,null,null,0,""]
[174,{"$f":"'3) Built-in voltage compensatio'!F209","v":0},{"$f":"'3) Built-in voltage compensatio'!G209","v":""},0,"",{"$f":"'2) Check for series resistance'!D213-V_bi","v":0},{"$f":"'2) Check for series resistance'!C213","v":""},"","","","","","",0,"",null,null,null,null,0,""]
[175,{"$f":"'3) Built-in voltage compensatio'!F210","v":0},{"$f":"'3) Built-in voltage compensatio'!G210","v":""},0,"",{"$f":"'2) Check for series resistance'!D214-V_bi","v":0},{"$f":"'2) Check for series resistance'!C214","v":""},"","","","","","",0,"",null,null,null,null,0,""]
[176,{"$f":"'3) Built-in voltage compensatio'!F211","v":0},{"$f":"'3) Built-in voltage compensatio'!G211","v":""},0,"",{"$f":"'2) Check for series resistance'!D215-V_bi","v":0},{"$f":"'2) Check for series resistance'!C215","v":""},"","","","","","",0,"",null,null,null,null,0,""]
[177,{"$f":"'3) Built-in voltage compensatio'!F212","v":0},{"$f":"'3) Built-in voltage compensatio'!G212","v":""},0,"",{"$f":"'2) Check for series resistance'!D216-V_bi","v":0},{"$f":"'2) Check for series resistance'!C216","v":""},"","","","","","",0,"",null,null,null,null,0,""]
[178,{"$f":"'3) Built-in voltage compensatio'!F213","v":0},{"$f":"'3) Built-in voltage compensatio'!G213","v":""},0,"",{"$f":"'2) Check for series resistance'!D217-V_bi","v":0},{"$f":"'2) Check for series resistance'!C217","v":""},"","","","","","",0,"",null,null,null,null,0,""]
[179,{"$f":"'3) Built-in voltage compensatio'!F214","v":0},{"$f":"'3) Built-in voltage compensatio'!G214","v":""},0,"",{"$f":"'2) Check for series resistance'!D218-V_bi","v":0},{"$f":"'2) Check for series resistance'!C218","v":""},"","","","","","",0,"",null,null,null,null,0,""]
[180,{"$f":"'3) Built-in voltage compensatio'!F215","v":0},{"$f":"'3) Built-in voltage compensatio'!G215","v":""},0,"",{"$f":"'2) Check for series resistance'!D219-V_bi","v":0},{"$f":"'2) Check for series resistance'!C219","v":""},"","","","","","",0,"",null,null,null,null,0,""]
[181,{"$f":"'3) Built-in voltage compensatio'!F216","v":0},{"$f":"'3) Built-in voltage compensatio'!G216","v":""},0,"",{"$f":"'2) Check for series resistance'!D220-V_bi","v":0},{"$f":"'2) Check for series resistance'!C220","v":""},"","","","","","",0,"",null,null,null,null,0,""]
[182,{"$f":"'3) Built-in voltage compensatio'!F217","v":0},{"$f":"'3) Built-in voltage compensatio'!G217","v":""},0,"",{"$f":"'2) Check for series resistance'!D221-V_bi","v":0},{"$f":"'2) Check for series resistance'!C221","v":""},"","","","","","",0,"",null,null,null,null,0,""]
[183,{"$f":"'3) Built-in voltage compensatio'!F218","v":0},{"$f":"'3) Built-in voltage compensatio'!G218","v":""},0,"",{"$f":"'2) Check for series resistance'!D222-V_bi","v":0},{"$f":"'2) Check for series resistance'!C222","v":""},"","","","","","",0,"",null,null,null,null,0,""]
[184,{"$f":"'3) Built-in voltage compensatio'!F219","v":0},{"$f":"'3) Built-in voltage compensatio'!G219","v":""},0,"",{"$f":"'2) Check for series resistance'!D223-V_bi","v":0},{"$f":"'2) Check for series resistance'!C223","v":""},"","","","","","",0,"",null,null,null,null,0,""]
[185,{"$f":"'3) Built-in voltage compensatio'!F220","v":0},{"$f":"'3) Built-in voltage compensatio'!G220","v":""},0,"",{"$f":"'2) Check for series resistance'!D224-V_bi","v":0},{"$f":"'2) Check for series resistance'!C224","v":""},"","","","","","",0,"",null,null,null,null,0,""]
[186,{"$f":"'3) Built-in voltage compensatio'!F221","v":0},{"$f":"'3) Built-in voltage compensatio'!G221","v":""},0,"",{"$f":"'2) Check for series resistance'!D225-V_bi","v":0},{"$f":"'2) Check for series resistance'!C225","v":""},"","","","","","",0,"",null,null,null,null,0,""]
[187,{"$f":"'3) Built-in voltage compensatio'!F222","v":0},{"$f":"'3) Built-in voltage compensatio'!G222","v":""},0,"",{"$f":"'2) Check for series resistance'!D226-V_bi","v":0},{"$f":"'2) Check for series resistance'!C226","v":""},"","","","","","",0,"",null,null,null,null,0,""]
[188,{"$f":"'3) Built-in voltage compensatio'!F223","v":0},{"$f":"'3) Built-in voltage compensatio'!G223","v":""},0,"",{"$f":"'2) Check for series resistance'!D227-V_bi","v":0},{"$f":"'2) Check for series resistance'!C227","v":""},"","","","","","",0,"",null,null,null,null,0,""]
[189,{"$f":"'3) Built-in voltage compensatio'!F224","v":0},{"$f":"'3) Built-in voltage compensatio'!G224","v":""},0,"",{"$f":"'2) Check for series resistance'!D228-V_bi","v":0},{"$f":"'2) Check for series resistance'!C228","v":""},"","","","","","",0,"",null,null,null,null,0,""]
[190,{"$f":"'3) Built-in voltage compensatio'!F225","v":0},{"$f":"'3) Built-in voltage compensatio'!G225","v":""},0,"",{"$f":"'2) Check for series resistance'!D229-V_bi","v":0},{"$f":"'2) Check for series resistance'!C229","v":""},"","","","","","",0,"",null,null,null,null,0,""]
[191,{"$f":"'3) Built-in voltage compensatio'!F226","v":0},{"$f":"'3) Built-in voltage compensatio'!G226","v":""},0,"",{"$f":"'2) Check for series resistance'!D230-V_bi","v":0},{"$f":"'2) Check for series resistance'!C230","v":""},"","","","","","",0,"",null,null,null,null,0,""]
[192,{"$f":"'3) Built-in voltage compensatio'!F227","v":0},{"$f":"'3) Built-in voltage compensatio'!G227","v":""},0,"",{"$f":"'2) Check for series resistance'!D231-V_bi","v":0},{"$f":"'2) Check for series resistance'!C231","v":""},"","","","","","",0,"",null,null,null,null,0,""]
[193,{"$f":"'3) Built-in voltage compensatio'!F228","v":0},{"$f":"'3) Built-in voltage compensatio'!G228","v":""},0,{"$f":"IF(D231>=Vloewr,IF(D231<=Vupper,C231,\"\"),\"\")","v":""},{"$f":"'2) Check for series resistance'!D232-V_bi","v":0},{"$f":"'2) Check for series resistance'!C232","v":""},"","","","","","",0,{"$f":"IF(N231>0,A*(9/8)*mu0*eps*(B231*B231)/(d_cm*d_cm*d_cm)*EXP(0.891*gamma*SQRT(B231/d_cm)),\"\")","v":""},null,null,null,null,0,{"$f":"IF(T231>0,A*(9/8)*mu0*eps*(F231*F231)/(d_cm*d_cm*d_cm)*EXP(0.891*gamma*SQRT(F231/d_cm)),\"\")","v":""}]
[194,{"$f":"'3) Built-in voltage compensatio'!F229","v":0},{"$f":"'3) Built-in voltage compensatio'!G229","v":""},{"$f":"B232","v":0},"",{"$f":"'2) Check for series resistance'!D233-V_bi","v":0},{"$f":"'2) Check for series resistance'!C233","v":""},{"$f":"IF(D232>0,LOG10(D232),\"\")","v":""},{"$f":"IF(E232<>\"\",IF(E232>0,LOG10(E232),\"\"),\"\")","v":""},{"$f":"IF(AND(H232<>\"\",H232>0),LOG10(A*mu0*(9/8)*eps/(d_cm*d_cm*d_cm))+2*H232+0.387*POWER(10,H232/2)*gamma/SQRT(d_cm),\"\")","v":""},{"$f":"IF(AND(I232<>\"\",J232<>\"\"),I232-J232,\"\")","v":""},{"$f":"IF(K232<>\"\",K232*K232,\"\")","v":""},{"$f":"IF(AND(U232<>\"\",G232<>\"\"),IF(OR(G232/U232>1.258,G232/U232<0.794),\"\",F232),\"\")","v":""},{"$f":"B232","v":0},"",null,null,null,null,{"$f":"F232","v":0},""]
[195,{"$f":"'3) Built-in voltage compensatio'!F230","v":0},{"$f":"'3) Built-in voltage compensatio'!G230","v":""},0,"",{"$f":"'2) Check for series resistance'!D234-V_bi","v":0},{"$f":"'2) Check for series resistance'!C234","v":""},"","","","","","",0,"",null,null,null,null,0,""]
[196,{"$f":"'3) Built-in voltage compensatio'!F231","v":0},{"$f":"'3) Built-in voltage compensatio'!G231","v":""},0,"",{"$f":"'2) Check for series resistance'!D235-V_bi","v":0},{"$f":"'2) Check for series resistance'!C235","v":""},"","","","","","",0,"",null,null,null,null,0,""]
[197,{"$f":"'3) Built-in voltage compensatio'!F232","v":0},{"$f":"'3) Built-in voltage compensatio'!G232","v":""},0,"",{"$f":"'2) Check for series resistance'!D236-V_bi","v":0},{"$f":"'2) Check for series resistance'!C236","v":""},"","","","","","",0,"",null,null,null,null,0,""]
[198,{"$f":"'3) Built-in voltage compensatio'!F233","v":0},{"$f":"'3) Built-in voltage compensatio'!G233","v":""},0,"",{"$f":"'2) Check for series resistance'!D237-V_bi","v":0},{"$f":"'2) Check for series resistance'!C237","v":""},"","","","","","",0,"",null,null,null,null,0,""]
[199,{"$f":"'3) Built-in voltage compensatio'!F234","v":0},{"$f":"'3) Built-in voltage compensatio'!G234","v":""},0,"",{"$f":"'2) Check for series resistance'!D238-V_bi","v":0},{"$f":"'2) Check for series resistance'!C238","v":""},"","","","","","",0,"",null,null,null,null,0,""]
[200,{"$f":"'3) Built-in voltage compensatio'!F235","v":0},{"$f":"'3) Built-in voltage compensatio'!G235","v":""},0,"",{"$f":"'2) Check for series resistance'!D239-V_bi","v":0},{"$f":"'2) Check for series resistance'!C239","v":""},"","","","","","",0,"",null,null,null,null,0,""]
[201,{"$f":"'3) Built-in voltage compensatio'!F236","v":0},{"$f":"'3) Built-in voltage compensatio'!G236","v":""},0,"",{"$f":"'2) Check for series resistance'!D240-V_bi","v":0},{"$f":"'2) Check for series resistance'!C240","v":""},"","","","","","",0,"",null,null,null,null,0,""]
[202,{"$f":"'3) Built-in voltage compensatio'!F237","v":0},{"$f":"'3) Built-in voltage compensatio'!G237","v":""},0,"",{"$f":"'2) Check for series resistance'!D241-V_bi","v":0},{"$f":"'2) Check for series resistance'!C241","v":""},"","","","","","",0,"",null,null,null,null,0,""]
[203,{"$f":"'3) Built-in voltage compensatio'!F238","v":0},{"$f":"'3) Built-in voltage compensatio'!G238","v":""},0,"",{"$f":"'2) Check for series resistance'!D242-V_bi","v":0},{"$f":"'2) Check for series resistance'!C242","v":""},"","","","","","",0,"",null,null,null,null,0,""]
[204,{"$f":"'3) Built-in voltage compensatio'!F239","v":0},{"$f":"'3) Built-in voltage compensatio'!G239","v":""},0,"",{"$f":"'2) Check for series resistance'!D243-V_bi","v":0},{"$f":"'2) Check for series resistance'!C243","v":""},"","","","","","",0,"",null,null,null,null,0,""]
[205,{"$f":"'3) Built-in voltage compensatio'!F240","v":0},{"$f":"'3) Built-in voltage compensatio'!G240","v":""},0,"",{"$f":"'2) Check for series resistance'!D244-V_bi","v":0},{"$f":"'2) Check for series resistance'!C244","v":""},"","","","","","",0,"",null,null,null,null,0,""]
[206,{"$f":"'3) Built-in voltage compensatio'!F241","v":0},{"$f":"'3) Built-in voltage compensatio'!G241","v":""},0,"",{"$f":"'2) Check for series resistance'!D245-V_bi","v":0},{"$f":"'2) Check for series resistance'!C245","v":""},"","","","","","",0,"",null,null,null,null,0,""]
[207,{"$f":"'3) Built-in voltage compensatio'!F242","v":0},{"$f":"'3) Built-in voltage compensatio'!G242","v":""},0,"",{"$f":"'2) Check for series resistance'!D246-V_bi","v":0},{"$f":"'2) Check for series resistance'!C246","v":""},"","","","","","",0,"",null,null,null,null,0,""]
[208,{"$f":"'3) Built-in voltage compensatio'!F243","v":0},{"$f":"'3) Built-in voltage compensatio'!G243","v":""},0,"",{"$f":"'2) Check for series resistance'!D247-V_bi","v":0},{"$f":"'2) Check for series resistance'!C247","v":""},"","","","","","",0,"",null,null,null,null,0,""]
[209,{"$f":"'3) Built-in voltage compensatio'!F244","v":0},{"$f":"'3) Built-in voltage compensatio'!G244","v":""},0,"",{"$f":"'2) Check for series resistance'!D248-V_bi","v":0},{"$f":"'2) Check for series resistance'!C248","v":""},"","","","","","",0,"",null,null,null,null,0,""]
[210,{"$f":"'3) Built-in voltage compensatio'!F245","v":0},{"$f":"'3) Built-in voltage compensatio'!G245","v":""},0,"",{"$f":"'2) Check for series resistance'!D249-V_bi","v":0},{"$f":"'2) Check for series resistance'!C249","v":""},"","","","","","",0,"",null,null,null,null,0,""]
[211,{"$f":"'3) Built-in voltage compensatio'!F246","v":0},{"$f":"'3) Built-in voltage compensatio'!G246","v":""},0,"",{"$f":"'2) Check for series resistance'!D250-V_bi","v":0},{"$f":"'2) Check for series resistance'!C250","v":""},"","","","","","",0,"",null,null,null,null,0,""]
[212,{"$f":"'3) Built-in voltage compensatio'!F247","v":0},{"$f":"'3) Built-in voltage compensatio'!G247","v":""},0,"",{"$f":"'2) Check for series resistance'!D251-V_bi","v":0},{"$f":"'2) Check for series resistance'!C251","v":""},"","","","","","",0,"",null,null,null,null,0,""]
[213,{"$f":"'3) Built-in voltage compensatio'!F248","v":0},{"$f":"'3) Built-in voltage compensatio'!G248","v":""},0,"",{"$f":"'2) Check for series resistance'!D252-V_bi","v":0},{"$f":"'2) Check for series resistance'!C252","v":""},"","","","","","",0,"",null,null,null,null,0,""]
[214,{"$f":"'3) Built-in voltage compensatio'!F249","v":0},{"$f":"'3) Built-in voltage compensatio'!G249","v":""},0,"",{"$f":"'2) Check for series resistance'!D253-V_bi","v":0},{"$f":"'2) Check for series resistance'!C253","v":""},"","","","","","",0,"",null,null,null,null,0,""]
[215,{"$f":"'3) Built-in voltage compensatio'!F250","v":0},{"$f":"'3) Built-in voltage compensatio'!G250","v":""},0,"",{"$f":"'2) Check for series resistance'!D254-V_bi","v":0},{"$f":"'2) Check for series resistance'!C254","v":""},"","","","","","",0,"",null,null,null,null,0,""]
[216,{"$f":"'3) Built-in voltage compensatio'!F251","v":0},{"$f":"'3) Built-in voltage compensatio'!G251","v":""},0,"",{"$f":"'2) Check for series resistance'!D255-V_bi","v":0},{"$f":"'2) Check for series resistance'!C255","v":""},"","","","","","",0,"",null,null,null,null,0,""]
[217,{"$f":"'3) Built-in voltage compensatio'!F252","v":0},{"$f":"'3) Built-in voltage compensatio'!G252","v":""},0,"",{"$f":"'2) Check for series resistance'!D256-V_bi","v":0},{"$f":"'2) Check for series resistance'!C256","v":""},"","","","","","",0,"",null,null,null,null,0,""]
[218,{"$f":"'3) Built-in voltage compensatio'!F253","v":0},{"$f":"'3) Built-in voltage compensatio'!G253","v":""},0,"",{"$f":"'2) Check for series resistance'!D257-V_bi","v":0},{"$f":"'2) Check for series resistance'!C257","v":""},"","","","","","",0,"",null,null,null,null,0,""]
[219,{"$f":"'3) Built-in voltage compensatio'!F254","v":0},{"$f":"'3) Built-in voltage compensatio'!G254","v":""},0,"",{"$f":"'2) Check for series resistance'!D258-V_bi","v":0},{"$f":"'2) Check for series resistance'!C258","v":""},"","","","","","",0,"",null,null,null,null,0,""]
[220,{"$f":"'3) Built-in voltage compensatio'!F255","v":0},{"$f":"'3) Built-in voltage compensatio'!G255","v":""},0,"",{"$f":"'2) Check for series resistance'!D259-V_bi","v":0},{"$f":"'2) Check for series resistance'!C259","v":""},"","","","","","",0,"",null,null,null,null,0,""]
[221,{"$f":"'3) Built-in voltage compensatio'!F256","v":0},{"$f":"'3) Built-in voltage compensatio'!G256","v":""},0,"",{"$f":"'2) Check for series resistance'!D260-V_bi","v":0},{"$f":"'2) Check for series resistance'!C260","v":""},"","","","","","",0,"",null,null,null,null,0,""]
[222,{"$f":"'3) Built-in voltage compensatio'!F257","v":0},{"$f":"'3) Built-in voltage compensatio'!G257","v":""},0,"",{"$f":"'2) Check for series resistance'!D261-V_bi","v":0},{"$f":"'2) Check for series resistance'!C261","v":""},"","","","","","",0,"",null,null,null,null,0,""]
[223,{"$f":"'3) Built-in voltage compensatio'!F258","v":0},{"$f":"'3) Built-in voltage compensatio'!G258","v":""},0,"",{"$f":"'2) Check for series resistance'!D262-V_bi","v":0},{"$f":"'2) Check for series resistance'!C262","v":""},"","","","","","",0,"",null,null,null,null,0,""]
[224,{"$f":"'3) Built-in voltage compensatio'!F259","v":0},{"$f":"'3) Built-in voltage compensatio'!G259","v":""},0,"",{"$f":"'2) Check for series resistance'!D263-V_bi","v":0},{"$f":"'2) Check for series resistance'!C263","v":""},"","","","","","",0,"",null,null,null,null,0,""]
[225,{"$f":"'3) Built-in voltage compensatio'!F260","v":0},{"$f":"'3) Built-in voltage compensatio'!G260","v":""},0,"",{"$f":"'2) Check for series resistance'!D264-V_bi","v":0},{"$f":"'2) Check for series resistance'!C264","v":""},"","","","","","",0,"",null,null,null,null,0,""]
[226,{"$f":"'3) Built-in voltage compensatio'!F261","v":0},{"$f":"'3) Built-in voltage compensatio'!G261","v":""},0,"",{"$f":"'2) Check for series resistance'!D265-V_bi","v":0},{"$f":"'2) Check for series resistance'!C265","v":""},"","","","","","",0,"",null,null,null,null,0,""]
[227,{"$f":"'3) Built-in voltage compensatio'!F262","v":0},{"$f":"'3) Built-in voltage compensatio'!G262","v":""},0,"",{"$f":"'2) Check for series resistance'!D266-V_bi","v":0},{"$f":"'2) Check for series resistance'!C266","v":""},"","","","","","",0,"",null,null,null,null,0,""]
[228,{"$f":"'3) Built-in voltage compensatio'!F263","v":0},{"$f":"'3) Built-in voltage compensatio'!G263","v":""},0,"",{"$f":"'2) Check for series resistance'!D267-V_bi","v":0},{"$f":"'2) Check for series resistance'!C267","v":""},"","","","","","",0,"",null,null,null,null,0,""]
[229,{"$f":"'3) Built-in voltage compensatio'!F264","v":0},{"$f":"'3) Built-in voltage compensatio'!G264","v":""},0,"",{"$f":"'2) Check for series resistance'!D268-V_bi","v":0},{"$f":"'2) Check for series resistance'!C268","v":""},"","","","","","",0,"",null,null,null,null,0,""]
[230,{"$f":"'3) Built-in voltage compensatio'!F265","v":0},{"$f":"'3) Built-in voltage compensatio'!G265","v":""},0,"",{"$f":"'2) Check for series resistance'!D269-V_bi","v":0},{"$f":"'2) Check for series resistance'!C269","v":""},"","","","","","",0,"",null,null,null,null,0,""]
[231,{"$f":"'3) Built-in voltage compensatio'!F266","v":0},{"$f":"'3) Built-in voltage compensatio'!G266","v":""},0,"",{"$f":"'2) Check for series resistance'!D270-V_bi","v":0},{"$f":"'2) Check for series resistance'!C270","v":""},"","","","","","",0,"",null,null,null,null,0,""]
[232,{"$f":"'3) Built-in voltage compensatio'!F267","v":0},{"$f":"'3) Built-in voltage compensatio'!G267","v":""},0,"",{"$f":"'2) Check for series resistance'!D271-V_bi","v":0},{"$f":"'2) Check for series resistance'!C271","v":""},"","","","","","",0,"",null,null,null,null,0,""]
[233,{"$f":"'3) Built-in voltage compensatio'!F268","v":0},{"$f":"'3) Built-in voltage compensatio'!G268","v":""},0,"",{"$f":"'2) Check for series resistance'!D272-V_bi","v":0},{"$f":"'2) Check for series resistance'!C272","v":""},"","","","","","",0,"",null,null,null,null,0,""]
[234,{"$f":"'3) Built-in voltage compensatio'!F269","v":0},{"$f":"'3) Built-in voltage compensatio'!G269","v":""},0,"",{"$f":"'2) Check for series resistance'!D273-V_bi","v":0},{"$f":"'2) Check for series resistance'!C273","v":""},"","","","","","",0,"",null,null,null,null,0,""]
[235,{"$f":"'3) Built-in voltage compensatio'!F270","v":0},{"$f":"'3) Built-in voltage compensatio'!G270","v":""},0,"",{"$f":"'2) Check for series resistance'!D274-V_bi","v":0},{"$f":"'2) Check for series resistance'!C274","v":""},"","","","","","",0,"",null,null,null,null,0,""]
[236,{"$f":"'3) Built-in voltage compensatio'!F271","v":0},{"$f":"'3) Built-in voltage compensatio'!G271","v":""},0,"",{"$f":"'2) Check for series resistance'!D275-V_bi","v":0},{"$f":"'2) Check for series resistance'!C275","v":""},"","","","","","",0,"",null,null,null,null,0,""]
[237,{"$f":"'3) Built-in voltage compensatio'!F272","v":0},{"$f":"'3) Built-in voltage compensatio'!G272","v":""},0,"",{"$f":"'2) Check for series resistance'!D276-V_bi","v":0},{"$f":"'2) Check for series resistance'!C276","v":""},"","","","","","",0,"",null,null,null,null,0,""]
[238,{"$f":"'3) Built-in voltage compensatio'!F273","v":0},{"$f":"'3) Built-in voltage compensatio'!G273","v":""},0,"",{"$f":"'2) Check for series resistance'!D277-V_bi","v":0},{"$f":"'2) Check for series resistance'!C277","v":""},"","","","","","",0,"",null,null,null,null,0,""]
[239,{"$f":"'3) Built-in voltage compensatio'!F274","v":0},{"$f":"'3) Built-in voltage compensatio'!G274","v":""},0,"",{"$f":"'2) Check for series resistance'!D278-V_bi","v":0},{"$f":"'2) Check for series resistance'!C278","v":""},"","","","","","",0,"",null,null,null,null,0,""]
[240,{"$f":"'3) Built-in voltage compensatio'!F275","v":0},{"$f":"'3) Built-in voltage compensatio'!G275","v":""},0,"",{"$f":"'2) Check for series resistance'!D279-V_bi","v":0},{"$f":"'2) Check for series resistance'!C279","v":""},"","","","","","",0,"",null,null,null,null,0,""]
[241,{"$f":"'3) Built-in voltage compensatio'!F276","v":0},{"$f":"'3) Built-in voltage compensatio'!G276","v":""},0,"",{"$f":"'2) Check for series resistance'!D280-V_bi","v":0},{"$f":"'2) Check for series resistance'!C280","v":""},"","","","","","",0,"",null,null,null,null,0,""]
[242,{"$f":"'3) Built-in voltage compensatio'!F277","v":0},{"$f":"'3) Built-in voltage compensatio'!G277","v":""},0,"",{"$f":"'2) Check for series resistance'!D281-V_bi","v":0},{"$f":"'2) Check for series resistance'!C281","v":""},"","","","","","",0,"",null,null,null,null,0,""]
[243,{"$f":"'3) Built-in voltage compensatio'!F278","v":0},{"$f":"'3) Built-in voltage compensatio'!G278","v":""},0,"",{"$f":"'2) Check for series resistance'!D282-V_bi","v":0},{"$f":"'2) Check for series resistance'!C282","v":""},"","","","","","",0,"",null,null,null,null,0,""]
[244,{"$f":"'3) Built-in voltage compensatio'!F279","v":0},{"$f":"'3) Built-in voltage compensatio'!G279","v":""},0,"",{"$f":"'2) Check for series resistance'!D283-V_bi","v":0},{"$f":"'2) Check for series resistance'!C283","v":""},"","","","","","",0,"",null,null,null,null,0,""]
[245,{"$f":"'3) Built-in voltage compensatio'!F280","v":0},{"$f":"'3) Built-in voltage compensatio'!G280","v":""},0,"",{"$f":"'2) Check for series resistance'!D284-V_bi","v":0},{"$f":"'2) Check for series resistance'!C284","v":""},"","","","","","",0,"",null,null,null,null,0,""]
[246,{"$f":"'3) Built-in voltage compensatio'!F281","v":0},{"$f":"'3) Built-in voltage compensatio'!G281","v":""},0,"",{"$f":"'2) Check for series resistance'!D285-V_bi","v":0},{"$f":"'2) Check for series resistance'!C285","v":""},"","","","","","",0,"",null,null,null,null,0,""]
[247,{"$f":"'3) Built-in voltage compensatio'!F282","v":0},{"$f":"'3) Built-in voltage compensatio'!G282","v":""},0,"",{"$f":"'2) Check for series resistance'!D286-V_bi","v":0},{"$f":"'2) Check for series resistance'!C286","v":""},"","","","","","",0,"",null,null,null,null,0,""]
[248,{"$f":"'3) Built-in voltage compensatio'!F283","v":0},{"$f":"'3) Built-in voltage compensatio'!G283","v":""},0,"",{"$f":"'2) Check for series resistance'!D287-V_bi","v":0},{"$f":"'2) Check for series resistance'!C287","v":""},"","","","","","",0,"",null,null,null,null,0,""]
[249,{"$f":"'3) Built-in voltage compensatio'!F284","v":0},{"$f":"'3) Built-in voltage compensatio'!G284","v":""},0,"",{"$f":"'2) Check for series resistance'!D288-V_bi","v":0},{"$f":"'2) Check for series resistance'!C288","v":""},"","","","","","",0,"",null,null,null,null,0,""]
[250,{"$f":"'3) Built-in voltage compensatio'!F285","v":0},{"$f":"'3) Built-in voltage compensatio'!G285","v":""},0,"",{"$f":"'2) Check for series resistance'!D289-V_bi","v":0},{"$f":"'2) Check for series resistance'!C289","v":""},"","","","","","",0,"",null,null,null,null,0,""]
[251,{"$f":"'3) Built-in voltage compensatio'!F286","v":0},{"$f":"'3) Built-in voltage compensatio'!G286","v":""},0,"",{"$f":"'2) Check for series resistance'!D290-V_bi","v":0},{"$f":"'2) Check for series resistance'!C290","v":""},"","","","","","",0,"",null,null,null,null,0,""]
[252,{"$f":"'3) Built-in voltage compensatio'!F287","v":0},{"$f":"'3) Built-in voltage compensatio'!G287","v":""},0,"",{"$f":"'2) Check for series resistance'!D291-V_bi","v":0},{"$f":"'2) Check for series resistance'!C291","v":""},"","","","","","",0,"",null,null,null,null,0,""]
[253,{"$f":"'3) Built-in voltage compensatio'!F288","v":0},{"$f":"'3) Built-in voltage compensatio'!G288","v":""},0,"",{"$f":"'2) Check for series resistance'!D292-V_bi","v":0},{"$f":"'2) Check for series resistance'!C292","v":""},"","","","","","",0,"",null,null,null,null,0,""]
[254,{"$f":"'3) Built-in voltage compensatio'!F289","v":0},{"$f":"'3) Built-in voltage compensatio'!G289","v":""},0,"",{"$f":"'2) Check for series resistance'!D293-V_bi","v":0},{"$f":"'2) Check for series resistance'!C293","v":""},"","","","","","",0,"",null,null,null,null,0,""]
[255,{"$f":"'3) Built-in voltage compensatio'!F290","v":0},{"$f":"'3) Built-in voltage compensatio'!G290","v":""},0,"",{"$f":"'2) Check for series resistance'!D294-V_bi","v":0},{"$f":"'2) Check for series resistance'!C294","v":""},"","","","","","",0,"",null,null,null,null,0,""]
[256,{"$f":"'3) Built-in voltage compensatio'!F291","v":0},{"$f":"'3) Built-in voltage compensatio'!G291","v":""},0,"",{"$f":"'2) Check for series resistance'!D295-V_bi","v":0},{"$f":"'2) Check for series resistance'!C295","v":""},"","","","","","",0,"",null,null,null,null,0,""]
[257,{"$f":"'3) Built-in voltage compensatio'!F292","v":0},{"$f":"'3) Built-in voltage compensatio'!G292","v":""},0,{"$f":"IF(D295>=Vloewr,IF(D295<=Vupper,C295,\"\"),\"\")","v":""},{"$f":"'2) Check for series resistance'!D296-V_bi","v":0},{"$f":"'2) Check for series resistance'!C296","v":""},"","","","","","",0,{"$f":"IF(N295>0,A*(9/8)*mu0*eps*(B295*B295)/(d_cm*d_cm*d_cm)*EXP(0.891*gamma*SQRT(B295/d_cm)),\"\")","v":""},null,null,null,null,0,{"$f":"IF(T295>0,A*(9/8)*mu0*eps*(F295*F295)/(d_cm*d_cm*d_cm)*EXP(0.891*gamma*SQRT(F295/d_cm)),\"\")","v":""}]
[258,{"$f":"'3) Built-in voltage compensatio'!F293","v":0},{"$f":"'3) Built-in voltage compensatio'!G293","v":""},{"$f":"B296","v":0},"",{"$f":"'2) Check for series resistance'!D297-V_bi","v":0},{"$f":"'2) Check for series resistance'!C297","v":""},{"$f":"IF(D296>0,LOG10(D296),\"\")","v":""},{"$f":"IF(E296<>\"\",IF(E296>0,LOG10(E296),\"\"),\"\")","v":""},{"$f":"IF(AND(H296<>\"\",H296>0),LOG10(A*mu0*(9/8)*eps/(d_cm*d_cm*d_cm))+2*H296+0.387*POWER(10,H296/2)*gamma/SQRT(d_cm),\"\")","v":""},{"$f":"IF(AND(I296<>\"\",J296<>\"\"),I296-J296,\"\")","v":""},{"$f":"IF(K296<>\"\",K296*K296,\"\")","v":""},{"$f":"IF(AND(U296<>\"\",G296<>\"\"),IF(OR(G296/U296>1.258,G296/U296<0.794),\"\",F296),\"\")","v":""},{"$f":"B296","v":0},"",null,null,null,null,{"$f":"F296","v":0},""]
[259,{"$f":"'3) Built-in voltage compensatio'!F294","v":0},{"$f":"'3) Built-in voltage compensatio'!G294","v":""},0,"",{"$f":"'2) Check for series resistance'!D298-V_bi","v":0},{"$f":"'2) Check for series resistance'!C298","v":""},"","","","","","",0,"",null,null,null,null,0,""]
[260,{"$f":"'3) Built-in voltage compensatio'!F295","v":0},{"$f":"'3) Built-in voltage compensatio'!G295","v":""},0,"",{"$f":"'2) Check for series resistance'!D299-V_bi","v":0},{"$f":"'2) Check for series resistance'!C299","v":""},"","","","","","",0,"",null,null,null,null,0,""]
[261,{"$f":"'3) Built-in voltage compensatio'!F296","v":0},{"$f":"'3) Built-in voltage compensatio'!G296","v":""},0,"",{"$f":"'2) Check for series resistance'!D300-V_bi","v":0},{"$f":"'2) Check for series resistance'!C300","v":""},"","","","","","",0,"",null,null,null,null,0,""]
[262,{"$f":"'3) Built-in voltage compensatio'!F297","v":0},{"$f":"'3) Built-in voltage compensatio'!G297","v":""},0,"",{"$f":"'2) Check for series resistance'!D301-V_bi","v":0},{"$f":"'2) Check for series resistance'!C301","v":""},"","","","","","",0,"",null,null,null,null,0,""]
[263,{"$f":"'3) Built-in voltage compensatio'!F298","v":0},{"$f":"'3) Built-in voltage compensatio'!G298","v":""},0,"",{"$f":"'2) Check for series resistance'!D302-V_bi","v":0},{"$f":"'2) Check for series resistance'!C302","v":""},"","","","","","",0,"",null,null,null,null,0,""]
[264,{"$f":"'3) Built-in voltage compensatio'!F299","v":0},{"$f":"'3) Built-in voltage compensatio'!G299","v":""},0,"",{"$f":"'2) Check for series resistance'!D303-V_bi","v":0},{"$f":"'2) Check for series resistance'!C303","v":""},"","","","","","",0,"",null,null,null,null,0,""]
[265,{"$f":"'3) Built-in voltage compensatio'!F300","v":0},{"$f":"'3) Built-in voltage compensatio'!G300","v":""},0,"",{"$f":"'2) Check for series resistance'!D304-V_bi","v":0},{"$f":"'2) Check for series resistance'!C304","v":""},"","","","","","",0,"",null,null,null,null,0,""]
[266,{"$f":"'3) Built-in voltage compensatio'!F301","v":0},{"$f":"'3) Built-in voltage compensatio'!G301","v":""},0,"",{"$f":"'2) Check for series resistance'!D305-V_bi","v":0},{"$f":"'2) Check for series resistance'!C305","v":""},"","","","","","",0,"",null,null,null,null,0,""]
[267,{"$f":"'3) Built-in voltage compensatio'!F302","v":0},{"$f":"'3) Built-in voltage compensatio'!G302","v":""},0,"",{"$f":"'2) Check for series resistance'!D306-V_bi","v":0},{"$f":"'2) Check for series resistance'!C306","v":""},"","","","","","",0,"",null,null,null,null,0,""]
[268,{"$f":"'3) Built-in voltage compensatio'!F303","v":0},{"$f":"'3) Built-in voltage compensatio'!G303","v":""},0,"",{"$f":"'2) Check for series resistance'!D307-V_bi","v":0},{"$f":"'2) Check for series resistance'!C307","v":""},"","","","","","",0,"",null,null,null,null,0,""]
[269,{"$f":"'3) Built-in voltage compensatio'!F304","v":0},{"$f":"'3) Built-in voltage compensatio'!G304","v":""},0,"",{"$f":"'2) Check for series resistance'!D308-V_bi","v":0},{"$f":"'2) Check for series resistance'!C308","v":""},"","","","","","",0,"",null,null,null,null,0,""]
[270,{"$f":"'3) Built-in voltage compensatio'!F305","v":0},{"$f":"'3) Built-in voltage compensatio'!G305","v":""},0,"",{"$f":"'2) Check for series resistance'!D309-V_bi","v":0},{"$f":"'2) Check for series resistance'!C309","v":""},"","","","","","",0,"",null,null,null,null,0,""]
[271,{"$f":"'3) Built-in voltage compensatio'!F306","v":0},{"$f":"'3) Built-in voltage compensatio'!G306","v":""},0,"",{"$f":"'2) Check for series resistance'!D310-V_bi","v":0},{"$f":"'2) Check for series resistance'!C310","v":""},"","","","","","",0,"",null,null,null,null,0,""]
[272,{"$f":"'3) Built-in voltage compensatio'!F307","v":0},{"$f":"'3) Built-in voltage compensatio'!G307","v":""},0,"",{"$f":"'2) Check for series resistance'!D311-V_bi","v":0},{"$f":"'2) Check for series resistance'!C311","v":""},"","","","","","",0,"",null,null,null,null,0,""]
[273,{"$f":"'3) Built-in voltage compensatio'!F308","v":0},{"$f":"'3) Built-in voltage compensatio'!G308","v":""},0,"",{"$f":"'2) Check for series resistance'!D312-V_bi","v":0},{"$f":"'2) Check for series resistance'!C312","v":""},"","","","","","",0,"",null,null,null,null,0,""]
[274,{"$f":"'3) Built-in voltage compensatio'!F309","v":0},{"$f":"'3) Built-in voltage compensatio'!G309","v":""},0,"",{"$f":"'2) Check for series resistance'!D313-V_bi","v":0},{"$f":"'2) Check for series resistance'!C313","v":""},"","","","","","",0,"",null,null,null,null,0,""]
[275,{"$f":"'3) Built-in voltage compensatio'!F310","v":0},{"$f":"'3) Built-in voltage compensatio'!G310","v":""},0,"",{"$f":"'2) Check for series resistance'!D314-V_bi","v":0},{"$f":"'2) Check for series resistance'!C314","v":""},"","","","","","",0,"",null,null,null,null,0,""]
[276,{"$f":"'3) Built-in voltage compensatio'!F311","v":0},{"$f":"'3) Built-in voltage compensatio'!G311","v":""},0,"",{"$f":"'2) Check for series resistance'!D315-V_bi","v":0},{"$f":"'2) Check for series resistance'!C315","v":""},"","","","","","",0,"",null,null,null,null,0,""]
[277,{"$f":"'3) Built-in voltage compensatio'!F312","v":0},{"$f":"'3) Built-in voltage compensatio'!G312","v":""},0,"",{"$f":"'2) Check for series resistance'!D316-V_bi","v":0},{"$f":"'2) Check for series resistance'!C316","v":""},"","","","","","",0,"",null,null,null,null,0,""]
[278,{"$f":"'3) Built-in voltage compensatio'!F313","v":0},{"$f":"'3) Built-in voltage compensatio'!G313","v":""},0,"",{"$f":"'2) Check for series resistance'!D317-V_bi","v":0},{"$f":"'2) Check for series resistance'!C317","v":""},"","","","","","",0,"",null,null,null,null,0,""]
[279,{"$f":"'3) Built-in voltage compensatio'!F314","v":0},{"$f":"'3) Built-in voltage compensatio'!G314","v":""},0,"",{"$f":"'2) Check for series resistance'!D318-V_bi","v":0},{"$f":"'2) Check for series resistance'!C318","v":""},"","","","","","",0,"",null,null,null,null,0,""]
[280,{"$f":"'3) Built-in voltage compensatio'!F315","v":0},{"$f":"'3) Built-in voltage compensatio'!G315","v":""},0,"",{"$f":"'2) Check for series resistance'!D319-V_bi","v":0},{"$f":"'2) Check for series resistance'!C319","v":""},"","","","","","",0,"",null,null,null,null,0,""]
[281,{"$f":"'3) Built-in voltage compensatio'!F316","v":0},{"$f":"'3) Built-in voltage compensatio'!G316","v":""},0,"",{"$f":"'2) Check for series resistance'!D320-V_bi","v":0},{"$f":"'2) Check for series resistance'!C320","v":""},"","","","","","",0,"",null,null,null,null,0,""]
[282,{"$f":"'3) Built-in voltage compensatio'!F317","v":0},{"$f":"'3) Built-in voltage compensatio'!G317","v":""},0,"",{"$f":"'2) Check for series resistance'!D321-V_bi","v":0},{"$f":"'2) Check for series resistance'!C321","v":""},"","","","","","",0,"",null,null,null,null,0,""]
[283,{"$f":"'3) Built-in voltage compensatio'!F318","v":0},{"$f":"'3) Built-in voltage compensatio'!G318","v":""},0,"",{"$f":"'2) Check for series resistance'!D322-V_bi","v":0},{"$f":"'2) Check for series resistance'!C322","v":""},"","","","","","",0,"",null,null,null,null,0,""]
[284,{"$f":"'3) Built-in voltage compensatio'!F319","v":0},{"$f":"'3) Built-in voltage compensatio'!G319","v":""},0,"",{"$f":"'2) Check for series resistance'!D323-V_bi","v":0},{"$f":"'2) Check for series resistance'!C323","v":""},"","","","","","",0,"",null,null,null,null,0,""]
[285,{"$f":"'3) Built-in voltage compensatio'!F320","v":0},{"$f":"'3) Built-in voltage compensatio'!G320","v":""},0,"",{"$f":"'2) Check for series resistance'!D324-V_bi","v":0},{"$f":"'2) Check for series resistance'!C324","v":""},"","","","","","",0,"",null,null,null,null,0,""]
[286,{"$f":"'3) Built-in voltage compensatio'!F321","v":0},{"$f":"'3) Built-in voltage compensatio'!G321","v":""},0,"",{"$f":"'2) Check for series resistance'!D325-V_bi","v":0},{"$f":"'2) Check for series resistance'!C325","v":""},"","","","","","",0,"",null,null,null,null,0,""]
[287,{"$f":"'3) Built-in voltage compensatio'!F322","v":0},{"$f":"'3) Built-in voltage compensatio'!G322","v":""},0,"",{"$f":"'2) Check for series resistance'!D326-V_bi","v":0},{"$f":"'2) Check for series resistance'!C326","v":""},"","","","","","",0,"",null,null,null,null,0,""]
[288,{"$f":"'3) Built-in voltage compensatio'!F323","v":0},{"$f":"'3) Built-in voltage compensatio'!G323","v":""},0,"",{"$f":"'2) Check for series resistance'!D327-V_bi","v":0},{"$f":"'2) Check for series resistance'!C327","v":""},"","","","","","",0,"",null,null,null,null,0,""]
[289,{"$f":"'3) Built-in voltage compensatio'!F324","v":0},{"$f":"'3) Built-in voltage compensatio'!G324","v":""},0,"",{"$f":"'2) Check for series resistance'!D328-V_bi","v":0},{"$f":"'2) Check for series resistance'!C328","v":""},"","","","","","",0,"",null,null,null,null,0,""]
[290,{"$f":"'3) Built-in voltage compensatio'!F325","v":0},{"$f":"'3) Built-in voltage compensatio'!G325","v":""},0,"",{"$f":"'2) Check for series resistance'!D329-V_bi","v":0},{"$f":"'2) Check for series resistance'!C329","v":""},"","","","","","",0,"",null,null,null,null,0,""]
[291,{"$f":"'3) Built-in voltage compensatio'!F326","v":0},{"$f":"'3) Built-in voltage compensatio'!G326","v":""},0,"",{"$f":"'2) Check for series resistance'!D330-V_bi","v":0},{"$f":"'2) Check for series resistance'!C330","v":""},"","","","","","",0,"",null,null,null,null,0,""]
[292,{"$f":"'3) Built-in voltage compensatio'!F327","v":0},{"$f":"'3) Built-in voltage compensatio'!G327","v":""},0,"",{"$f":"'2) Check for series resistance'!D331-V_bi","v":0},{"$f":"'2) Check for series resistance'!C331","v":""},"","","","","","",0,"",null,null,null,null,0,""]
[293,{"$f":"'3) Built-in voltage compensatio'!F328","v":0},{"$f":"'3) Built-in voltage compensatio'!G328","v":""},0,"",{"$f":"'2) Check for series resistance'!D332-V_bi","v":0},{"$f":"'2) Check for series resistance'!C332","v":""},"","","","","","",0,"",null,null,null,null,0,""]
[294,{"$f":"'3) Built-in voltage compensatio'!F329","v":0},{"$f":"'3) Built-in voltage compensatio'!G329","v":""},0,"",{"$f":"'2) Check for series resistance'!D333-V_bi","v":0},{"$f":"'2) Check for series resistance'!C333","v":""},"","","","","","",0,"",null,null,null,null,0,""]
[295,{"$f":"'3) Built-in voltage compensatio'!F330","v":0},{"$f":"'3) Built-in voltage compensatio'!G330","v":""},0,"",{"$f":"'2) Check for series resistance'!D334-V_bi","v":0},{"$f":"'2) Check for series resistance'!C334","v":""},"","","","","","",0,"",null,null,null,null,0,""]
[296,{"$f":"'3) Built-in voltage compensatio'!F331","v":0},{"$f":"'3) Built-in voltage compensatio'!G331","v":""},0,"",{"$f":"'2) Check for series resistance'!D335-V_bi","v":0},{"$f":"'2) Check for series resistance'!C335","v":""},"","","","","","",0,"",null,null,null,null,0,""]
[297,{"$f":"'3) Built-in voltage compensatio'!F332","v":0},{"$f":"'3) Built-in voltage compensatio'!G332","v":""},0,"",{"$f":"'2) Check for series resistance'!D336-V_bi","v":0},{"$f":"'2) Check for series resistance'!C336","v":""},"","","","","","",0,"",null,null,null,null,0,""]
[298,{"$f":"'3) Built-in voltage compensatio'!F333","v":0},{"$f":"'3) Built-in voltage compensatio'!G333","v":""},0,"",{"$f":"'2) Check for series resistance'!D337-V_bi","v":0},{"$f":"'2) Check for series resistance'!C337","v":""},"","","","","","",0,"",null,null,null,null,0,""]
[299,{"$f":"'3) Built-in voltage compensatio'!F334","v":0},{"$f":"'3) Built-in voltage compensatio'!G334","v":""},0,"",{"$f":"'2) Check for series resistance'!D338-V_bi","v":0},{"$f":"'2) Check for series resistance'!C338","v":""},"","","","","","",0,"",null,null,null,null,0,""]
[300,{"$f":"'3) Built-in voltage compensatio'!F335","v":0},{"$f":"'3) Built-in voltage compensatio'!G335","v":""},0,"",{"$f":"'2) Check for series resistance'!D339-V_bi","v":0},{"$f":"'2) Check for series resistance'!C339","v":""},"","","","","","",0,"",null,null,null,null,0,""]
[301,{"$f":"'3) Built-in voltage compensatio'!F336","v":0},{"$f":"'3) Built-in voltage compensatio'!G336","v":""},0,"",{"$f":"'2) Check for series resistance'!D340-V_bi","v":0},{"$f":"'2) Check for series resistance'!C340","v":""},"","","","","","",0,"",null,null,null,null,0,""]
[302,{"$f":"'3) Built-in voltage compensatio'!F337","v":0},{"$f":"'3) Built-in voltage compensatio'!G337","v":""},0,"",{"$f":"'2) Check for series resistance'!D341-V_bi","v":0},{"$f":"'2) Check for series resistance'!C341","v":""},"","","","","","",0,"",null,null,null,null,0,""]
[303,{"$f":"'3) Built-in voltage compensatio'!F338","v":0},{"$f":"'3) Built-in voltage compensatio'!G338","v":""},0,"",{"$f":"'2) Check for series resistance'!D342-V_bi","v":0},{"$f":"'2) Check for series resistance'!C342","v":""},"","","","","","",0,"",null,null,null,null,0,""]
[304,{"$f":"'3) Built-in voltage compensatio'!F339","v":0},{"$f":"'3) Built-in voltage compensatio'!G339","v":""},0,"",{"$f":"'2) Check for series resistance'!D343-V_bi","v":0},{"$f":"'2) Check for series resistance'!C343","v":""},"","","","","","",0,"",null,null,null,null,0,""]
[305,{"$f":"'3) Built-in voltage compensatio'!F340","v":0},{"$f":"'3) Built-in voltage compensatio'!G340","v":""},0,"",{"$f":"'2) Check for series resistance'!D344-V_bi","v":0},{"$f":"'2) Check for series resistance'!C344","v":""},"","","","","","",0,"",null,null,null,null,0,""]
[306,{"$f":"'3) Built-in voltage compensatio'!F341","v":0},{"$f":"'3) Built-in voltage compensatio'!G341","v":""},0,"",{"$f":"'2) Check for series resistance'!D345-V_bi","v":0},{"$f":"'2) Check for series resistance'!C345","v":""},"","","","","","",0,"",null,null,null,null,0,""]
[307,{"$f":"'3) Built-in voltage compensatio'!F342","v":0},{"$f":"'3) Built-in voltage compensatio'!G342","v":""},0,"",{"$f":"'2) Check for series resistance'!D346-V_bi","v":0},{"$f":"'2) Check for series resistance'!C346","v":""},"","","","","","",0,"",null,null,null,null,0,""]
[308,{"$f":"'3) Built-in voltage compensatio'!F343","v":0},{"$f":"'3) Built-in voltage compensatio'!G343","v":""},0,"",{"$f":"'2) Check for series resistance'!D347-V_bi","v":0},{"$f":"'2) Check for series resistance'!C347","v":""},"","","","","","",0,"",null,null,null,null,0,""]
[309,{"$f":"'3) Built-in voltage compensatio'!F344","v":0},{"$f":"'3) Built-in voltage compensatio'!G344","v":""},0,"",{"$f":"'2) Check for series resistance'!D348-V_bi","v":0},{"$f":"'2) Check for series resistance'!C348","v":""},"","","","","","",0,"",null,null,null,null,0,""]
[310,{"$f":"'3) Built-in voltage compensatio'!F345","v":0},{"$f":"'3) Built-in voltage compensatio'!G345","v":""},0,"",{"$f":"'2) Check for series resistance'!D349-V_bi","v":0},{"$f":"'2) Check for series resistance'!C349","v":""},"","","","","","",0,"",null,null,null,null,0,""]
[311,{"$f":"'3) Built-in voltage compensatio'!F346","v":0},{"$f":"'3) Built-in voltage compensatio'!G346","v":""},0,"",{"$f":"'2) Check for series resistance'!D350-V_bi","v":0},{"$f":"'2) Check for series resistance'!C350","v":""},"","","","","","",0,"",null,null,null,null,0,""]
[312,{"$f":"'3) Built-in voltage compensatio'!F347","v":0},{"$f":"'3) Built-in voltage compensatio'!G347","v":""},0,"",{"$f":"'2) Check for series resistance'!D351-V_bi","v":0},{"$f":"'2) Check for series resistance'!C351","v":""},"","","","","","",0,"",null,null,null,null,0,""]
[313,{"$f":"'3) Built-in voltage compensatio'!F348","v":0},{"$f":"'3) Built-in voltage compensatio'!G348","v":""},0,"",{"$f":"'2) Check for series resistance'!D352-V_bi","v":0},{"$f":"'2) Check for series resistance'!C352","v":""},"","","","","","",0,"",null,null,null,null,0,""]
[314,{"$f":"'3) Built-in voltage compensatio'!F349","v":0},{"$f":"'3) Built-in voltage compensatio'!G349","v":""},0,"",{"$f":"'2) Check for series resistance'!D353-V_bi","v":0},{"$f":"'2) Check for series resistance'!C353","v":""},"","","","","","",0,"",null,null,null,null,0,""]
[315,{"$f":"'3) Built-in voltage compensatio'!F350","v":0},{"$f":"'3) Built-in voltage compensatio'!G350","v":""},0,"",{"$f":"'2) Check for series resistance'!D354-V_bi","v":0},{"$f":"'2) Check for series resistance'!C354","v":""},"","","","","","",0,"",null,null,null,null,0,""]
[316,{"$f":"'3) Built-in voltage compensatio'!F351","v":0},{"$f":"'3) Built-in voltage compensatio'!G351","v":""},0,"",{"$f":"'2) Check for series resistance'!D355-V_bi","v":0},{"$f":"'2) Check for series resistance'!C355","v":""},"","","","","","",0,"",null,null,null,null,0,""]
[317,{"$f":"'3) Built-in voltage compensatio'!F352","v":0},{"$f":"'3) Built-in voltage compensatio'!G352","v":""},0,"",{"$f":"'2) Check for series resistance'!D356-V_bi","v":0},{"$f":"'2) Check for series resistance'!C356","v":""},"","","","","","",0,"",null,null,null,null,0,""]
[318,{"$f":"'3) Built-in voltage compensatio'!F353","v":0},{"$f":"'3) Built-in voltage compensatio'!G353","v":""},0,"",{"$f":"'2) Check for series resistance'!D357-V_bi","v":0},{"$f":"'2) Check for series resistance'!C357","v":""},"","","","","","",0,"",null,null,null,null,0,""]
[319,{"$f":"'3) Built-in voltage compensatio'!F354","v":0},{"$f":"'3) Built-in voltage compensatio'!G354","v":""},0,"",{"$f":"'2) Check for series resistance'!D358-V_bi","v":0},{"$f":"'2) Check for series resistance'!C358","v":""},"","","","","","",0,"",null,null,null,null,0,""]
[320,{"$f":"'3) Built-in voltage compensatio'!F355","v":0},{"$f":"'3) Built-in voltage compensatio'!G355","v":""},0,"",{"$f":"'2) Check for series resistance'!D359-V_bi","v":0},{"$f":"'2) Check for series resistance'!C359","v":""},"","","","","","",0,"",null,null,null,null,0,""]
[321,{"$f":"'3) Built-in voltage compensatio'!F356","v":0},{"$f":"'3) Built-in voltage compensatio'!G356","v":""},0,{"$f":"IF(D359>=Vloewr,IF(D359<=Vupper,C359,\"\"),\"\")","v":""},{"$f":"'2) Check for series resistance'!D360-V_bi","v":0},{"$f":"'2) Check for series resistance'!C360","v":""},"","","","","","",0,{"$f":"IF(N359>0,A*(9/8)*mu0*eps*(B359*B359)/(d_cm*d_cm*d_cm)*EXP(0.891*gamma*SQRT(B359/d_cm)),\"\")","v":""},null,null,null,null,0,{"$f":"IF(T359>0,A*(9/8)*mu0*eps*(F359*F359)/(d_cm*d_cm*d_cm)*EXP(0.891*gamma*SQRT(F359/d_cm)),\"\")","v":""}]
[322,{"$f":"'3) Built-in voltage compensatio'!F357","v":0},{"$f":"'3) Built-in voltage compensatio'!G357","v":""},{"$f":"B360","v":0},"",{"$f":"'2) Check for series resistance'!D361-V_bi","v":0},{"$f":"'2) Check for series resistance'!C361","v":""},{"$f":"IF(D360>0,LOG10(D360),\"\")","v":""},{"$f":"IF(E360<>\"\",IF(E360>0,LOG10(E360),\"\"),\"\")","v":""},{"$f":"IF(AND(H360<>\"\",H360>0),LOG10(A*mu0*(9/8)*eps/(d_cm*d_cm*d_cm))+2*H360+0.387*POWER(10,H360/2)*gamma/SQRT(d_cm),\"\")","v":""},{"$f":"IF(AND(I360<>\"\",J360<>\"\"),I360-J360,\"\")","v":""},{"$f":"IF(K360<>\"\",K360*K360,\"\")","v":""},{"$f":"IF(AND(U360<>\"\",G360<>\"\"),IF(OR(G360/U360>1.258,G360/U360<0.794),\"\",F360),\"\")","v":""},{"$f":"B360","v":0},"",null,null,null,null,{"$f":"F360","v":0},""]
[323,{"$f":"'3) Built-in voltage compensatio'!F358","v":0},{"$f":"'3) Built-in voltage compensatio'!G358","v":""},0,"",{"$f":"'2) Check for series resistance'!D362-V_bi","v":0},{"$f":"'2) Check for series resistance'!C362","v":""},"","","","","","",0,"",null,null,null,null,0,""]
[324,{"$f":"'3) Built-in voltage compensatio'!F359","v":0},{"$f":"'3) Built-in voltage compensatio'!G359","v":""},0,"",{"$f":"'2) Check for series resistance'!D363-V_bi","v":0},{"$f":"'2) Check for series resistance'!C363","v":""},"","","","","","",0,"",null,null,null,null,0,""]
[325,{"$f":"'3) Built-in voltage compensatio'!F360","v":0},{"$f":"'3) Built-in voltage compensatio'!G360","v":""},0,"",{"$f":"'2) Check for series resistance'!D364-V_bi","v":0},{"$f":"'2) Check for series resistance'!C364","v":""},"","","","","","",0,"",null,null,null,null,0,""]
[326,{"$f":"'3) Built-in voltage compensatio'!F361","v":0},{"$f":"'3) Built-in voltage compensatio'!G361","v":""},0,"",{"$f":"'2) Check for series resistance'!D365-V_bi","v":0},{"$f":"'2) Check for series resistance'!C365","v":""},"","","","","","",0,"",null,null,null,null,0,""]
[327,{"$f":"'3) Built-in voltage compensatio'!F362","v":0},{"$f":"'3) Built-in voltage compensatio'!G362","v":""},0,"",{"$f":"'2) Check for series resistance'!D366-V_bi","v":0},{"$f":"'2) Check for series resistance'!C366","v":""},"","","","","","",0,"",null,null,null,null,0,""]
[328,{"$f":"'3) Built-in voltage compensatio'!F363","v":0},{"$f":"'3) Built-in voltage compensatio'!G363","v":""},0,"",{"$f":"'2) Check for series resistance'!D367-V_bi","v":0},{"$f":"'2) Check for series resistance'!C367","v":""},"","","","","","",0,"",null,null,null,null,0,""]
[329,{"$f":"'3) Built-in voltage compensatio'!F364","v":0},{"$f":"'3) Built-in voltage compensatio'!G364","v":""},0,"",{"$f":"'2) Check for series resistance'!D368-V_bi","v":0},{"$f":"'2) Check for series resistance'!C368","v":""},"","","","","","",0,"",null,null,null,null,0,""]
[330,{"$f":"'3) Built-in voltage compensatio'!F365","v":0},{"$f":"'3) Built-in voltage compensatio'!G365","v":""},0,"",{"$f":"'2) Check for series resistance'!D369-V_bi","v":0},{"$f":"'2) Check for series resistance'!C369","v":""},"","","","","","",0,"",null,null,null,null,0,""]
[331,{"$f":"'3) Built-in voltage compensatio'!F366","v":0},{"$f":"'3) Built-in voltage compensatio'!G366","v":""},0,"",{"$f":"'2) Check for series resistance'!D370-V_bi","v":0},{"$f":"'2) Check for series resistance'!C370","v":""},"","","","","","",0,"",null,null,null,null,0,""]
[332,{"$f":"'3) Built-in voltage compensatio'!F367","v":0},{"$f":"'3) Built-in voltage compensatio'!G367","v":""},0,"",{"$f":"'2) Check for series resistance'!D371-V_bi","v":0},{"$f":"'2) Check for series resistance'!C371","v":""},"","","","","","",0,"",null,null,null,null,0,""]
[333,{"$f":"'3) Built-in voltage compensatio'!F368","v":0},{"$f":"'3) Built-in voltage compensatio'!G368","v":""},0,"",{"$f":"'2) Check for series resistance'!D372-V_bi","v":0},{"$f":"'2) Check for series resistance'!C372","v":""},"","","","","","",0,"",null,null,null,null,0,""]
[334,{"$f":"'3) Built-in voltage compensatio'!F369","v":0},{"$f":"'3) Built-in voltage compensatio'!G369","v":""},0,"",{"$f":"'2) Check for series resistance'!D373-V_bi","v":0},{"$f":"'2) Check for series resistance'!C373","v":""},"","","","","","",0,"",null,null,null,null,0,""]
[335,{"$f":"'3) Built-in voltage compensatio'!F370","v":0},{"$f":"'3) Built-in voltage compensatio'!G370","v":""},0,"",{"$f":"'2) Check for series resistance'!D374-V_bi","v":0},{"$f":"'2) Check for series resistance'!C374","v":""},"","","","","","",0,"",null,null,null,null,0,""]
[336,{"$f":"'3) Built-in voltage compensatio'!F371","v":0},{"$f":"'3) Built-in voltage compensatio'!G371","v":""},0,"",{"$f":"'2) Check for series resistance'!D375-V_bi","v":0},{"$f":"'2) Check for series resistance'!C375","v":""},"","","","","","",0,"",null,null,null,null,0,""]
[337,{"$f":"'3) Built-in voltage compensatio'!F372","v":0},{"$f":"'3) Built-in voltage compensatio'!G372","v":""},0,"",{"$f":"'2) Check for series resistance'!D376-V_bi","v":0},{"$f":"'2) Check for series resistance'!C376","v":""},"","","","","","",0,"",null,null,null,null,0,""]
[338,{"$f":"'3) Built-in voltage compensatio'!F373","v":0},{"$f":"'3) Built-in voltage compensatio'!G373","v":""},0,"",{"$f":"'2) Check for series resistance'!D377-V_bi","v":0},{"$f":"'2) Check for series resistance'!C377","v":""},"","","","","","",0,"",null,null,null,null,0,""]
[339,{"$f":"'3) Built-in voltage compensatio'!F374","v":0},{"$f":"'3) Built-in voltage compensatio'!G374","v":""},0,"",{"$f":"'2) Check for series resistance'!D378-V_bi","v":0},{"$f":"'2) Check for series resistance'!C378","v":""},"","","","","","",0,"",null,null,null,null,0,""]
[340,{"$f":"'3) Built-in voltage compensatio'!F375","v":0},{"$f":"'3) Built-in voltage compensatio'!G375","v":""},0,"",{"$f":"'2) Check for series resistance'!D379-V_bi","v":0},{"$f":"'2) Check for series resistance'!C379","v":""},"","","","","","",0,"",null,null,null,null,0,""]
[341,{"$f":"'3) Built-in voltage compensatio'!F376","v":0},{"$f":"'3) Built-in voltage compensatio'!G376","v":""},0,"",{"$f":"'2) Check for series resistance'!D380-V_bi","v":0},{"$f":"'2) Check for series resistance'!C380","v":""},"","","","","","",0,"",null,null,null,null,0,""]
[342,{"$f":"'3) Built-in voltage compensatio'!F377","v":0},{"$f":"'3) Built-in voltage compensatio'!G377","v":""},0,"",{"$f":"'2) Check for series resistance'!D381-V_bi","v":0},{"$f":"'2) Check for series resistance'!C381","v":""},"","","","","","",0,"",null,null,null,null,0,""]
[343,{"$f":"'3) Built-in voltage compensatio'!F378","v":0},{"$f":"'3) Built-in voltage compensatio'!G378","v":""},0,"",{"$f":"'2) Check for series resistance'!D382-V_bi","v":0},{"$f":"'2) Check for series resistance'!C382","v":""},"","","","","","",0,"",null,null,null,null,0,""]
[344,{"$f":"'3) Built-in voltage compensatio'!F379","v":0},{"$f":"'3) Built-in voltage compensatio'!G379","v":""},0,"",{"$f":"'2) Check for series resistance'!D383-V_bi","v":0},{"$f":"'2) Check for series resistance'!C383","v":""},"","","","","","",0,"",null,null,null,null,0,""]
[345,{"$f":"'3) Built-in voltage compensatio'!F380","v":0},{"$f":"'3) Built-in voltage compensatio'!G380","v":""},0,"",{"$f":"'2) Check for series resistance'!D384-V_bi","v":0},{"$f":"'2) Check for series resistance'!C384","v":""},"","","","","","",0,"",null,null,null,null,0,""]
[346,{"$f":"'3) Built-in voltage compensatio'!F381","v":0},{"$f":"'3) Built-in voltage compensatio'!G381","v":""},0,"",{"$f":"'2) Check for series resistance'!D385-V_bi","v":0},{"$f":"'2) Check for series resistance'!C385","v":""},"","","","","","",0,"",null,null,null,null,0,""]
[347,{"$f":"'3) Built-in voltage compensatio'!F382","v":0},{"$f":"'3) Built-in voltage compensatio'!G382","v":""},0,"",{"$f":"'2) Check for series resistance'!D386-V_bi","v":0},{"$f":"'2) Check for series resistance'!C386","v":""},"","","","","","",0,"",null,null,null,null,0,""]
[348,{"$f":"'3) Built-in voltage compensatio'!F383","v":0},{"$f":"'3) Built-in voltage compensatio'!G383","v":""},0,"",{"$f":"'2) Check for series resistance'!D387-V_bi","v":0},{"$f":"'2) Check for series resistance'!C387","v":""},"","","","","","",0,"",null,null,null,null,0,""]
[349,{"$f":"'3) Built-in voltage compensatio'!F384","v":0},{"$f":"'3) Built-in voltage compensatio'!G384","v":""},0,"",{"$f":"'2) Check for series resistance'!D388-V_bi","v":0},{"$f":"'2) Check for series resistance'!C388","v":""},"","","","","","",0,"",null,null,null,null,0,""]
[350,{"$f":"'3) Built-in voltage compensatio'!F385","v":0},{"$f":"'3) Built-in voltage compensatio'!G385","v":""},0,"",{"$f":"'2) Check for series resistance'!D389-V_bi","v":0},{"$f":"'2) Check for series resistance'!C389","v":""},"","","","","","",0,"",null,null,null,null,0,""]
[351,{"$f":"'3) Built-in voltage compensatio'!F386","v":0},{"$f":"'3) Built-in voltage compensatio'!G386","v":""},0,"",{"$f":"'2) Check for series resistance'!D390-V_bi","v":0},{"$f":"'2) Check for series resistance'!C390","v":""},"","","","","","",0,"",null,null,null,null,0,""]
[352,{"$f":"'3) Built-in voltage compensatio'!F387","v":0},{"$f":"'3) Built-in voltage compensatio'!G387","v":""},0,"",{"$f":"'2) Check for series resistance'!D391-V_bi","v":0},{"$f":"'2) Check for series resistance'!C391","v":""},"","","","","","",0,"",null,null,null,null,0,""]
[353,{"$f":"'3) Built-in voltage compensatio'!F388","v":0},{"$f":"'3) Built-in voltage compensatio'!G388","v":""},0,"",{"$f":"'2) Check for series resistance'!D392-V_bi","v":0},{"$f":"'2) Check for series resistance'!C392","v":""},"","","","","","",0,"",null,null,null,null,0,""]
[354,{"$f":"'3) Built-in voltage compensatio'!F389","v":0},{"$f":"'3) Built-in voltage compensatio'!G389","v":""},0,"",{"$f":"'2) Check for series resistance'!D393-V_bi","v":0},{"$f":"'2) Check for series resistance'!C393","v":""},"","","","","","",0,"",null,null,null,null,0,""]
[355,{"$f":"'3) Built-in voltage compensatio'!F390","v":0},{"$f":"'3) Built-in voltage compensatio'!G390","v":""},0,"",{"$f":"'2) Check for series resistance'!D394-V_bi","v":0},{"$f":"'2) Check for series resistance'!C394","v":""},"","","","","","",0,"",null,null,null,null,0,""]
[356,{"$f":"'3) Built-in voltage compensatio'!F391","v":0},{"$f":"'3) Built-in voltage compensatio'!G391","v":""},0,"",{"$f":"'2) Check for series resistance'!D395-V_bi","v":0},{"$f":"'2) Check for series resistance'!C395","v":""},"","","","","","",0,"",null,null,null,null,0,""]
[357,{"$f":"'3) Built-in voltage compensatio'!F392","v":0},{"$f":"'3) Built-in voltage compensatio'!G392","v":""},0,"",{"$f":"'2) Check for series resistance'!D396-V_bi","v":0},{"$f":"'2) Check for series resistance'!C396","v":""},"","","","","","",0,"",null,null,null,null,0,""]
[358,{"$f":"'3) Built-in voltage compensatio'!F393","v":0},{"$f":"'3) Built-in voltage compensatio'!G393","v":""},0,"",{"$f":"'2) Check for series resistance'!D397-V_bi","v":0},{"$f":"'2) Check for series resistance'!C397","v":""},"","","","","","",0,"",null,null,null,null,0,""]
[359,{"$f":"'3) Built-in voltage compensatio'!F394","v":0},{"$f":"'3) Built-in voltage compensatio'!G394","v":""},0,"",{"$f":"'2) Check for series resistance'!D398-V_bi","v":0},{"$f":"'2) Check for series resistance'!C398","v":""},"","","","","","",0,"",null,null,null,null,0,""]
[360,{"$f":"'3) Built-in voltage compensatio'!F395","v":0},{"$f":"'3) Built-in voltage compensatio'!G395","v":""},0,"",{"$f":"'2) Check for series resistance'!D399-V_bi","v":0},{"$f":"'2) Check for series resistance'!C399","v":""},"","","","","","",0,"",null,null,null,null,0,""]
[361,{"$f":"'3) Built-in voltage compensatio'!F396","v":0},{"$f":"'3) Built-in voltage compensatio'!G396","v":""},0,"",{"$f":"'2) Check for series resistance'!D400-V_bi","v":0},{"$f":"'2) Check for series resistance'!C400","v":""},"","","","","","",0,"",null,null,null,null,0,""]
[362,{"$f":"'3) Built-in voltage compensatio'!F397","v":0},{"$f":"'3) Built-in voltage compensatio'!G397","v":""},0,"",{"$f":"'2) Check for series resistance'!D401-V_bi","v":0},{"$f":"'2) Check for series resistance'!C401","v":""},"","","","","","",0,"",null,null,null,null,0,""]
[363,{"$f":"'3) Built-in voltage compensatio'!F398","v":0},{"$f":"'3) Built-in voltage compensatio'!G398","v":""},0,"",{"$f":"'2) Check for series resistance'!D402-V_bi","v":0},{"$f":"'2) Check for series resistance'!C402","v":""},"","","","","","",0,"",null,null,null,null,0,""]
[364,{"$f":"'3) Built-in voltage compensatio'!F399","v":0},{"$f":"'3) Built-in voltage compensatio'!G399","v":""},0,"",{"$f":"'2) Check for series resistance'!D403-V_bi","v":0},{"$f":"'2) Check for series resistance'!C403","v":""},"","","","","","",0,"",null,null,null,null,0,""]
[365,{"$f":"'3) Built-in voltage compensatio'!F400","v":0},{"$f":"'3) Built-in voltage compensatio'!G400","v":""},0,"",{"$f":"'2) Check for series resistance'!D404-V_bi","v":0},{"$f":"'2) Check for series resistance'!C404","v":""},"","","","","","",0,"",null,null,null,null,0,""]
[366,{"$f":"'3) Built-in voltage compensatio'!F401","v":0},{"$f":"'3) Built-in voltage compensatio'!G401","v":""},0,"",{"$f":"'2) Check for series resistance'!D405-V_bi","v":0},{"$f":"'2) Check for series resistance'!C405","v":""},"","","","","","",0,"",null,null,null,null,0,""]
[367,{"$f":"'3) Built-in voltage compensatio'!F402","v":0},{"$f":"'3) Built-in voltage compensatio'!G402","v":""},0,"",{"$f":"'2) Check for series resistance'!D406-V_bi","v":0},{"$f":"'2) Check for series resistance'!C406","v":""},"","","","","","",0,"",null,null,null,null,0,""]
[368,{"$f":"'3) Built-in voltage compensatio'!F403","v":0},{"$f":"'3) Built-in voltage compensatio'!G403","v":""},0,"",{"$f":"'2) Check for series resistance'!D407-V_bi","v":0},{"$f":"'2) Check for series resistance'!C407","v":""},"","","","","","",0,"",null,null,null,null,0,""]
[369,{"$f":"'3) Built-in voltage compensatio'!F404","v":0},{"$f":"'3) Built-in voltage compensatio'!G404","v":""},0,"",{"$f":"'2) Check for series resistance'!D408-V_bi","v":0},{"$f":"'2) Check for series resistance'!C408","v":""},"","","","","","",0,"",null,null,null,null,0,""]
[370,{"$f":"'3) Built-in voltage compensatio'!F405","v":0},{"$f":"'3) Built-in voltage compensatio'!G405","v":""},0,"",{"$f":"'2) Check for series resistance'!D409-V_bi","v":0},{"$f":"'2) Check for series resistance'!C409","v":""},"","","","","","",0,"",null,null,null,null,0,""]
[371,{"$f":"'3) Built-in voltage compensatio'!F406","v":0},{"$f":"'3) Built-in voltage compensatio'!G406","v":""},0,"",{"$f":"'2) Check for series resistance'!D410-V_bi","v":0},{"$f":"'2) Check for series resistance'!C410","v":""},"","","","","","",0,"",null,null,null,null,0,""]
[372,{"$f":"'3) Built-in voltage compensatio'!F407","v":0},{"$f":"'3) Built-in voltage compensatio'!G407","v":""},0,"",{"$f":"'2) Check for series resistance'!D411-V_bi","v":0},{"$f":"'2) Check for series resistance'!C411","v":""},"","","","","","",0,"",null,null,null,null,0,""]
[373,{"$f":"'3) Built-in voltage compensatio'!F408","v":0},{"$f":"'3) Built-in voltage compensatio'!G408","v":""},0,"",{"$f":"'2) Check for series resistance'!D412-V_bi","v":0},{"$f":"'2) Check for series resistance'!C412","v":""},"","","","","","",0,"",null,null,null,null,0,""]
[374,{"$f":"'3) Built-in voltage compensatio'!F409","v":0},{"$f":"'3) Built-in voltage compensatio'!G409","v":""},0,"",{"$f":"'2) Check for series resistance'!D413-V_bi","v":0},{"$f":"'2) Check for series resistance'!C413","v":""},"","","","","","",0,"",null,null,null,null,0,""]
[375,{"$f":"'3) Built-in voltage compensatio'!F410","v":0},{"$f":"'3) Built-in voltage compensatio'!G410","v":""},0,"",{"$f":"'2) Check for series resistance'!D414-V_bi","v":0},{"$f":"'2) Check for series resistance'!C414","v":""},"","","","","","",0,"",null,null,null,null,0,""]
[376,{"$f":"'3) Built-in voltage compensatio'!F411","v":0},{"$f":"'3) Built-in voltage compensatio'!G411","v":""},0,"",{"$f":"'2) Check for series resistance'!D415-V_bi","v":0},{"$f":"'2) Check for series resistance'!C415","v":""},"","","","","","",0,"",null,null,null,null,0,""]
[377,{"$f":"'3) Built-in voltage compensatio'!F412","v":0},{"$f":"'3) Built-in voltage compensatio'!G412","v":""},0,"",{"$f":"'2) Check for series resistance'!D416-V_bi","v":0},{"$f":"'2) Check for series resistance'!C416","v":""},"","","","","","",0,"",null,null,null,null,0,""]
[378,{"$f":"'3) Built-in voltage compensatio'!F413","v":0},{"$f":"'3) Built-in voltage compensatio'!G413","v":""},0,"",{"$f":"'2) Check for series resistance'!D417-V_bi","v":0},{"$f":"'2) Check for series resistance'!C417","v":""},"","","","","","",0,"",null,null,null,null,0,""]
[379,{"$f":"'3) Built-in voltage compensatio'!F414","v":0},{"$f":"'3) Built-in voltage compensatio'!G414","v":""},0,"",{"$f":"'2) Check for series resistance'!D418-V_bi","v":0},{"$f":"'2) Check for series resistance'!C418","v":""},"","","","","","",0,"",null,null,null,null,0,""]
[380,{"$f":"'3) Built-in voltage compensatio'!F415","v":0},{"$f":"'3) Built-in voltage compensatio'!G415","v":""},0,"",{"$f":"'2) Check for series resistance'!D419-V_bi","v":0},{"$f":"'2) Check for series resistance'!C419","v":""},"","","","","","",0,"",null,null,null,null,0,""]
[381,{"$f":"'3) Built-in voltage compensatio'!F416","v":0},{"$f":"'3) Built-in voltage compensatio'!G416","v":""},0,"",{"$f":"'2) Check for series resistance'!D420-V_bi","v":0},{"$f":"'2) Check for series resistance'!C420","v":""},"","","","","","",0,"",null,null,null,null,0,""]
[382,{"$f":"'3) Built-in voltage compensatio'!F417","v":0},{"$f":"'3) Built-in voltage compensatio'!G417","v":""},0,"",{"$f":"'2) Check for series resistance'!D421-V_bi","v":0},{"$f":"'2) Check for series resistance'!C421","v":""},"","","","","","",0,"",null,null,null,null,0,""]
[383,{"$f":"'3) Built-in voltage compensatio'!F418","v":0},{"$f":"'3) Built-in voltage compensatio'!G418","v":""},0,"",{"$f":"'2) Check for series resistance'!D422-V_bi","v":0},{"$f":"'2) Check for series resistance'!C422","v":""},"","","","","","",0,"",null,null,null,null,0,""]
[384,{"$f":"'3) Built-in voltage compensatio'!F419","v":0},{"$f":"'3) Built-in voltage compensatio'!G419","v":""},0,"",{"$f":"'2) Check for series resistance'!D423-V_bi","v":0},{"$f":"'2) Check for series resistance'!C423","v":""},"","","","","","",0,"",null,null,null,null,0,""]
[385,{"$f":"'3) Built-in voltage compensatio'!F420","v":0},{"$f":"'3) Built-in voltage compensatio'!G420","v":""},0,{"$f":"IF(D423>=Vloewr,IF(D423<=Vupper,C423,\"\"),\"\")","v":""},{"$f":"'2) Check for series resistance'!D424-V_bi","v":0},{"$f":"'2) Check for series resistance'!C424","v":""},"","","","","","",0,{"$f":"IF(N423>0,A*(9/8)*mu0*eps*(B423*B423)/(d_cm*d_cm*d_cm)*EXP(0.891*gamma*SQRT(B423/d_cm)),\"\")","v":""},null,null,null,null,0,{"$f":"IF(T423>0,A*(9/8)*mu0*eps*(F423*F423)/(d_cm*d_cm*d_cm)*EXP(0.891*gamma*SQRT(F423/d_cm)),\"\")","v":""}]
[386,{"$f":"'3) Built-in voltage compensatio'!F421","v":0},{"$f":"'3) Built-in voltage compensatio'!G421","v":""},{"$f":"B424","v":0},"",{"$f":"'2) Check for series resistance'!D425-V_bi","v":0},{"$f":"'2) Check for series resistance'!C425","v":""},{"$f":"IF(D424>0,LOG10(D424),\"\")","v":""},{"$f":"IF(E424<>\"\",IF(E424>0,LOG10(E424),\"\"),\"\")","v":""},{"$f":"IF(AND(H424<>\"\",H424>0),LOG10(A*mu0*(9/8)*eps/(d_cm*d_cm*d_cm))+2*H424+0.387*POWER(10,H424/2)*gamma/SQRT(d_cm),\"\")","v":""},{"$f":"IF(AND(I424<>\"\",J424<>\"\"),I424-J424,\"\")","v":""},{"$f":"IF(K424<>\"\",K424*K424,\"\")","v":""},{"$f":"IF(AND(U424<>\"\",G424<>\"\"),IF(OR(G424/U424>1.258,G424/U424<0.794),\"\",F424),\"\")","v":""},{"$f":"B424","v":0},"",null,null,null,null,{"$f":"F424","v":0},""]
[387,{"$f":"'3) Built-in voltage compensatio'!F422","v":0},{"$f":"'3) Built-in voltage compensatio'!G422","v":""},0,"",{"$f":"'2) Check for series resistance'!D426-V_bi","v":0},{"$f":"'2) Check for series resistance'!C426","v":""},"","","","","","",0,"",null,null,null,null,0,""]
[388,{"$f":"'3) Built-in voltage compensatio'!F423","v":0},{"$f":"'3) Built-in voltage compensatio'!G423","v":""},0,"",{"$f":"'2) Check for series resistance'!D427-V_bi","v":0},{"$f":"'2) Check for series resistance'!C427","v":""},"","","","","","",0,"",null,null,null,null,0,""]
[389,{"$f":"'3) Built-in voltage compensatio'!F424","v":0},{"$f":"'3) Built-in voltage compensatio'!G424","v":""},0,"",{"$f":"'2) Check for series resistance'!D428-V_bi","v":0},{"$f":"'2) Check for series resistance'!C428","v":""},"","","","","","",0,"",null,null,null,null,0,""]
[390,{"$f":"'3) Built-in voltage compensatio'!F425","v":0},{"$f":"'3) Built-in voltage compensatio'!G425","v":""},0,"",{"$f":"'2) Check for series resistance'!D429-V_bi","v":0},{"$f":"'2) Check for series resistance'!C429","v":""},"","","","","","",0,"",null,null,null,null,0,""]
[391,{"$f":"'3) Built-in voltage compensatio'!F426","v":0},{"$f":"'3) Built-in voltage compensatio'!G426","v":""},0,"",{"$f":"'2) Check for series resistance'!D430-V_bi","v":0},{"$f":"'2) Check for series resistance'!C430","v":""},"","","","","","",0,"",null,null,null,null,0,""]
[392,{"$f":"'3) Built-in voltage compensatio'!F427","v":0},{"$f":"'3) Built-in voltage compensatio'!G427","v":""},0,"",{"$f":"'2) Check for series resistance'!D431-V_bi","v":0},{"$f":"'2) Check for series resistance'!C431","v":""},"","","","","","",0,"",null,null,null,null,0,""]
[393,{"$f":"'3) Built-in voltage compensatio'!F428","v":0},{"$f":"'3) Built-in voltage compensatio'!G428","v":""},0,"",{"$f":"'2) Check for series resistance'!D432-V_bi","v":0},{"$f":"'2) Check for series resistance'!C432","v":""},"","","","","","",0,"",null,null,null,null,0,""]
[394,{"$f":"'3) Built-in voltage compensatio'!F429","v":0},{"$f":"'3) Built-in voltage compensatio'!G429","v":""},0,"",{"$f":"'2) Check for series resistance'!D433-V_bi","v":0},{"$f":"'2) Check for series resistance'!C433","v":""},"","","","","","",0,"",null,null,null,null,0,""]
[395,{"$f":"'3) Built-in voltage compensatio'!F430","v":0},{"$f":"'3) Built-in voltage compensatio'!G430","v":""},0,"",{"$f":"'2) Check for series resistance'!D434-V_bi","v":0},{"$f":"'2) Check for series resistance'!C434","v":""},"","","","","","",0,"",null,null,null,null,0,""]
[396,{"$f":"'3) Built-in voltage compensatio'!F431","v":0},{"$f":"'3) Built-in voltage compensatio'!G431","v":""},0,"",{"$f":"'2) Check for series resistance'!D435-V_bi","v":0},{"$f":"'2) Check for series resistance'!C435","v":""},"","","","","","",0,"",null,null,null,null,0,""]
[397,{"$f":"'3) Built-in voltage compensatio'!F432","v":0},{"$f":"'3) Built-in voltage compensatio'!G432","v":""},0,"",{"$f":"'2) Check for series resistance'!D436-V_bi","v":0},{"$f":"'2) Check for series resistance'!C436","v":""},"","","","","","",0,"",null,null,null,null,0,""]
[398,{"$f":"'3) Built-in voltage compensatio'!F433","v":0},{"$f":"'3) Built-in voltage compensatio'!G433","v":""},0,"",{"$f":"'2) Check for series resistance'!D437-V_bi","v":0},{"$f":"'2) Check for series resistance'!C437","v":""},"","","","","","",0,"",null,null,null,null,0,""]
[399,{"$f":"'3) Built-in voltage compensatio'!F434","v":0},{"$f":"'3) Built-in voltage compensatio'!G434","v":""},0,"",{"$f":"'2) Check for series resistance'!D438-V_bi","v":0},{"$f":"'2) Check for series resistance'!C438","v":""},"","","","","","",0,"",null,null,null,null,0,""]
[400,{"$f":"'3) Built-in voltage compensatio'!F435","v":0},{"$f":"'3) Built-in voltage compensatio'!G435","v":""},0,"",{"$f":"'2) Check for series resistance'!D439-V_bi","v":0},{"$f":"'2) Check for series resistance'!C439","v":""},"","","","","","",0,"",null,null,null,null,0,""]
[401,{"$f":"'3) Built-in voltage compensatio'!F436","v":0},{"$f":"'3) Built-in voltage compensatio'!G436","v":""},0,"",{"$f":"'2) Check for series resistance'!D440-V_bi","v":0},{"$f":"'2) Check for series resistance'!C440","v":""},"","","","","","",0,"",null,null,null,null,0,""]
[402,{"$f":"'3) Built-in voltage compensatio'!F437","v":0},{"$f":"'3) Built-in voltage compensatio'!G437","v":""},0,"",{"$f":"'2) Check for series resistance'!D441-V_bi","v":0},{"$f":"'2) Check for series resistance'!C441","v":""},"","","","","","",0,"",null,null,null,null,0,""]
[403,{"$f":"'3) Built-in voltage compensatio'!F438","v":0},{"$f":"'3) Built-in voltage compensatio'!G438","v":""},0,"",{"$f":"'2) Check for series resistance'!D442-V_bi","v":0},{"$f":"'2) Check for series resistance'!C442","v":""},"","","","","","",0,"",null,null,null,null,0,""]
[404,{"$f":"'3) Built-in voltage compensatio'!F439","v":0},{"$f":"'3) Built-in voltage compensatio'!G439","v":""},0,"",{"$f":"'2) Check for series resistance'!D443-V_bi","v":0},{"$f":"'2) Check for series resistance'!C443","v":""},"","","","","","",0,"",null,null,null,null,0,""]
[405,{"$f":"'3) Built-in voltage compensatio'!F440","v":0},{"$f":"'3) Built-in voltage compensatio'!G440","v":""},0,"",{"$f":"'2) Check for series resistance'!D444-V_bi","v":0},{"$f":"'2) Check for series resistance'!C444","v":""},"","","","","","",0,"",null,null,null,null,0,""]
[406,{"$f":"'3) Built-in voltage compensatio'!F441","v":0},{"$f":"'3) Built-in voltage compensatio'!G441","v":""},0,"",{"$f":"'2) Check for series resistance'!D445-V_bi","v":0},{"$f":"'2) Check for series resistance'!C445","v":""},"","","","","","",0,"",null,null,null,null,0,""]
[407,{"$f":"'3) Built-in voltage compensatio'!F442","v":0},{"$f":"'3) Built-in voltage compensatio'!G442","v":""},0,"",{"$f":"'2) Check for series resistance'!D446-V_bi","v":0},{"$f":"'2) Check for series resistance'!C446","v":""},"","","","","","",0,"",null,null,null,null,0,""]
[408,{"$f":"'3) Built-in voltage compensatio'!F443","v":0},{"$f":"'3) Built-in voltage compensatio'!G443","v":""},0,"",{"$f":"'2) Check for series resistance'!D447-V_bi","v":0},{"$f":"'2) Check for series resistance'!C447","v":""},"","","","","","",0,"",null,null,null,null,0,""]
[409,{"$f":"'3) Built-in voltage compensatio'!F444","v":0},{"$f":"'3) Built-in voltage compensatio'!G444","v":""},0,"",{"$f":"'2) Check for series resistance'!D448-V_bi","v":0},{"$f":"'2) Check for series resistance'!C448","v":""},"","","","","","",0,"",null,null,null,null,0,""]
[410,{"$f":"'3) Built-in voltage compensatio'!F445","v":0},{"$f":"'3) Built-in voltage compensatio'!G445","v":""},0,"",{"$f":"'2) Check for series resistance'!D449-V_bi","v":0},{"$f":"'2) Check for series resistance'!C449","v":""},"","","","","","",0,"",null,null,null,null,0,""]
[411,{"$f":"'3) Built-in voltage compensatio'!F446","v":0},{"$f":"'3) Built-in voltage compensatio'!G446","v":""},0,"",{"$f":"'2) Check for series resistance'!D450-V_bi","v":0},{"$f":"'2) Check for series resistance'!C450","v":""},"","","","","","",0,"",null,null,null,null,0,""]
[412,{"$f":"'3) Built-in voltage compensatio'!F447","v":0},{"$f":"'3) Built-in voltage compensatio'!G447","v":""},0,"",{"$f":"'2) Check for series resistance'!D451-V_bi","v":0},{"$f":"'2) Check for series resistance'!C451","v":""},"","","","","","",0,"",null,null,null,null,0,""]
[413,{"$f":"'3) Built-in voltage compensatio'!F448","v":0},{"$f":"'3) Built-in voltage compensatio'!G448","v":""},0,"",{"$f":"'2) Check for series resistance'!D452-V_bi","v":0},{"$f":"'2) Check for series resistance'!C452","v":""},"","","","","","",0,"",null,null,null,null,0,""]
[414,{"$f":"'3) Built-in voltage compensatio'!F449","v":0},{"$f":"'3) Built-in voltage compensatio'!G449","v":""},0,"",{"$f":"'2) Check for series resistance'!D453-V_bi","v":0},{"$f":"'2) Check for series resistance'!C453","v":""},"","","","","","",0,"",null,null,null,null,0,""]
[415,{"$f":"'3) Built-in voltage compensatio'!F450","v":0},{"$f":"'3) Built-in voltage compensatio'!G450","v":""},0,"",{"$f":"'2) Check for series resistance'!D454-V_bi","v":0},{"$f":"'2) Check for series resistance'!C454","v":""},"","","","","","",0,"",null,null,null,null,0,""]
[416,{"$f":"'3) Built-in voltage compensatio'!F451","v":0},{"$f":"'3) Built-in voltage compensatio'!G451","v":""},0,"",{"$f":"'2) Check for series resistance'!D455-V_bi","v":0},{"$f":"'2) Check for series resistance'!C455","v":""},"","","","","","",0,"",null,null,null,null,0,""]
[417,{"$f":"'3) Built-in voltage compensatio'!F452","v":0},{"$f":"'3) Built-in voltage compensatio'!G452","v":""},0,"",{"$f":"'2) Check for series resistance'!D456-V_bi","v":0},{"$f":"'2) Check for series resistance'!C456","v":""},"","","","","","",0,"",null,null,null,null,0,""]
[418,{"$f":"'3) Built-in voltage compensatio'!F453","v":0},{"$f":"'3) Built-in voltage compensatio'!G453","v":""},0,"",{"$f":"'2) Check for series resistance'!D457-V_bi","v":0},{"$f":"'2) Check for series resistance'!C457","v":""},"","","","","","",0,"",null,null,null,null,0,""]
[419,{"$f":"'3) Built-in voltage compensatio'!F454","v":0},{"$f":"'3) Built-in voltage compensatio'!G454","v":""},0,"",{"$f":"'2) Check for series resistance'!D458-V_bi","v":0},{"$f":"'2) Check for series resistance'!C458","v":""},"","","","","","",0,"",null,null,null,null,0,""]
[420,{"$f":"'3) Built-in voltage compensatio'!F455","v":0},{"$f":"'3) Built-in voltage compensatio'!G455","v":""},0,"",{"$f":"'2) Check for series resistance'!D459-V_bi","v":0},{"$f":"'2) Check for series resistance'!C459","v":""},"","","","","","",0,"",null,null,null,null,0,""]
[421,{"$f":"'3) Built-in voltage compensatio'!F456","v":0},{"$f":"'3) Built-in voltage compensatio'!G456","v":""},0,"",{"$f":"'2) Check for series resistance'!D460-V_bi","v":0},{"$f":"'2) Check for series resistance'!C460","v":""},"","","","","","",0,"",null,null,null,null,0,""]
[422,{"$f":"'3) Built-in voltage compensatio'!F457","v":0},{"$f":"'3) Built-in voltage compensatio'!G457","v":""},0,"",{"$f":"'2) Check for series resistance'!D461-V_bi","v":0},{"$f":"'2) Check for series resistance'!C461","v":""},"","","","","","",0,"",null,null,null,null,0,""]
[423,{"$f":"'3) Built-in voltage compensatio'!F458","v":0},{"$f":"'3) Built-in voltage compensatio'!G458","v":""},0,"",{"$f":"'2) Check for series resistance'!D462-V_bi","v":0},{"$f":"'2) Check for series resistance'!C462","v":""},"","","","","","",0,"",null,null,null,null,0,""]
[424,{"$f":"'3) Built-in voltage compensatio'!F459","v":0},{"$f":"'3) Built-in voltage compensatio'!G459","v":""},0,"",{"$f":"'2) Check for series resistance'!D463-V_bi","v":0},{"$f":"'2) Check for series resistance'!C463","v":""},"","","","","","",0,"",null,null,null,null,0,""]
[425,{"$f":"'3) Built-in voltage compensatio'!F460","v":0},{"$f":"'3) Built-in voltage compensatio'!G460","v":""},0,"",{"$f":"'2) Check for series resistance'!D464-V_bi","v":0},{"$f":"'2) Check for series resistance'!C464","v":""},"","","","","","",0,"",null,null,null,null,0,""]
[426,{"$f":"'3) Built-in voltage compensatio'!F461","v":0},{"$f":"'3) Built-in voltage compensatio'!G461","v":""},0,"",{"$f":"'2) Check for series resistance'!D465-V_bi","v":0},{"$f":"'2) Check for series resistance'!C465","v":""},"","","","","","",0,"",null,null,null,null,0,""]
[427,{"$f":"'3) Built-in voltage compensatio'!F462","v":0},{"$f":"'3) Built-in voltage compensatio'!G462","v":""},0,"",{"$f":"'2) Check for series resistance'!D466-V_bi","v":0},{"$f":"'2) Check for series resistance'!C466","v":""},"","","","","","",0,"",null,null,null,null,0,""]
[428,{"$f":"'3) Built-in voltage compensatio'!F463","v":0},{"$f":"'3) Built-in voltage compensatio'!G463","v":""},0,"",{"$f":"'2) Check for series resistance'!D467-V_bi","v":0},{"$f":"'2) Check for series resistance'!C467","v":""},"","","","","","",0,"",null,null,null,null,0,""]
[429,{"$f":"'3) Built-in voltage compensatio'!F464","v":0},{"$f":"'3) Built-in voltage compensatio'!G464","v":""},0,"",{"$f":"'2) Check for series resistance'!D468-V_bi","v":0},{"$f":"'2) Check for series resistance'!C468","v":""},"","","","","","",0,"",null,null,null,null,0,""]
[430,{"$f":"'3) Built-in voltage compensatio'!F465","v":0},{"$f":"'3) Built-in voltage compensatio'!G465","v":""},0,"",{"$f":"'2) Check for series resistance'!D469-V_bi","v":0},{"$f":"'2) Check for series resistance'!C469","v":""},"","","","","","",0,"",null,null,null,null,0,""]
[431,{"$f":"'3) Built-in voltage compensatio'!F466","v":0},{"$f":"'3) Built-in voltage compensatio'!G466","v":""},0,"",{"$f":"'2) Check for series resistance'!D470-V_bi","v":0},{"$f":"'2) Check for series resistance'!C470","v":""},"","","","","","",0,"",null,null,null,null,0,""]
[432,{"$f":"'3) Built-in voltage compensatio'!F467","v":0},{"$f":"'3) Built-in voltage compensatio'!G467","v":""},0,"",{"$f":"'2) Check for series resistance'!D471-V_bi","v":0},{"$f":"'2) Check for series resistance'!C471","v":""},"","","","","","",0,"",null,null,null,null,0,""]
[433,{"$f":"'3) Built-in voltage compensatio'!F468","v":0},{"$f":"'3) Built-in voltage compensatio'!G468","v":""},0,"",{"$f":"'2) Check for series resistance'!D472-V_bi","v":0},{"$f":"'2) Check for series resistance'!C472","v":""},"","","","","","",0,"",null,null,null,null,0,""]
[434,{"$f":"'3) Built-in voltage compensatio'!F469","v":0},{"$f":"'3) Built-in voltage compensatio'!G469","v":""},0,"",{"$f":"'2) Check for series resistance'!D473-V_bi","v":0},{"$f":"'2) Check for series resistance'!C473","v":""},"","","","","","",0,"",null,null,null,null,0,""]
[435,{"$f":"'3) Built-in voltage compensatio'!F470","v":0},{"$f":"'3) Built-in voltage compensatio'!G470","v":""},0,"",{"$f":"'2) Check for series resistance'!D474-V_bi","v":0},{"$f":"'2) Check for series resistance'!C474","v":""},"","","","","","",0,"",null,null,null,null,0,""]
[436,{"$f":"'3) Built-in voltage compensatio'!F471","v":0},{"$f":"'3) Built-in voltage compensatio'!G471","v":""},0,"",{"$f":"'2) Check for series resistance'!D475-V_bi","v":0},{"$f":"'2) Check for series resistance'!C475","v":""},"","","","","","",0,"",null,null,null,null,0,""]
[437,{"$f":"'3) Built-in voltage compensatio'!F472","v":0},{"$f":"'3) Built-in voltage compensatio'!G472","v":""},0,"",{"$f":"'2) Check for series resistance'!D476-V_bi","v":0},{"$f":"'2) Check for series resistance'!C476","v":""},"","","","","","",0,"",null,null,null,null,0,""]
[438,{"$f":"'3) Built-in voltage compensatio'!F473","v":0},{"$f":"'3) Built-in voltage compensatio'!G473","v":""},0,"",{"$f":"'2) Check for series resistance'!D477-V_bi","v":0},{"$f":"'2) Check for series resistance'!C477","v":""},"","","","","","",0,"",null,null,null,null,0,""]
[439,{"$f":"'3) Built-in voltage compensatio'!F474","v":0},{"$f":"'3) Built-in voltage compensatio'!G474","v":""},0,"",{"$f":"'2) Check for series resistance'!D478-V_bi","v":0},{"$f":"'2) Check for series resistance'!C478","v":""},"","","","","","",0,"",null,null,null,null,0,""]
[440,{"$f":"'3) Built-in voltage compensatio'!F475","v":0},{"$f":"'3) Built-in voltage compensatio'!G475","v":""},0,"",{"$f":"'2) Check for series resistance'!D479-V_bi","v":0},{"$f":"'2) Check for series resistance'!C479","v":""},"","","","","","",0,"",null,null,null,null,0,""]
[441,{"$f":"'3) Built-in voltage compensatio'!F476","v":0},{"$f":"'3) Built-in voltage compensatio'!G476","v":""},0,"",{"$f":"'2) Check for series resistance'!D480-V_bi","v":0},{"$f":"'2) Check for series resistance'!C480","v":""},"","","","","","",0,"",null,null,null,null,0,""]
[442,{"$f":"'3) Built-in voltage compensatio'!F477","v":0},{"$f":"'3) Built-in voltage compensatio'!G477","v":""},0,"",{"$f":"'2) Check for series resistance'!D481-V_bi","v":0},{"$f":"'2) Check for series resistance'!C481","v":""},"","","","","","",0,"",null,null,null,null,0,""]
[443,{"$f":"'3) Built-in voltage compensatio'!F478","v":0},{"$f":"'3) Built-in voltage compensatio'!G478","v":""},0,"",{"$f":"'2) Check for series resistance'!D482-V_bi","v":0},{"$f":"'2) Check for series resistance'!C482","v":""},"","","","","","",0,"",null,null,null,null,0,""]
[444,{"$f":"'3) Built-in voltage compensatio'!F479","v":0},{"$f":"'3) Built-in voltage compensatio'!G479","v":""},0,"",{"$f":"'2) Check for series resistance'!D483-V_bi","v":0},{"$f":"'2) Check for series resistance'!C483","v":""},"","","","","","",0,"",null,null,null,null,0,""]
[445,{"$f":"'3) Built-in voltage compensatio'!F480","v":0},{"$f":"'3) Built-in voltage compensatio'!G480","v":""},0,"",{"$f":"'2) Check for series resistance'!D484-V_bi","v":0},{"$f":"'2) Check for series resistance'!C484","v":""},"","","","","","",0,"",null,null,null,null,0,""]
[446,{"$f":"'3) Built-in voltage compensatio'!F481","v":0},{"$f":"'3) Built-in voltage compensatio'!G481","v":""},0,"",{"$f":"'2) Check for series resistance'!D485-V_bi","v":0},{"$f":"'2) Check for series resistance'!C485","v":""},"","","","","","",0,"",null,null,null,null,0,""]
[447,{"$f":"'3) Built-in voltage compensatio'!F482","v":0},{"$f":"'3) Built-in voltage compensatio'!G482","v":""},0,"",{"$f":"'2) Check for series resistance'!D486-V_bi","v":0},{"$f":"'2) Check for series resistance'!C486","v":""},"","","","","","",0,"",null,null,null,null,0,""]
[448,{"$f":"'3) Built-in voltage compensatio'!F483","v":0},{"$f":"'3) Built-in voltage compensatio'!G483","v":""},0,"",{"$f":"'2) Check for series resistance'!D487-V_bi","v":0},{"$f":"'2) Check for series resistance'!C487","v":""},"","","","","","",0,"",null,null,null,null,0,""]
[449,{"$f":"'3) Built-in voltage compensatio'!F484","v":0},{"$f":"'3) Built-in voltage compensatio'!G484","v":""},0,{"$f":"IF(D487>=Vloewr,IF(D487<=Vupper,C487,\"\"),\"\")","v":""},{"$f":"'2) Check for series resistance'!D488-V_bi","v":0},{"$f":"'2) Check for series resistance'!C488","v":""},"","","","","","",0,{"$f":"IF(N487>0,A*(9/8)*mu0*eps*(B487*B487)/(d_cm*d_cm*d_cm)*EXP(0.891*gamma*SQRT(B487/d_cm)),\"\")","v":""},null,null,null,null,0,{"$f":"IF(T487>0,A*(9/8)*mu0*eps*(F487*F487)/(d_cm*d_cm*d_cm)*EXP(0.891*gamma*SQRT(F487/d_cm)),\"\")","v":""}]
[450,{"$f":"'3) Built-in voltage compensatio'!F485","v":0},{"$f":"'3) Built-in voltage compensatio'!G485","v":""},{"$f":"B488","v":0},"",{"$f":"'2) Check for series resistance'!D489-V_bi","v":0},{"$f":"'2) Check for series resistance'!C489","v":""},{"$f":"IF(D488>0,LOG10(D488),\"\")","v":""},{"$f":"IF(E488<>\"\",IF(E488>0,LOG10(E488),\"\"),\"\")","v":""},{"$f":"IF(AND(H488<>\"\",H488>0),LOG10(A*mu0*(9/8)*eps/(d_cm*d_cm*d_cm))+2*H488+0.387*POWER(10,H488/2)*gamma/SQRT(d_cm),\"\")","v":""},{"$f":"IF(AND(I488<>\"\",J488<>\"\"),I488-J488,\"\")","v":""},{"$f":"IF(K488<>\"\",K488*K488,\"\")","v":""},{"$f":"IF(AND(U488<>\"\",G488<>\"\"),IF(OR(G488/U488>1.258,G488/U488<0.794),\"\",F488),\"\")","v":""},{"$f":"B488","v":0},"",null,null,null,null,{"$f":"F488","v":0},""]
[451,{"$f":"'3) Built-in voltage compensatio'!F486","v":0},{"$f":"'3) Built-in voltage compensatio'!G486","v":""},0,"",{"$f":"'2) Check for series resistance'!D490-V_bi","v":0},{"$f":"'2) Check for series resistance'!C490","v":""},"","","","","","",0,"",null,null,null,null,0,""]
[452,{"$f":"'3) Built-in voltage compensatio'!F487","v":0},{"$f":"'3) Built-in voltage compensatio'!G487","v":""},0,"",{"$f":"'2) Check for series resistance'!D491-V_bi","v":0},{"$f":"'2) Check for series resistance'!C491","v":""},"","","","","","",0,"",null,null,null,null,0,""]
[453,{"$f":"'3) Built-in voltage compensatio'!F488","v":0},{"$f":"'3) Built-in voltage compensatio'!G488","v":""},0,"",{"$f":"'2) Check for series resistance'!D492-V_bi","v":0},{"$f":"'2) Check for series resistance'!C492","v":""},"","","","","","",0,"",null,null,null,null,0,""]
[454,{"$f":"'3) Built-in voltage compensatio'!F489","v":0},{"$f":"'3) Built-in voltage compensatio'!G489","v":""},0,"",{"$f":"'2) Check for series resistance'!D493-V_bi","v":0},{"$f":"'2) Check for series resistance'!C493","v":""},"","","","","","",0,"",null,null,null,null,0,""]
[455,{"$f":"'3) Built-in voltage compensatio'!F490","v":0},{"$f":"'3) Built-in voltage compensatio'!G490","v":""},0,"",{"$f":"'2) Check for series resistance'!D494-V_bi","v":0},{"$f":"'2) Check for series resistance'!C494","v":""},"","","","","","",0,"",null,null,null,null,0,""]
[456,{"$f":"'3) Built-in voltage compensatio'!F491","v":0},{"$f":"'3) Built-in voltage compensatio'!G491","v":""},0,"",{"$f":"'2) Check for series resistance'!D495-V_bi","v":0},{"$f":"'2) Check for series resistance'!C495","v":""},"","","","","","",0,"",null,null,null,null,0,""]
[457,{"$f":"'3) Built-in voltage compensatio'!F492","v":0},{"$f":"'3) Built-in voltage compensatio'!G492","v":""},0,"",{"$f":"'2) Check for series resistance'!D496-V_bi","v":0},{"$f":"'2) Check for series resistance'!C496","v":""},"","","","","","",0,"",null,null,null,null,0,""]
[458,{"$f":"'3) Built-in voltage compensatio'!F493","v":0},{"$f":"'3) Built-in voltage compensatio'!G493","v":""},0,"",{"$f":"'2) Check for series resistance'!D497-V_bi","v":0},{"$f":"'2) Check for series resistance'!C497","v":""},"","","","","","",0,"",null,null,null,null,0,""]
[459,{"$f":"'3) Built-in voltage compensatio'!F494","v":0},{"$f":"'3) Built-in voltage compensatio'!G494","v":""},0,"",{"$f":"'2) Check for series resistance'!D498-V_bi","v":0},{"$f":"'2) Check for series resistance'!C498","v":""},"","","","","","",0,"",null,null,null,null,0,""]
[460,{"$f":"'3) Built-in voltage compensatio'!F495","v":0},{"$f":"'3) Built-in voltage compensatio'!G495","v":""},0,"",{"$f":"'2) Check for series resistance'!D499-V_bi","v":0},{"$f":"'2) Check for series resistance'!C499","v":""},"","","","","","",0,"",null,null,null,null,0,""]
[461,{"$f":"'3) Built-in voltage compensatio'!F496","v":0},{"$f":"'3) Built-in voltage compensatio'!G496","v":""},0,"",{"$f":"'2) Check for series resistance'!D500-V_bi","v":0},{"$f":"'2) Check for series resistance'!C500","v":""},"","","","","","",0,"",null,null,null,null,0,""]
[462,{"$f":"'3) Built-in voltage compensatio'!F497","v":0},{"$f":"'3) Built-in voltage compensatio'!G497","v":""},0,"",{"$f":"'2) Check for series resistance'!D501-V_bi","v":0},{"$f":"'2) Check for series resistance'!C501","v":""},"","","","","","",0,"",null,null,null,null,0,""]
[463,{"$f":"'3) Built-in voltage compensatio'!F498","v":0},{"$f":"'3) Built-in voltage compensatio'!G498","v":""},0,"",{"$f":"'2) Check for series resistance'!D502-V_bi","v":0},{"$f":"'2) Check for series resistance'!C502","v":""},"","","","","","",0,"",null,null,null,null,0,""]
[464,{"$f":"'3) Built-in voltage compensatio'!F499","v":0},{"$f":"'3) Built-in voltage compensatio'!G499","v":""},0,"",{"$f":"'2) Check for series resistance'!D503-V_bi","v":0},{"$f":"'2) Check for series resistance'!C503","v":""},"","","","","","",0,"",null,null,null,null,0,""]
[465,{"$f":"'3) Built-in voltage compensatio'!F500","v":0},{"$f":"'3) Built-in voltage compensatio'!G500","v":""},0,"",{"$f":"'2) Check for series resistance'!D504-V_bi","v":0},{"$f":"'2) Check for series resistance'!C504","v":""},"","","","","","",0,"",null,null,null,null,0,""]
[466,{"$f":"'3) Built-in voltage compensatio'!F501","v":0},{"$f":"'3) Built-in voltage compensatio'!G501","v":""},0,"",{"$f":"'2) Check for series resistance'!D505-V_bi","v":0},{"$f":"'2) Check for series resistance'!C505","v":""},"","","","","","",0,"",null,null,null,null,0,""]
[467,{"$f":"'3) Built-in voltage compensatio'!F502","v":0},{"$f":"'3) Built-in voltage compensatio'!G502","v":""},0,"",{"$f":"'2) Check for series resistance'!D506-V_bi","v":0},{"$f":"'2) Check for series resistance'!C506","v":""},"","","","","","",0,"",null,null,null,null,0,""]
[468,{"$f":"'3) Built-in voltage compensatio'!F503","v":0},{"$f":"'3) Built-in voltage compensatio'!G503","v":""},0,"",{"$f":"'2) Check for series resistance'!D507-V_bi","v":0},{"$f":"'2) Check for series resistance'!C507","v":""},"","","","","","",0,"",null,null,null,null,0,""]
[469,{"$f":"'3) Built-in voltage compensatio'!F504","v":0},{"$f":"'3) Built-in voltage compensatio'!G504","v":""},0,"",{"$f":"'2) Check for series resistance'!D508-V_bi","v":0},{"$f":"'2) Check for series resistance'!C508","v":""},"","","","","","",0,"",null,null,null,null,0,""]
[470,{"$f":"'3) Built-in voltage compensatio'!F505","v":0},{"$f":"'3) Built-in voltage compensatio'!G505","v":""},0,"",{"$f":"'2) Check for series resistance'!D509-V_bi","v":0},{"$f":"'2) Check for series resistance'!C509","v":""},"","","","","","",0,"",null,null,null,null,0,""]
[471,{"$f":"'3) Built-in voltage compensatio'!F506","v":0},{"$f":"'3) Built-in voltage compensatio'!G506","v":""},0,"",{"$f":"'2) Check for series resistance'!D510-V_bi","v":0},{"$f":"'2) Check for series resistance'!C510","v":""},"","","","","","",0,"",null,null,null,null,0,""]
[472,{"$f":"'3) Built-in voltage compensatio'!F507","v":0},{"$f":"'3) Built-in voltage compensatio'!G507","v":""},0,"",{"$f":"'2) Check for series resistance'!D511-V_bi","v":0},{"$f":"'2) Check for series resistance'!C511","v":""},"","","","","","",0,"",null,null,null,null,0,""]
[473,{"$f":"'3) Built-in voltage compensatio'!F508","v":0},{"$f":"'3) Built-in voltage compensatio'!G508","v":""},0,"",{"$f":"'2) Check for series resistance'!D512-V_bi","v":0},{"$f":"'2) Check for series resistance'!C512","v":""},"","","","","","",0,"",null,null,null,null,0,""]
[474,{"$f":"'3) Built-in voltage compensatio'!F509","v":0},{"$f":"'3) Built-in voltage compensatio'!G509","v":""},0,"",{"$f":"'2) Check for series resistance'!D513-V_bi","v":0},{"$f":"'2) Check for series resistance'!C513","v":""},"","","","","","",0,"",null,null,null,null,0,""]
[475,{"$f":"'3) Built-in voltage compensatio'!F510","v":0},{"$f":"'3) Built-in voltage compensatio'!G510","v":""},0,"",{"$f":"'2) Check for series resistance'!D514-V_bi","v":0},{"$f":"'2) Check for series resistance'!C514","v":""},"","","","","","",0,"",null,null,null,null,0,""]
[476,{"$f":"'3) Built-in voltage compensatio'!F511","v":0},{"$f":"'3) Built-in voltage compensatio'!G511","v":""},0,"",{"$f":"'2) Check for series resistance'!D515-V_bi","v":0},{"$f":"'2) Check for series resistance'!C515","v":""},"","","","","","",0,"",null,null,null,null,0,""]
[477,{"$f":"'3) Built-in voltage compensatio'!F512","v":0},{"$f":"'3) Built-in voltage compensatio'!G512","v":""},0,"",{"$f":"'2) Check for series resistance'!D516-V_bi","v":0},{"$f":"'2) Check for series resistance'!C516","v":""},"","","","","","",0,"",null,null,null,null,0,""]
[478,{"$f":"'3) Built-in voltage compensatio'!F513","v":0},{"$f":"'3) Built-in voltage compensatio'!G513","v":""},0,"",{"$f":"'2) Check for series resistance'!D517-V_bi","v":0},{"$f":"'2) Check for series resistance'!C517","v":""},"","","","","","",0,"",null,null,null,null,0,""]
[479,{"$f":"'3) Built-in voltage compensatio'!F514","v":0},{"$f":"'3) Built-in voltage compensatio'!G514","v":""},0,"",{"$f":"'2) Check for series resistance'!D518-V_bi","v":0},{"$f":"'2) Check for series resistance'!C518","v":""},"","","","","","",0,"",null,null,null,null,0,""]
[480,{"$f":"'3) Built-in voltage compensatio'!F515","v":0},{"$f":"'3) Built-in voltage compensatio'!G515","v":""},0,"",{"$f":"'2) Check for series resistance'!D519-V_bi","v":0},{"$f":"'2) Check for series resistance'!C519","v":""},"","","","","","",0,"",null,null,null,null,0,""]
[481,{"$f":"'3) Built-in voltage compensatio'!F516","v":0},{"$f":"'3) Built-in voltage compensatio'!G516","v":""},0,"",{"$f":"'2) Check for series resistance'!D520-V_bi","v":0},{"$f":"'2) Check for series resistance'!C520","v":""},"","","","","","",0,"",null,null,null,null,0,""]
[482,{"$f":"'3) Built-in voltage compensatio'!F517","v":0},{"$f":"'3) Built-in voltage compensatio'!G517","v":""},0,"",{"$f":"'2) Check for series resistance'!D521-V_bi","v":0},{"$f":"'2) Check for series resistance'!C521","v":""},"","","","","","",0,"",null,null,null,null,0,""]
[483,{"$f":"'3) Built-in voltage compensatio'!F518","v":0},{"$f":"'3) Built-in voltage compensatio'!G518","v":""},0,"",{"$f":"'2) Check for series resistance'!D522-V_bi","v":0},{"$f":"'2) Check for series resistance'!C522","v":""},"","","","","","",0,"",null,null,null,null,0,""]
[484,{"$f":"'3) Built-in voltage compensatio'!F519","v":0},{"$f":"'3) Built-in voltage compensatio'!G519","v":""},0,"",{"$f":"'2) Check for series resistance'!D523-V_bi","v":0},{"$f":"'2) Check for series resistance'!C523","v":""},"","","","","","",0,"",null,null,null,null,0,""]
[485,{"$f":"'3) Built-in voltage compensatio'!F520","v":0},{"$f":"'3) Built-in voltage compensatio'!G520","v":""},0,"",{"$f":"'2) Check for series resistance'!D524-V_bi","v":0},{"$f":"'2) Check for series resistance'!C524","v":""},"","","","","","",0,"",null,null,null,null,0,""]
[486,{"$f":"'3) Built-in voltage compensatio'!F521","v":0},{"$f":"'3) Built-in voltage compensatio'!G521","v":""},0,"",{"$f":"'2) Check for series resistance'!D525-V_bi","v":0},{"$f":"'2) Check for series resistance'!C525","v":""},"","","","","","",0,"",null,null,null,null,0,""]
[487,{"$f":"'3) Built-in voltage compensatio'!F522","v":0},{"$f":"'3) Built-in voltage compensatio'!G522","v":""},0,"",{"$f":"'2) Check for series resistance'!D526-V_bi","v":0},{"$f":"'2) Check for series resistance'!C526","v":""},"","","","","","",0,"",null,null,null,null,0,""]
[488,{"$f":"'3) Built-in voltage compensatio'!F523","v":0},{"$f":"'3) Built-in voltage compensatio'!G523","v":""},0,"",{"$f":"'2) Check for series resistance'!D527-V_bi","v":0},{"$f":"'2) Check for series resistance'!C527","v":""},"","","","","","",0,"",null,null,null,null,0,""]
[489,{"$f":"'3) Built-in voltage compensatio'!F524","v":0},{"$f":"'3) Built-in voltage compensatio'!G524","v":""},0,"",{"$f":"'2) Check for series resistance'!D528-V_bi","v":0},{"$f":"'2) Check for series resistance'!C528","v":""},"","","","","","",0,"",null,null,null,null,0,""]
[490,{"$f":"'3) Built-in voltage compensatio'!F525","v":0},{"$f":"'3) Built-in voltage compensatio'!G525","v":""},0,"",{"$f":"'2) Check for series resistance'!D529-V_bi","v":0},{"$f":"'2) Check for series resistance'!C529","v":""},"","","","","","",0,"",null,null,null,null,0,""]
[491,{"$f":"'3) Built-in voltage compensatio'!F526","v":0},{"$f":"'3) Built-in voltage compensatio'!G526","v":""},0,"",{"$f":"'2) Check for series resistance'!D530-V_bi","v":0},{"$f":"'2) Check for series resistance'!C530","v":""},"","","","","","",0,"",null,null,null,null,0,""]
[492,{"$f":"'3) Built-in voltage compensatio'!F527","v":0},{"$f":"'3) Built-in voltage compensatio'!G527","v":""},0,"",{"$f":"'2) Check for series resistance'!D531-V_bi","v":0},{"$f":"'2) Check for series resistance'!C531","v":""},"","","","","","",0,"",null,null,null,null,0,""]
[493,{"$f":"'3) Built-in voltage compensatio'!F528","v":0},{"$f":"'3) Built-in voltage compensatio'!G528","v":""},0,"",{"$f":"'2) Check for series resistance'!D532-V_bi","v":0},{"$f":"'2) Check for series resistance'!C532","v":""},"","","","","","",0,"",null,null,null,null,0,""]
[494,{"$f":"'3) Built-in voltage compensatio'!F529","v":0},{"$f":"'3) Built-in voltage compensatio'!G529","v":""},0,"",{"$f":"'2) Check for series resistance'!D533-V_bi","v":0},{"$f":"'2) Check for series resistance'!C533","v":""},"","","","","","",0,"",null,null,null,null,0,""]
[495,{"$f":"'3) Built-in voltage compensatio'!F530","v":0},{"$f":"'3) Built-in voltage compensatio'!G530","v":""},0,"",{"$f":"'2) Check for series resistance'!D534-V_bi","v":0},{"$f":"'2) Check for series resistance'!C534","v":""},"","","","","","",0,"",null,null,null,null,0,""]
[496,{"$f":"'3) Built-in voltage compensatio'!F531","v":0},{"$f":"'3) Built-in voltage compensatio'!G531","v":""},0,"",{"$f":"'2) Check for series resistance'!D535-V_bi","v":0},{"$f":"'2) Check for series resistance'!C535","v":""},"","","","","","",0,"",null,null,null,null,0,""]
[497,{"$f":"'3) Built-in voltage compensatio'!F532","v":0},{"$f":"'3) Built-in voltage compensatio'!G532","v":""},0,"",{"$f":"'2) Check for series resistance'!D536-V_bi","v":0},{"$f":"'2) Check for series resistance'!C536","v":""},"","","","","","",0,"",null,null,null,null,0,""]
[498,{"$f":"'3) Built-in voltage compensatio'!F533","v":0},{"$f":"'3) Built-in voltage compensatio'!G533","v":""},0,"",{"$f":"'2) Check for series resistance'!D537-V_bi","v":0},{"$f":"'2) Check for series resistance'!C537","v":""},"","","","","","",0,"",null,null,null,null,0,""]
[499,{"$f":"'3) Built-in voltage compensatio'!F534","v":0},{"$f":"'3) Built-in voltage compensatio'!G534","v":""},0,"",{"$f":"'2) Check for series resistance'!D538-V_bi","v":0},{"$f":"'2) Check for series resistance'!C538","v":""},"","","","","","",0,"",null,null,null,null,0,""]
[500,{"$f":"'3) Built-in voltage compensatio'!F535","v":0},{"$f":"'3) Built-in voltage compensatio'!G535","v":""},0,"",{"$f":"'2) Check for series resistance'!D539-V_bi","v":0},{"$f":"'2) Check for series resistance'!C539","v":""},"","","","","","",0,"",null,null,null,null,0,""]
[501,{"$f":"'3) Built-in voltage compensatio'!F536","v":0},{"$f":"'3) Built-in voltage compensatio'!G536","v":""},0,"",{"$f":"'2) Check for series resistance'!D540-V_bi","v":0},{"$f":"'2) Check for series resistance'!C540","v":""},"","","","","","",0,"",null,null,null,null,0,""]
[502,{"$f":"'3) Built-in voltage compensatio'!F537","v":0},{"$f":"'3) Built-in voltage compensatio'!G537","v":""},0,"",{"$f":"'2) Check for series resistance'!D541-V_bi","v":0},{"$f":"'2) Check for series resistance'!C541","v":""},"","","","","","",0,"",null,null,null,null,0,""]
[503,{"$f":"'3) Built-in voltage compensatio'!F538","v":0},{"$f":"'3) Built-in voltage compensatio'!G538","v":""},0,"",{"$f":"'2) Check for series resistance'!D542-V_bi","v":0},{"$f":"'2) Check for series resistance'!C542","v":""},"","","","","","",0,"",null,null,null,null,0,""]
[504,{"$f":"'3) Built-in voltage compensatio'!F539","v":0},{"$f":"'3) Built-in voltage compensatio'!G539","v":""},0,"",{"$f":"'2) Check for series resistance'!D543-V_bi","v":0},{"$f":"'2) Check for series resistance'!C543","v":""},"","","","","","",0,"",null,null,null,null,0,""]
[505,{"$f":"'3) Built-in voltage compensatio'!F540","v":0},{"$f":"'3) Built-in voltage compensatio'!G540","v":""},0,"",{"$f":"'2) Check for series resistance'!D544-V_bi","v":0},{"$f":"'2) Check for series resistance'!C544","v":""},"","","","","","",0,"",null,null,null,null,0,""]
[506,{"$f":"'3) Built-in voltage compensatio'!F541","v":0},{"$f":"'3) Built-in voltage compensatio'!G541","v":""},0,"",{"$f":"'2) Check for series resistance'!D545-V_bi","v":0},{"$f":"'2) Check for series resistance'!C545","v":""},"","","","","","",0,"",null,null,null,null,0,""]
[507,{"$f":"'3) Built-in voltage compensatio'!F542","v":0},{"$f":"'3) Built-in voltage compensatio'!G542","v":""},0,"",{"$f":"'2) Check for series resistance'!D546-V_bi","v":0},{"$f":"'2) Check for series resistance'!C546","v":""},"","","","","","",0,"",null,null,null,null,0,""]
[508,{"$f":"'3) Built-in voltage compensatio'!F543","v":0},{"$f":"'3) Built-in voltage compensatio'!G543","v":""},0,"",{"$f":"'2) Check for series resistance'!D547-V_bi","v":0},{"$f":"'2) Check for series resistance'!C547","v":""},"","","","","","",0,"",null,null,null,null,0,""]
[509,{"$f":"'3) Built-in voltage compensatio'!F544","v":0},{"$f":"'3) Built-in voltage compensatio'!G544","v":""},0,"",{"$f":"'2) Check for series resistance'!D548-V_bi","v":0},{"$f":"'2) Check for series resistance'!C548","v":""},"","","","","","",0,"",null,null,null,null,0,""]
[510,{"$f":"'3) Built-in voltage compensatio'!F545","v":0},{"$f":"'3) Built-in voltage compensatio'!G545","v":""},0,"",{"$f":"'2) Check for series resistance'!D549-V_bi","v":0},{"$f":"'2) Check for series resistance'!C549","v":""},"","","","","","",0,"",null,null,null,null,0,""]
[511,{"$f":"'3) Built-in voltage compensatio'!F546","v":0},{"$f":"'3) Built-in voltage compensatio'!G546","v":""},0,"",{"$f":"'2) Check for series resistance'!D550-V_bi","v":0},{"$f":"'2) Check for series resistance'!C550","v":""},"","","","","","",0,"",null,null,null,null,0,""]
[512,{"$f":"'3) Built-in voltage compensatio'!F547","v":0},{"$f":"'3) Built-in voltage compensatio'!G547","v":""},0,"",{"$f":"'2) Check for series resistance'!D551-V_bi","v":0},{"$f":"'2) Check for series resistance'!C551","v":""},"","","","","","",0,"",null,null,null,null,0,""]
[513,{"$f":"'3) Built-in voltage compensatio'!F548","v":0},{"$f":"'3) Built-in voltage compensatio'!G548","v":""},0,{"$f":"IF(D551>=Vloewr,IF(D551<=Vupper,C551,\"\"),\"\")","v":""},{"$f":"'2) Check for series resistance'!D552-V_bi","v":0},{"$f":"'2) Check for series resistance'!C552","v":""},"","","","","","",0,{"$f":"IF(N551>0,A*(9/8)*mu0*eps*(B551*B551)/(d_cm*d_cm*d_cm)*EXP(0.891*gamma*SQRT(B551/d_cm)),\"\")","v":""},null,null,null,null,0,{"$f":"IF(T551>0,A*(9/8)*mu0*eps*(F551*F551)/(d_cm*d_cm*d_cm)*EXP(0.891*gamma*SQRT(F551/d_cm)),\"\")","v":""}]
[514,{"$f":"'3) Built-in voltage compensatio'!F549","v":0},{"$f":"'3) Built-in voltage compensatio'!G549","v":""},{"$f":"B552","v":0},"",{"$f":"'2) Check for series resistance'!D553-V_bi","v":0},{"$f":"'2) Check for series resistance'!C553","v":""},{"$f":"IF(D552>0,LOG10(D552),\"\")","v":""},{"$f":"IF(E552<>\"\",IF(E552>0,LOG10(E552),\"\"),\"\")","v":""},{"$f":"IF(AND(H552<>\"\",H552>0),LOG10(A*mu0*(9/8)*eps/(d_cm*d_cm*d_cm))+2*H552+0.387*POWER(10,H552/2)*gamma/SQRT(d_cm),\"\")","v":""},{"$f":"IF(AND(I552<>\"\",J552<>\"\"),I552-J552,\"\")","v":""},{"$f":"IF(K552<>\"\",K552*K552,\"\")","v":""},{"$f":"IF(AND(U552<>\"\",G552<>\"\"),IF(OR(G552/U552>1.258,G552/U552<0.794),\"\",F552),\"\")","v":""},{"$f":"B552","v":0},"",null,null,null,null,{"$f":"F552","v":0},""]
[515,{"$f":"'3) Built-in voltage compensatio'!F550","v":0},{"$f":"'3) Built-in voltage compensatio'!G550","v":""},0,"",{"$f":"'2) Check for series resistance'!D554-V_bi","v":0},{"$f":"'2) Check for series resistance'!C554","v":""},"","","","","","",0,"",null,null,null,null,0,""]
[516,{"$f":"'3) Built-in voltage compensatio'!F551","v":0},{"$f":"'3) Built-in voltage compensatio'!G551","v":""},0,"",{"$f":"'2) Check for series resistance'!D555-V_bi","v":0},{"$f":"'2) Check for series resistance'!C555","v":""},"","","","","","",0,"",null,null,null,null,0,""]
[517,{"$f":"'3) Built-in voltage compensatio'!F552","v":0},{"$f":"'3) Built-in voltage compensatio'!G552","v":""},0,"",{"$f":"'2) Check for series resistance'!D556-V_bi","v":0},{"$f":"'2) Check for series resistance'!C556","v":""},"","","","","","",0,"",null,null,null,null,0,""]
[518,{"$f":"'3) Built-in voltage compensatio'!F553","v":0},{"$f":"'3) Built-in voltage compensatio'!G553","v":""},0,"",{"$f":"'2) Check for series resistance'!D557-V_bi","v":0},{"$f":"'2) Check for series resistance'!C557","v":""},"","","","","","",0,"",null,null,null,null,0,""]
[519,{"$f":"'3) Built-in voltage compensatio'!F554","v":0},{"$f":"'3) Built-in voltage compensatio'!G554","v":""},0,"",{"$f":"'2) Check for series resistance'!D558-V_bi","v":0},{"$f":"'2) Check for series resistance'!C558","v":""},"","","","","","",0,"",null,null,null,null,0,""]
[520,{"$f":"'3) Built-in voltage compensatio'!F555","v":0},{"$f":"'3) Built-in voltage compensatio'!G555","v":""},0,"",{"$f":"'2) Check for series resistance'!D559-V_bi","v":0},{"$f":"'2) Check for series resistance'!C559","v":""},"","","","","","",0,"",null,null,null,null,0,""]
[521,{"$f":"'3) Built-in voltage compensatio'!F556","v":0},{"$f":"'3) Built-in voltage compensatio'!G556","v":""},0,"",{"$f":"'2) Check for series resistance'!D560-V_bi","v":0},{"$f":"'2) Check for series resistance'!C560","v":""},"","","","","","",0,"",null,null,null,null,0,""]
[522,{"$f":"'3) Built-in voltage compensatio'!F557","v":0},{"$f":"'3) Built-in voltage compensatio'!G557","v":""},0,"",{"$f":"'2) Check for series resistance'!D561-V_bi","v":0},{"$f":"'2) Check for series resistance'!C561","v":""},"","","","","","",0,"",null,null,null,null,0,""]
[523,{"$f":"'3) Built-in voltage compensatio'!F558","v":0},{"$f":"'3) Built-in voltage compensatio'!G558","v":""},0,"",{"$f":"'2) Check for series resistance'!D562-V_bi","v":0},{"$f":"'2) Check for series resistance'!C562","v":""},"","","","","","",0,"",null,null,null,null,0,""]
[524,{"$f":"'3) Built-in voltage compensatio'!F559","v":0},{"$f":"'3) Built-in voltage compensatio'!G559","v":""},0,"",{"$f":"'2) Check for series resistance'!D563-V_bi","v":0},{"$f":"'2) Check for series resistance'!C563","v":""},"","","","","","",0,"",null,null,null,null,0,""]
[525,{"$f":"'3) Built-in voltage compensatio'!F560","v":0},{"$f":"'3) Built-in voltage compensatio'!G560","v":""},0,"",{"$f":"'2) Check for series resistance'!D564-V_bi","v":0},{"$f":"'2) Check for series resistance'!C564","v":""},"","","","","","",0,"",null,null,null,null,0,""]
[526,{"$f":"'3) Built-in voltage compensatio'!F561","v":0},{"$f":"'3) Built-in voltage compensatio'!G561","v":""},0,"",{"$f":"'2) Check for series resistance'!D565-V_bi","v":0},{"$f":"'2) Check for series resistance'!C565","v":""},"","","","","","",0,"",null,null,null,null,0,""]
[527,{"$f":"'3) Built-in voltage compensatio'!F562","v":0},{"$f":"'3) Built-in voltage compensatio'!G562","v":""},0,"",{"$f":"'2) Check for series resistance'!D566-V_bi","v":0},{"$f":"'2) Check for series resistance'!C566","v":""},"","","","","","",0,"",null,null,null,null,0,""]
[528,{"$f":"'3) Built-in voltage compensatio'!F563","v":0},{"$f":"'3) Built-in voltage compensatio'!G563","v":""},0,"",{"$f":"'2) Check for series resistance'!D567-V_bi","v":0},{"$f":"'2) Check for series resistance'!C567","v":""},"","","","","","",0,"",null,null,null,null,0,""]
[529,{"$f":"'3) Built-in voltage compensatio'!F564","v":0},{"$f":"'3) Built-in voltage compensatio'!G564","v":""},0,"",{"$f":"'2) Check for series resistance'!D568-V_bi","v":0},{"$f":"'2) Check for series resistance'!C568","v":""},"","","","","","",0,"",null,null,null,null,0,""]
[530,{"$f":"'3) Built-in voltage compensatio'!F565","v":0},{"$f":"'3) Built-in voltage compensatio'!G565","v":""},0,"",{"$f":"'2) Check for series resistance'!D569-V_bi","v":0},{"$f":"'2) Check for series resistance'!C569","v":""},"","","","","","",0,"",null,null,null,null,0,""]
[531,{"$f":"'3) Built-in voltage compensatio'!F566","v":0},{"$f":"'3) Built-in voltage compensatio'!G566","v":""},0,"",{"$f":"'2) Check for series resistance'!D570-V_bi","v":0},{"$f":"'2) Check for series resistance'!C570","v":""},"","","","","","",0,"",null,null,null,null,0,""]
[532,{"$f":"'3) Built-in voltage compensatio'!F567","v":0},{"$f":"'3) Built-in voltage compensatio'!G567","v":""},0,"",{"$f":"'2) Check for series resistance'!D571-V_bi","v":0},{"$f":"'2) Check for series resistance'!C571","v":""},"","","","","","",0,"",null,null,null,null,0,""]
[533,{"$f":"'3) Built-in voltage compensatio'!F568","v":0},{"$f":"'3) Built-in voltage compensatio'!G568","v":""},0,"",{"$f":"'2) Check for series resistance'!D572-V_bi","v":0},{"$f":"'2) Check for series resistance'!C572","v":""},"","","","","","",0,"",null,null,null,null,0,""]
[534,{"$f":"'3) Built-in voltage compensatio'!F569","v":0},{"$f":"'3) Built-in voltage compensatio'!G569","v":""},0,"",{"$f":"'2) Check for series resistance'!D573-V_bi","v":0},{"$f":"'2) Check for series resistance'!C573","v":""},"","","","","","",0,"",null,null,null,null,0,""]
[535,{"$f":"'3) Built-in voltage compensatio'!F570","v":0},{"$f":"'3) Built-in voltage compensatio'!G570","v":""},0,"",{"$f":"'2) Check for series resistance'!D574-V_bi","v":0},{"$f":"'2) Check for series resistance'!C574","v":""},"","","","","","",0,"",null,null,null,null,0,""]
[536,{"$f":"'3) Built-in voltage compensatio'!F571","v":0},{"$f":"'3) Built-in voltage compensatio'!G571","v":""},0,"",{"$f":"'2) Check for series resistance'!D575-V_bi","v":0},{"$f":"'2) Check for series resistance'!C575","v":""},"","","","","","",0,"",null,null,null,null,0,""]
[537,{"$f":"'3) Built-in voltage compensatio'!F572","v":0},{"$f":"'3) Built-in voltage compensatio'!G572","v":""},0,"",{"$f":"'2) Check for series resistance'!D576-V_bi","v":0},{"$f":"'2) Check for series resistance'!C576","v":""},"","","","","","",0,"",null,null,null,null,0,""]
[538,{"$f":"'3) Built-in voltage compensatio'!F573","v":0},{"$f":"'3) Built-in voltage compensatio'!G573","v":""},0,"",{"$f":"'2) Check for series resistance'!D577-V_bi","v":0},{"$f":"'2) Check for series resistance'!C577","v":""},"","","","","","",0,"",null,null,null,null,0,""]
[539,{"$f":"'3) Built-in voltage compensatio'!F574","v":0},{"$f":"'3) Built-in voltage compensatio'!G574","v":""},0,"",{"$f":"'2) Check for series resistance'!D578-V_bi","v":0},{"$f":"'2) Check for series resistance'!C578","v":""},"","","","","","",0,"",null,null,null,null,0,""]
[540,{"$f":"'3) Built-in voltage compensatio'!F575","v":0},{"$f":"'3) Built-in voltage compensatio'!G575","v":""},0,"",{"$f":"'2) Check for series resistance'!D579-V_bi","v":0},{"$f":"'2) Check for series resistance'!C579","v":""},"","","","","","",0,"",null,null,null,null,0,""]
[541,{"$f":"'3) Built-in voltage compensatio'!F576","v":0},{"$f":"'3) Built-in voltage compensatio'!G576","v":""},0,"",{"$f":"'2) Check for series resistance'!D580-V_bi","v":0},{"$f":"'2) Check for series resistance'!C580","v":""},"","","","","","",0,"",null,null,null,null,0,""]
[542,{"$f":"'3) Built-in voltage compensatio'!F577","v":0},{"$f":"'3) Built-in voltage compensatio'!G577","v":""},0,"",{"$f":"'2) Check for series resistance'!D581-V_bi","v":0},{"$f":"'2) Check for series resistance'!C581","v":""},"","","","","","",0,"",null,null,null,null,0,""]
[543,{"$f":"'3) Built-in voltage compensatio'!F578","v":0},{"$f":"'3) Built-in voltage compensatio'!G578","v":""},0,"",{"$f":"'2) Check for series resistance'!D582-V_bi","v":0},{"$f":"'2) Check for series resistance'!C582","v":""},"","","","","","",0,"",null,null,null,null,0,""]
[544,{"$f":"'3) Built-in voltage compensatio'!F579","v":0},{"$f":"'3) Built-in voltage compensatio'!G579","v":""},0,"",{"$f":"'2) Check for series resistance'!D583-V_bi","v":0},{"$f":"'2) Check for series resistance'!C583","v":""},"","","","","","",0,"",null,null,null,null,0,""]
[545,{"$f":"'3) Built-in voltage compensatio'!F580","v":0},{"$f":"'3) Built-in voltage compensatio'!G580","v":""},0,"",{"$f":"'2) Check for series resistance'!D584-V_bi","v":0},{"$f":"'2) Check for series resistance'!C584","v":""},"","","","","","",0,"",null,null,null,null,0,""]
[546,{"$f":"'3) Built-in voltage compensatio'!F581","v":0},{"$f":"'3) Built-in voltage compensatio'!G581","v":""},0,"",{"$f":"'2) Check for series resistance'!D585-V_bi","v":0},{"$f":"'2) Check for series resistance'!C585","v":""},"","","","","","",0,"",null,null,null,null,0,""]
[547,{"$f":"'3) Built-in voltage compensatio'!F582","v":0},{"$f":"'3) Built-in voltage compensatio'!G582","v":""},0,"",{"$f":"'2) Check for series resistance'!D586-V_bi","v":0},{"$f":"'2) Check for series resistance'!C586","v":""},"","","","","","",0,"",null,null,null,null,0,""]
[548,{"$f":"'3) Built-in voltage compensatio'!F583","v":0},{"$f":"'3) Built-in voltage compensatio'!G583","v":""},0,"",{"$f":"'2) Check for series resistance'!D587-V_bi","v":0},{"$f":"'2) Check for series resistance'!C587","v":""},"","","","","","",0,"",null,null,null,null,0,""]
[549,{"$f":"'3) Built-in voltage compensatio'!F584","v":0},{"$f":"'3) Built-in voltage compensatio'!G584","v":""},0,"",{"$f":"'2) Check for series resistance'!D588-V_bi","v":0},{"$f":"'2) Check for series resistance'!C588","v":""},"","","","","","",0,"",null,null,null,null,0,""]
[550,{"$f":"'3) Built-in voltage compensatio'!F585","v":0},{"$f":"'3) Built-in voltage compensatio'!G585","v":""},0,"",{"$f":"'2) Check for series resistance'!D589-V_bi","v":0},{"$f":"'2) Check for series resistance'!C589","v":""},"","","","","","",0,"",null,null,null,null,0,""]
[551,{"$f":"'3) Built-in voltage compensatio'!F586","v":0},{"$f":"'3) Built-in voltage compensatio'!G586","v":""},0,"",{"$f":"'2) Check for series resistance'!D590-V_bi","v":0},{"$f":"'2) Check for series resistance'!C590","v":""},"","","","","","",0,"",null,null,null,null,0,""]
[552,{"$f":"'3) Built-in voltage compensatio'!F587","v":0},{"$f":"'3) Built-in voltage compensatio'!G587","v":""},0,"",{"$f":"'2) Check for series resistance'!D591-V_bi","v":0},{"$f":"'2) Check for series resistance'!C591","v":""},"","","","","","",0,"",null,null,null,null,0,""]
[553,{"$f":"'3) Built-in voltage compensatio'!F588","v":0},{"$f":"'3) Built-in voltage compensatio'!G588","v":""},0,"",{"$f":"'2) Check for series resistance'!D592-V_bi","v":0},{"$f":"'2) Check for series resistance'!C592","v":""},"","","","","","",0,"",null,null,null,null,0,""]
[554,{"$f":"'3) Built-in voltage compensatio'!F589","v":0},{"$f":"'3) Built-in voltage compensatio'!G589","v":""},0,"",{"$f":"'2) Check for series resistance'!D593-V_bi","v":0},{"$f":"'2) Check for series resistance'!C593","v":""},"","","","","","",0,"",null,null,null,null,0,""]
[555,{"$f":"'3) Built-in voltage compensatio'!F590","v":0},{"$f":"'3) Built-in voltage compensatio'!G590","v":""},0,"",{"$f":"'2) Check for series resistance'!D594-V_bi","v":0},{"$f":"'2) Check for series resistance'!C594","v":""},"","","","","","",0,"",null,null,null,null,0,""]
[556,{"$f":"'3) Built-in voltage compensatio'!F591","v":0},{"$f":"'3) Built-in voltage compensatio'!G591","v":""},0,"",{"$f":"'2) Check for series resistance'!D595-V_bi","v":0},{"$f":"'2) Check for series resistance'!C595","v":""},"","","","","","",0,"",null,null,null,null,0,""]
[557,{"$f":"'3) Built-in voltage compensatio'!F592","v":0},{"$f":"'3) Built-in voltage compensatio'!G592","v":""},0,"",{"$f":"'2) Check for series resistance'!D596-V_bi","v":0},{"$f":"'2) Check for series resistance'!C596","v":""},"","","","","","",0,"",null,null,null,null,0,""]
[558,{"$f":"'3) Built-in voltage compensatio'!F593","v":0},{"$f":"'3) Built-in voltage compensatio'!G593","v":""},0,"",{"$f":"'2) Check for series resistance'!D597-V_bi","v":0},{"$f":"'2) Check for series resistance'!C597","v":""},"","","","","","",0,"",null,null,null,null,0,""]
[559,{"$f":"'3) Built-in voltage compensatio'!F594","v":0},{"$f":"'3) Built-in voltage compensatio'!G594","v":""},0,"",{"$f":"'2) Check for series resistance'!D598-V_bi","v":0},{"$f":"'2) Check for series resistance'!C598","v":""},"","","","","","",0,"",null,null,null,null,0,""]
[560,{"$f":"'3) Built-in voltage compensatio'!F595","v":0},{"$f":"'3) Built-in voltage compensatio'!G595","v":""},0,"",{"$f":"'2) Check for series resistance'!D599-V_bi","v":0},{"$f":"'2) Check for series resistance'!C599","v":""},"","","","","","",0,"",null,null,null,null,0,""]
[561,{"$f":"'3) Built-in voltage compensatio'!F596","v":0},{"$f":"'3) Built-in voltage compensatio'!G596","v":""},0,"",{"$f":"'2) Check for series resistance'!D600-V_bi","v":0},{"$f":"'2) Check for series resistance'!C600","v":""},"","","","","","",0,"",null,null,null,null,0,""]
[562,{"$f":"'3) Built-in voltage compensatio'!F597","v":0},{"$f":"'3) Built-in voltage compensatio'!G597","v":""},0,"",{"$f":"'2) Check for series resistance'!D601-V_bi","v":0},{"$f":"'2) Check for series resistance'!C601","v":""},"","","","","","",0,"",null,null,null,null,0,""]
[563,{"$f":"'3) Built-in voltage compensatio'!F598","v":0},{"$f":"'3) Built-in voltage compensatio'!G598","v":""},0,"",{"$f":"'2) Check for series resistance'!D602-V_bi","v":0},{"$f":"'2) Check for series resistance'!C602","v":""},"","","","","","",0,"",null,null,null,null,0,""]
[564,{"$f":"'3) Built-in voltage compensatio'!F599","v":0},{"$f":"'3) Built-in voltage compensatio'!G599","v":""},0,"",{"$f":"'2) Check for series resistance'!D603-V_bi","v":0},{"$f":"'2) Check for series resistance'!C603","v":""},"","","","","","",0,"",null,null,null,null,0,""]
[565,{"$f":"'3) Built-in voltage compensatio'!F600","v":0},{"$f":"'3) Built-in voltage compensatio'!G600","v":""},0,"",{"$f":"'2) Check for series resistance'!D604-V_bi","v":0},{"$f":"'2) Check for series resistance'!C604","v":""},"","","","","","",0,"",null,null,null,null,0,""]
[566,{"$f":"'3) Built-in voltage compensatio'!F601","v":0},{"$f":"'3) Built-in voltage compensatio'!G601","v":""},0,"",{"$f":"'2) Check for series resistance'!D605-V_bi","v":0},{"$f":"'2) Check for series resistance'!C605","v":""},"","","","","","",0,"",null,null,null,null,0,""]
[567,{"$f":"'3) Built-in voltage compensatio'!F602","v":0},{"$f":"'3) Built-in voltage compensatio'!G602","v":""},0,"",{"$f":"'2) Check for series resistance'!D606-V_bi","v":0},{"$f":"'2) Check for series resistance'!C606","v":""},"","","","","","",0,"",null,null,null,null,0,""]
[568,{"$f":"'3) Built-in voltage compensatio'!F603","v":0},{"$f":"'3) Built-in voltage compensatio'!G603","v":""},0,"",{"$f":"'2) Check for series resistance'!D607-V_bi","v":0},{"$f":"'2) Check for series resistance'!C607","v":""},"","","","","","",0,"",null,null,null,null,0,""]
[569,{"$f":"'3) Built-in voltage compensatio'!F604","v":0},{"$f":"'3) Built-in voltage compensatio'!G604","v":""},0,"",{"$f":"'2) Check for series resistance'!D608-V_bi","v":0},{"$f":"'2) Check for series resistance'!C608","v":""},"","","","","","",0,"",null,null,null,null,0,""]
[570,{"$f":"'3) Built-in voltage compensatio'!F605","v":0},{"$f":"'3) Built-in voltage compensatio'!G605","v":""},0,"",{"$f":"'2) Check for series resistance'!D609-V_bi","v":0},{"$f":"'2) Check for series resistance'!C609","v":""},"","","","","","",0,"",null,null,null,null,0,""]
[571,{"$f":"'3) Built-in voltage compensatio'!F606","v":0},{"$f":"'3) Built-in voltage compensatio'!G606","v":""},0,"",{"$f":"'2) Check for series resistance'!D610-V_bi","v":0},{"$f":"'2) Check for series resistance'!C610","v":""},"","","","","","",0,"",null,null,null,null,0,""]
[572,{"$f":"'3) Built-in voltage compensatio'!F607","v":0},{"$f":"'3) Built-in voltage compensatio'!G607","v":""},0,"",{"$f":"'2) Check for series resistance'!D611-V_bi","v":0},{"$f":"'2) Check for series resistance'!C611","v":""},"","","","","","",0,"",null,null,null,null,0,""]
[573,{"$f":"'3) Built-in voltage compensatio'!F608","v":0},{"$f":"'3) Built-in voltage compensatio'!G608","v":""},0,"",{"$f":"'2) Check for series resistance'!D612-V_bi","v":0},{"$f":"'2) Check for series resistance'!C612","v":""},"","","","","","",0,"",null,null,null,null,0,""]
[574,{"$f":"'3) Built-in voltage compensatio'!F609","v":0},{"$f":"'3) Built-in voltage compensatio'!G609","v":""},0,"",{"$f":"'2) Check for series resistance'!D613-V_bi","v":0},{"$f":"'2) Check for series resistance'!C613","v":""},"","","","","","",0,"",null,null,null,null,0,""]
[575,{"$f":"'3) Built-in voltage compensatio'!F610","v":0},{"$f":"'3) Built-in voltage compensatio'!G610","v":""},0,"",{"$f":"'2) Check for series resistance'!D614-V_bi","v":0},{"$f":"'2) Check for series resistance'!C614","v":""},"","","","","","",0,"",null,null,null,null,0,""]
[576,{"$f":"'3) Built-in voltage compensatio'!F611","v":0},{"$f":"'3) Built-in voltage compensatio'!G611","v":""},0,"",{"$f":"'2) Check for series resistance'!D615-V_bi","v":0},{"$f":"'2) Check for series resistance'!C615","v":""},"","","","","","",0,"",null,null,null,null,0,""]
[577,{"$f":"'3) Built-in voltage compensatio'!F612","v":0},{"$f":"'3) Built-in voltage compensatio'!G612","v":""},0,{"$f":"IF(D615>=Vloewr,IF(D615<=Vupper,C615,\"\"),\"\")","v":""},{"$f":"'2) Check for series resistance'!D616-V_bi","v":0},{"$f":"'2) Check for series resistance'!C616","v":""},"","","","","","",0,{"$f":"IF(N615>0,A*(9/8)*mu0*eps*(B615*B615)/(d_cm*d_cm*d_cm)*EXP(0.891*gamma*SQRT(B615/d_cm)),\"\")","v":""},null,null,null,null,0,{"$f":"IF(T615>0,A*(9/8)*mu0*eps*(F615*F615)/(d_cm*d_cm*d_cm)*EXP(0.891*gamma*SQRT(F615/d_cm)),\"\")","v":""}]
[578,{"$f":"'3) Built-in voltage compensatio'!F613","v":0},{"$f":"'3) Built-in voltage compensatio'!G613","v":""},{"$f":"B616","v":0},"",{"$f":"'2) Check for series resistance'!D617-V_bi","v":0},{"$f":"'2) Check for series resistance'!C617","v":""},{"$f":"IF(D616>0,LOG10(D616),\"\")","v":""},{"$f":"IF(E616<>\"\",IF(E616>0,LOG10(E616),\"\"),\"\")","v":""},{"$f":"IF(AND(H616<>\"\",H616>0),LOG10(A*mu0*(9/8)*eps/(d_cm*d_cm*d_cm))+2*H616+0.387*POWER(10,H616/2)*gamma/SQRT(d_cm),\"\")","v":""},{"$f":"IF(AND(I616<>\"\",J616<>\"\"),I616-J616,\"\")","v":""},{"$f":"IF(K616<>\"\",K616*K616,\"\")","v":""},{"$f":"IF(AND(U616<>\"\",G616<>\"\"),IF(OR(G616/U616>1.258,G616/U616<0.794),\"\",F616),\"\")","v":""},{"$f":"B616","v":0},"",null,null,null,null,{"$f":"F616","v":0},""]
[579,{"$f":"'3) Built-in voltage compensatio'!F614","v":0},{"$f":"'3) Built-in voltage compensatio'!G614","v":""},0,"",{"$f":"'2) Check for series resistance'!D618-V_bi","v":0},{"$f":"'2) Check for series resistance'!C618","v":""},"","","","","","",0,"",null,null,null,null,0,""]
[580,{"$f":"'3) Built-in voltage compensatio'!F615","v":0},{"$f":"'3) Built-in voltage compensatio'!G615","v":""},0,"",{"$f":"'2) Check for series resistance'!D619-V_bi","v":0},{"$f":"'2) Check for series resistance'!C619","v":""},"","","","","","",0,"",null,null,null,null,0,""]
[581,{"$f":"'3) Built-in voltage compensatio'!F616","v":0},{"$f":"'3) Built-in voltage compensatio'!G616","v":""},0,"",{"$f":"'2) Check for series resistance'!D620-V_bi","v":0},{"$f":"'2) Check for series resistance'!C620","v":""},"","","","","","",0,"",null,null,null,null,0,""]
[582,{"$f":"'3) Built-in voltage compensatio'!F617","v":0},{"$f":"'3) Built-in voltage compensatio'!G617","v":""},0,"",{"$f":"'2) Check for series resistance'!D621-V_bi","v":0},{"$f":"'2) Check for series resistance'!C621","v":""},"","","","","","",0,"",null,null,null,null,0,""]
[583,{"$f":"'3) Built-in voltage compensatio'!F618","v":0},{"$f":"'3) Built-in voltage compensatio'!G618","v":""},0,"",{"$f":"'2) Check for series resistance'!D622-V_bi","v":0},{"$f":"'2) Check for series resistance'!C622","v":""},"","","","","","",0,"",null,null,null,null,0,""]
[584,{"$f":"'3) Built-in voltage compensatio'!F619","v":0},{"$f":"'3) Built-in voltage compensatio'!G619","v":""},0,"",{"$f":"'2) Check for series resistance'!D623-V_bi","v":0},{"$f":"'2) Check for series resistance'!C623","v":""},"","","","","","",0,"",null,null,null,null,0,""]
[585,{"$f":"'3) Built-in voltage compensatio'!F620","v":0},{"$f":"'3) Built-in voltage compensatio'!G620","v":""},0,"",{"$f":"'2) Check for series resistance'!D624-V_bi","v":0},{"$f":"'2) Check for series resistance'!C624","v":""},"","","","","","",0,"",null,null,null,null,0,""]
[586,{"$f":"'3) Built-in voltage compensatio'!F621","v":0},{"$f":"'3) Built-in voltage compensatio'!G621","v":""},0,"",{"$f":"'2) Check for series resistance'!D625-V_bi","v":0},{"$f":"'2) Check for series resistance'!C625","v":""},"","","","","","",0,"",null,null,null,null,0,""]
[587,{"$f":"'3) Built-in voltage compensatio'!F622","v":0},{"$f":"'3) Built-in voltage compensatio'!G622","v":""},0,"",{"$f":"'2) Check for series resistance'!D626-V_bi","v":0},{"$f":"'2) Check for series resistance'!C626","v":""},"","","","","","",0,"",null,null,null,null,0,""]
[588,{"$f":"'3) Built-in voltage compensatio'!F623","v":0},{"$f":"'3) Built-in voltage compensatio'!G623","v":""},0,"",{"$f":"'2) Check for series resistance'!D627-V_bi","v":0},{"$f":"'2) Check for series resistance'!C627","v":""},"","","","","","",0,"",null,null,null,null,0,""]
[589,{"$f":"'3) Built-in voltage compensatio'!F624","v":0},{"$f":"'3) Built-in voltage compensatio'!G624","v":""},0,"",{"$f":"'2) Check for series resistance'!D628-V_bi","v":0},{"$f":"'2) Check for series resistance'!C628","v":""},"","","","","","",0,"",null,null,null,null,0,""]
[590,{"$f":"'3) Built-in voltage compensatio'!F625","v":0},{"$f":"'3) Built-in voltage compensatio'!G625","v":""},0,"",{"$f":"'2) Check for series resistance'!D629-V_bi","v":0},{"$f":"'2) Check for series resistance'!C629","v":""},"","","","","","",0,"",null,null,null,null,0,""]
[591,{"$f":"'3) Built-in voltage compensatio'!F626","v":0},{"$f":"'3) Built-in voltage compensatio'!G626","v":""},0,"",{"$f":"'2) Check for series resistance'!D630-V_bi","v":0},{"$f":"'2) Check for series resistance'!C630","v":""},"","","","","","",0,"",null,null,null,null,0,""]
[592,{"$f":"'3) Built-in voltage compensatio'!F627","v":0},{"$f":"'3) Built-in voltage compensatio'!G627","v":""},0,"",{"$f":"'2) Check for series resistance'!D631-V_bi","v":0},{"$f":"'2) Check for series resistance'!C631","v":""},"","","","","","",0,"",null,null,null,null,0,""]
[593,{"$f":"'3) Built-in voltage compensatio'!F628","v":0},{"$f":"'3) Built-in voltage compensatio'!G628","v":""},0,"",{"$f":"'2) Check for series resistance'!D632-V_bi","v":0},{"$f":"'2) Check for series resistance'!C632","v":""},"","","","","","",0,"",null,null,null,null,0,""]
[594,{"$f":"'3) Built-in voltage compensatio'!F629","v":0},{"$f":"'3) Built-in voltage compensatio'!G629","v":""},0,"",{"$f":"'2) Check for series resistance'!D633-V_bi","v":0},{"$f":"'2) Check for series resistance'!C633","v":""},"","","","","","",0,"",null,null,null,null,0,""]
[595,{"$f":"'3) Built-in voltage compensatio'!F630","v":0},{"$f":"'3) Built-in voltage compensatio'!G630","v":""},0,"",{"$f":"'2) Check for series resistance'!D634-V_bi","v":0},{"$f":"'2) Check for series resistance'!C634","v":""},"","","","","","",0,"",null,null,null,null,0,""]
[596,{"$f":"'3) Built-in voltage compensatio'!F631","v":0},{"$f":"'3) Built-in voltage compensatio'!G631","v":""},0,"",{"$f":"'2) Check for series resistance'!D635-V_bi","v":0},{"$f":"'2) Check for series resistance'!C635","v":""},"","","","","","",0,"",null,null,null,null,0,""]
[597,{"$f":"'3) Built-in voltage compensatio'!F632","v":0},{"$f":"'3) Built-in voltage compensatio'!G632","v":""},0,"",{"$f":"'2) Check for series resistance'!D636-V_bi","v":0},{"$f":"'2) Check for series resistance'!C636","v":""},"","","","","","",0,"",null,null,null,null,0,""]
[598,{"$f":"'3) Built-in voltage compensatio'!F633","v":0},{"$f":"'3) Built-in voltage compensatio'!G633","v":""},0,"",{"$f":"'2) Check for series resistance'!D637-V_bi","v":0},{"$f":"'2) Check for series resistance'!C637","v":""},"","","","","","",0,"",null,null,null,null,0,""]
[599,{"$f":"'3) Built-in voltage compensatio'!F634","v":0},{"$f":"'3) Built-in voltage compensatio'!G634","v":""},0,"",{"$f":"'2) Check for series resistance'!D638-V_bi","v":0},{"$f":"'2) Check for series resistance'!C638","v":""},"","","","","","",0,"",null,null,null,null,0,""]
[600,{"$f":"'3) Built-in voltage compensatio'!F635","v":0},{"$f":"'3) Built-in voltage compensatio'!G635","v":""},0,"",{"$f":"'2) Check for series resistance'!D639-V_bi","v":0},{"$f":"'2) Check for series resistance'!C639","v":""},"","","","","","",0,"",null,null,null,null,0,""]
[601,{"$f":"'3) Built-in voltage compensatio'!F636","v":0},{"$f":"'3) Built-in voltage compensatio'!G636","v":""},0,"",{"$f":"'2) Check for series resistance'!D640-V_bi","v":0},{"$f":"'2) Check for series resistance'!C640","v":""},"","","","","","",0,"",null,null,null,null,0,""]
[602,{"$f":"'3) Built-in voltage compensatio'!F637","v":0},{"$f":"'3) Built-in voltage compensatio'!G637","v":""},0,"",{"$f":"'2) Check for series resistance'!D641-V_bi","v":0},{"$f":"'2) Check for series resistance'!C641","v":""},"","","","","","",0,"",null,null,null,null,0,""]
[603,{"$f":"'3) Built-in voltage compensatio'!F638","v":0},{"$f":"'3) Built-in voltage compensatio'!G638","v":""},0,"",{"$f":"'2) Check for series resistance'!D642-V_bi","v":0},{"$f":"'2) Check for series resistance'!C642","v":""},"","","","","","",0,"",null,null,null,null,0,""]
[604,{"$f":"'3) Built-in voltage compensatio'!F639","v":0},{"$f":"'3) Built-in voltage compensatio'!G639","v":""},0,"",{"$f":"'2) Check for series resistance'!D643-V_bi","v":0},{"$f":"'2) Check for series resistance'!C643","v":""},"","","","","","",0,"",null,null,null,null,0,""]
[605,{"$f":"'3) Built-in voltage compensatio'!F640","v":0},{"$f":"'3) Built-in voltage compensatio'!G640","v":""},0,"",{"$f":"'2) Check for series resistance'!D644-V_bi","v":0},{"$f":"'2) Check for series resistance'!C644","v":""},"","","","","","",0,"",null,null,null,null,0,""]
[606,{"$f":"'3) Built-in voltage compensatio'!F641","v":0},{"$f":"'3) Built-in voltage compensatio'!G641","v":""},0,"",{"$f":"'2) Check for series resistance'!D645-V_bi","v":0},{"$f":"'2) Check for series resistance'!C645","v":""},"","","","","","",0,"",null,null,null,null,0,""]
[607,{"$f":"'3) Built-in voltage compensatio'!F642","v":0},{"$f":"'3) Built-in voltage compensatio'!G642","v":""},0,"",{"$f":"'2) Check for series resistance'!D646-V_bi","v":0},{"$f":"'2) Check for series resistance'!C646","v":""},"","","","","","",0,"",null,null,null,null,0,""]
[608,{"$f":"'3) Built-in voltage compensatio'!F643","v":0},{"$f":"'3) Built-in voltage compensatio'!G643","v":""},0,"",{"$f":"'2) Check for series resistance'!D647-V_bi","v":0},{"$f":"'2) Check for series resistance'!C647","v":""},"","","","","","",0,"",null,null,null,null,0,""]
[609,{"$f":"'3) Built-in voltage compensatio'!F644","v":0},{"$f":"'3) Built-in voltage compensatio'!G644","v":""},0,"",{"$f":"'2) Check for series resistance'!D648-V_bi","v":0},{"$f":"'2) Check for series resistance'!C648","v":""},"","","","","","",0,"",null,null,null,null,0,""]
[610,{"$f":"'3) Built-in voltage compensatio'!F645","v":0},{"$f":"'3) Built-in voltage compensatio'!G645","v":""},0,"",{"$f":"'2) Check for series resistance'!D649-V_bi","v":0},{"$f":"'2) Check for series resistance'!C649","v":""},"","","","","","",0,"",null,null,null,null,0,""]
[611,{"$f":"'3) Built-in voltage compensatio'!F646","v":0},{"$f":"'3) Built-in voltage compensatio'!G646","v":""},0,"",{"$f":"'2) Check for series resistance'!D650-V_bi","v":0},{"$f":"'2) Check for series resistance'!C650","v":""},"","","","","","",0,"",null,null,null,null,0,""]
[612,{"$f":"'3) Built-in voltage compensatio'!F647","v":0},{"$f":"'3) Built-in voltage compensatio'!G647","v":""},0,"",{"$f":"'2) Check for series resistance'!D651-V_bi","v":0},{"$f":"'2) Check for series resistance'!C651","v":""},"","","","","","",0,"",null,null,null,null,0,""]
[613,{"$f":"'3) Built-in voltage compensatio'!F648","v":0},{"$f":"'3) Built-in voltage compensatio'!G648","v":""},0,"",{"$f":"'2) Check for series resistance'!D652-V_bi","v":0},{"$f":"'2) Check for series resistance'!C652","v":""},"","","","","","",0,"",null,null,null,null,0,""]
[614,{"$f":"'3) Built-in voltage compensatio'!F649","v":0},{"$f":"'3) Built-in voltage compensatio'!G649","v":""},0,"",{"$f":"'2) Check for series resistance'!D653-V_bi","v":0},{"$f":"'2) Check for series resistance'!C653","v":""},"","","","","","",0,"",null,null,null,null,0,""]
[615,{"$f":"'3) Built-in voltage compensatio'!F650","v":0},{"$f":"'3) Built-in voltage compensatio'!G650","v":""},0,"",{"$f":"'2) Check for series resistance'!D654-V_bi","v":0},{"$f":"'2) Check for series resistance'!C654","v":""},"","","","","","",0,"",null,null,null,null,0,""]
[616,{"$f":"'3) Built-in voltage compensatio'!F651","v":0},{"$f":"'3) Built-in voltage compensatio'!G651","v":""},0,"",{"$f":"'2) Check for series resistance'!D655-V_bi","v":0},{"$f":"'2) Check for series resistance'!C655","v":""},"","","","","","",0,"",null,null,null,null,0,""]
[617,{"$f":"'3) Built-in voltage compensatio'!F652","v":0},{"$f":"'3) Built-in voltage compensatio'!G652","v":""},0,"",{"$f":"'2) Check for series resistance'!D656-V_bi","v":0},{"$f":"'2) Check for series resistance'!C656","v":""},"","","","","","",0,"",null,null,null,null,0,""]
[618,{"$f":"'3) Built-in voltage compensatio'!F653","v":0},{"$f":"'3) Built-in voltage compensatio'!G653","v":""},0,"",{"$f":"'2) Check for series resistance'!D657-V_bi","v":0},{"$f":"'2) Check for series resistance'!C657","v":""},"","","","","","",0,"",null,null,null,null,0,""]
[619,{"$f":"'3) Built-in voltage compensatio'!F654","v":0},{"$f":"'3) Built-in voltage compensatio'!G654","v":""},0,"",{"$f":"'2) Check for series resistance'!D658-V_bi","v":0},{"$f":"'2) Check for series resistance'!C658","v":""},"","","","","","",0,"",null,null,null,null,0,""]
[620,{"$f":"'3) Built-in voltage compensatio'!F655","v":0},{"$f":"'3) Built-in voltage compensatio'!G655","v":""},0,"",{"$f":"'2) Check for series resistance'!D659-V_bi","v":0},{"$f":"'2) Check for series resistance'!C659","v":""},"","","","","","",0,"",null,null,null,null,0,""]
[621,{"$f":"'3) Built-in voltage compensatio'!F656","v":0},{"$f":"'3) Built-in voltage compensatio'!G656","v":""},0,"",{"$f":"'2) Check for series resistance'!D660-V_bi","v":0},{"$f":"'2) Check for series resistance'!C660","v":""},"","","","","","",0,"",null,null,null,null,0,""]
[622,{"$f":"'3) Built-in voltage compensatio'!F657","v":0},{"$f":"'3) Built-in voltage compensatio'!G657","v":""},0,"",{"$f":"'2) Check for series resistance'!D661-V_bi","v":0},{"$f":"'2) Check for series resistance'!C661","v":""},"","","","","","",0,"",null,null,null,null,0,""]
[623,{"$f":"'3) Built-in voltage compensatio'!F658","v":0},{"$f":"'3) Built-in voltage compensatio'!G658","v":""},0,"",{"$f":"'2) Check for series resistance'!D662-V_bi","v":0},{"$f":"'2) Check for series resistance'!C662","v":""},"","","","","","",0,"",null,null,null,null,0,""]
[624,{"$f":"'3) Built-in voltage compensatio'!F659","v":0},{"$f":"'3) Built-in voltage compensatio'!G659","v":""},0,"",{"$f":"'2) Check for series resistance'!D663-V_bi","v":0},{"$f":"'2) Check for series resistance'!C663","v":""},"","","","","","",0,"",null,null,null,null,0,""]
[625,{"$f":"'3) Built-in voltage compensatio'!F660","v":0},{"$f":"'3) Built-in voltage compensatio'!G660","v":""},0,"",{"$f":"'2) Check for series resistance'!D664-V_bi","v":0},{"$f":"'2) Check for series resistance'!C664","v":""},"","","","","","",0,"",null,null,null,null,0,""]
[626,{"$f":"'3) Built-in voltage compensatio'!F661","v":0},{"$f":"'3) Built-in voltage compensatio'!G661","v":""},0,"",{"$f":"'2) Check for series resistance'!D665-V_bi","v":0},{"$f":"'2) Check for series resistance'!C665","v":""},"","","","","","",0,"",null,null,null,null,0,""]
[627,{"$f":"'3) Built-in voltage compensatio'!F662","v":0},{"$f":"'3) Built-in voltage compensatio'!G662","v":""},0,"",{"$f":"'2) Check for series resistance'!D666-V_bi","v":0},{"$f":"'2) Check for series resistance'!C666","v":""},"","","","","","",0,"",null,null,null,null,0,""]
[628,{"$f":"'3) Built-in voltage compensatio'!F663","v":0},{"$f":"'3) Built-in voltage compensatio'!G663","v":""},0,"",{"$f":"'2) Check for series resistance'!D667-V_bi","v":0},{"$f":"'2) Check for series resistance'!C667","v":""},"","","","","","",0,"",null,null,null,null,0,""]
[629,{"$f":"'3) Built-in voltage compensatio'!F664","v":0},{"$f":"'3) Built-in voltage compensatio'!G664","v":""},0,"",{"$f":"'2) Check for series resistance'!D668-V_bi","v":0},{"$f":"'2) Check for series resistance'!C668","v":""},"","","","","","",0,"",null,null,null,null,0,""]
[630,{"$f":"'3) Built-in voltage compensatio'!F665","v":0},{"$f":"'3) Built-in voltage compensatio'!G665","v":""},0,"",{"$f":"'2) Check for series resistance'!D669-V_bi","v":0},{"$f":"'2) Check for series resistance'!C669","v":""},"","","","","","",0,"",null,null,null,null,0,""]
[631,{"$f":"'3) Built-in voltage compensatio'!F666","v":0},{"$f":"'3) Built-in voltage compensatio'!G666","v":""},0,"",{"$f":"'2) Check for series resistance'!D670-V_bi","v":0},{"$f":"'2) Check for series resistance'!C670","v":""},"","","","","","",0,"",null,null,null,null,0,""]
[632,{"$f":"'3) Built-in voltage compensatio'!F667","v":0},{"$f":"'3) Built-in voltage compensatio'!G667","v":""},0,"",{"$f":"'2) Check for series resistance'!D671-V_bi","v":0},{"$f":"'2) Check for series resistance'!C671","v":""},"","","","","","",0,"",null,null,null,null,0,""]
[633,{"$f":"'3) Built-in voltage compensatio'!F668","v":0},{"$f":"'3) Built-in voltage compensatio'!G668","v":""},0,"",{"$f":"'2) Check for series resistance'!D672-V_bi","v":0},{"$f":"'2) Check for series resistance'!C672","v":""},"","","","","","",0,"",null,null,null,null,0,""]
[634,{"$f":"'3) Built-in voltage compensatio'!F669","v":0},{"$f":"'3) Built-in voltage compensatio'!G669","v":""},0,"",{"$f":"'2) Check for series resistance'!D673-V_bi","v":0},{"$f":"'2) Check for series resistance'!C673","v":""},"","","","","","",0,"",null,null,null,null,0,""]
[635,{"$f":"'3) Built-in voltage compensatio'!F670","v":0},{"$f":"'3) Built-in voltage compensatio'!G670","v":""},0,"",{"$f":"'2) Check for series resistance'!D674-V_bi","v":0},{"$f":"'2) Check for series resistance'!C674","v":""},"","","","","","",0,"",null,null,null,null,0,""]
[636,{"$f":"'3) Built-in voltage compensatio'!F671","v":0},{"$f":"'3) Built-in voltage compensatio'!G671","v":""},0,"",{"$f":"'2) Check for series resistance'!D675-V_bi","v":0},{"$f":"'2) Check for series resistance'!C675","v":""},"","","","","","",0,"",null,null,null,null,0,""]
[637,{"$f":"'3) Built-in voltage compensatio'!F672","v":0},{"$f":"'3) Built-in voltage compensatio'!G672","v":""},0,"",{"$f":"'2) Check for series resistance'!D676-V_bi","v":0},{"$f":"'2) Check for series resistance'!C676","v":""},"","","","","","",0,"",null,null,null,null,0,""]
[638,{"$f":"'3) Built-in voltage compensatio'!F673","v":0},{"$f":"'3) Built-in voltage compensatio'!G673","v":""},0,"",{"$f":"'2) Check for series resistance'!D677-V_bi","v":0},{"$f":"'2) Check for series resistance'!C677","v":""},"","","","","","",0,"",null,null,null,null,0,""]
[639,{"$f":"'3) Built-in voltage compensatio'!F674","v":0},{"$f":"'3) Built-in voltage compensatio'!G674","v":""},0,"",{"$f":"'2) Check for series resistance'!D678-V_bi","v":0},{"$f":"'2) Check for series resistance'!C678","v":""},"","","","","","",0,"",null,null,null,null,0,""]
[640,{"$f":"'3) Built-in voltage compensatio'!F675","v":0},{"$f":"'3) Built-in voltage compensatio'!G675","v":""},0,"",{"$f":"'2) Check for series resistance'!D679-V_bi","v":0},{"$f":"'2) Check for series resistance'!C679","v":""},"","","","","","",0,"",null,null,null,null,0,""]
[641,{"$f":"'3) Built-in voltage compensatio'!F676","v":0},{"$f":"'3) Built-in voltage compensatio'!G676","v":""},0,{"$f":"IF(D679>=Vloewr,IF(D679<=Vupper,C679,\"\"),\"\")","v":""},{"$f":"'2) Check for series resistance'!D680-V_bi","v":0},{"$f":"'2) Check for series resistance'!C680","v":""},"","","","","","",0,{"$f":"IF(N679>0,A*(9/8)*mu0*eps*(B679*B679)/(d_cm*d_cm*d_cm)*EXP(0.891*gamma*SQRT(B679/d_cm)),\"\")","v":""},null,null,null,null,0,{"$f":"IF(T679>0,A*(9/8)*mu0*eps*(F679*F679)/(d_cm*d_cm*d_cm)*EXP(0.891*gamma*SQRT(F679/d_cm)),\"\")","v":""}]
[642,{"$f":"'3) Built-in voltage compensatio'!F677","v":0},{"$f":"'3) Built-in voltage compensatio'!G677","v":""},{"$f":"B680","v":0},"",{"$f":"'2) Check for series resistance'!D681-V_bi","v":0},{"$f":"'2) Check for series resistance'!C681","v":""},{"$f":"IF(D680>0,LOG10(D680),\"\")","v":""},{"$f":"IF(E680<>\"\",IF(E680>0,LOG10(E680),\"\"),\"\")","v":""},{"$f":"IF(AND(H680<>\"\",H680>0),LOG10(A*mu0*(9/8)*eps/(d_cm*d_cm*d_cm))+2*H680+0.387*POWER(10,H680/2)*gamma/SQRT(d_cm),\"\")","v":""},{"$f":"IF(AND(I680<>\"\",J680<>\"\"),I680-J680,\"\")","v":""},{"$f":"IF(K680<>\"\",K680*K680,\"\")","v":""},{"$f":"IF(AND(U680<>\"\",G680<>\"\"),IF(OR(G680/U680>1.258,G680/U680<0.794),\"\",F680),\"\")","v":""},{"$f":"B680","v":0},"",null,null,null,null,{"$f":"F680","v":0},""]
[643,{"$f":"'3) Built-in voltage compensatio'!F678","v":0},{"$f":"'3) Built-in voltage compensatio'!G678","v":""},0,"",{"$f":"'2) Check for series resistance'!D682-V_bi","v":0},{"$f":"'2) Check for series resistance'!C682","v":""},"","","","","","",0,"",null,null,null,null,0,""]
[644,{"$f":"'3) Built-in voltage compensatio'!F679","v":0},{"$f":"'3) Built-in voltage compensatio'!G679","v":""},0,"",{"$f":"'2) Check for series resistance'!D683-V_bi","v":0},{"$f":"'2) Check for series resistance'!C683","v":""},"","","","","","",0,"",null,null,null,null,0,""]
[645,{"$f":"'3) Built-in voltage compensatio'!F680","v":0},{"$f":"'3) Built-in voltage compensatio'!G680","v":""},0,"",{"$f":"'2) Check for series resistance'!D684-V_bi","v":0},{"$f":"'2) Check for series resistance'!C684","v":""},"","","","","","",0,"",null,null,null,null,0,""]
[646,{"$f":"'3) Built-in voltage compensatio'!F681","v":0},{"$f":"'3) Built-in voltage compensatio'!G681","v":""},0,"",{"$f":"'2) Check for series resistance'!D685-V_bi","v":0},{"$f":"'2) Check for series resistance'!C685","v":""},"","","","","","",0,"",null,null,null,null,0,""]
[647,{"$f":"'3) Built-in voltage compensatio'!F682","v":0},{"$f":"'3) Built-in voltage compensatio'!G682","v":""},0,"",{"$f":"'2) Check for series resistance'!D686-V_bi","v":0},{"$f":"'2) Check for series resistance'!C686","v":""},"","","","","","",0,"",null,null,null,null,0,""]
[648,{"$f":"'3) Built-in voltage compensatio'!F683","v":0},{"$f":"'3) Built-in voltage compensatio'!G683","v":""},0,"",{"$f":"'2) Check for series resistance'!D687-V_bi","v":0},{"$f":"'2) Check for series resistance'!C687","v":""},"","","","","","",0,"",null,null,null,null,0,""]
[649,{"$f":"'3) Built-in voltage compensatio'!F684","v":0},{"$f":"'3) Built-in voltage compensatio'!G684","v":""},0,"",{"$f":"'2) Check for series resistance'!D688-V_bi","v":0},{"$f":"'2) Check for series resistance'!C688","v":""},"","","","","","",0,"",null,null,null,null,0,""]
[650,{"$f":"'3) Built-in voltage compensatio'!F685","v":0},{"$f":"'3) Built-in voltage compensatio'!G685","v":""},0,"",{"$f":"'2) Check for series resistance'!D689-V_bi","v":0},{"$f":"'2) Check for series resistance'!C689","v":""},"","","","","","",0,"",null,null,null,null,0,""]
[651,{"$f":"'3) Built-in voltage compensatio'!F686","v":0},{"$f":"'3) Built-in voltage compensatio'!G686","v":""},0,"",{"$f":"'2) Check for series resistance'!D690-V_bi","v":0},{"$f":"'2) Check for series resistance'!C690","v":""},"","","","","","",0,"",null,null,null,null,0,""]
[652,{"$f":"'3) Built-in voltage compensatio'!F687","v":0},{"$f":"'3) Built-in voltage compensatio'!G687","v":""},0,"",{"$f":"'2) Check for series resistance'!D691-V_bi","v":0},{"$f":"'2) Check for series resistance'!C691","v":""},"","","","","","",0,"",null,null,null,null,0,""]
[653,{"$f":"'3) Built-in voltage compensatio'!F688","v":0},{"$f":"'3) Built-in voltage compensatio'!G688","v":""},0,"",{"$f":"'2) Check for series resistance'!D692-V_bi","v":0},{"$f":"'2) Check for series resistance'!C692","v":""},"","","","","","",0,"",null,null,null,null,0,""]
[654,{"$f":"'3) Built-in voltage compensatio'!F689","v":0},{"$f":"'3) Built-in voltage compensatio'!G689","v":""},0,"",{"$f":"'2) Check for series resistance'!D693-V_bi","v":0},{"$f":"'2) Check for series resistance'!C693","v":""},"","","","","","",0,"",null,null,null,null,0,""]
[655,{"$f":"'3) Built-in voltage compensatio'!F690","v":0},{"$f":"'3) Built-in voltage compensatio'!G690","v":""},0,"",{"$f":"'2) Check for series resistance'!D694-V_bi","v":0},{"$f":"'2) Check for series resistance'!C694","v":""},"","","","","","",0,"",null,null,null,null,0,""]
[656,{"$f":"'3) Built-in voltage compensatio'!F691","v":0},{"$f":"'3) Built-in voltage compensatio'!G691","v":""},0,"",{"$f":"'2) Check for series resistance'!D695-V_bi","v":0},{"$f":"'2) Check for series resistance'!C695","v":""},"","","","","","",0,"",null,null,null,null,0,""]
[657,{"$f":"'3) Built-in voltage compensatio'!F692","v":0},{"$f":"'3) Built-in voltage compensatio'!G692","v":""},0,"",{"$f":"'2) Check for series resistance'!D696-V_bi","v":0},{"$f":"'2) Check for series resistance'!C696","v":""},"","","","","","",0,"",null,null,null,null,0,""]
[658,{"$f":"'3) Built-in voltage compensatio'!F693","v":0},{"$f":"'3) Built-in voltage compensatio'!G693","v":""},0,"",{"$f":"'2) Check for series resistance'!D697-V_bi","v":0},{"$f":"'2) Check for series resistance'!C697","v":""},"","","","","","",0,"",null,null,null,null,0,""]
[659,{"$f":"'3) Built-in voltage compensatio'!F694","v":0},{"$f":"'3) Built-in voltage compensatio'!G694","v":""},0,"",{"$f":"'2) Check for series resistance'!D698-V_bi","v":0},{"$f":"'2) Check for series resistance'!C698","v":""},"","","","","","",0,"",null,null,null,null,0,""]
[660,{"$f":"'3) Built-in voltage compensatio'!F695","v":0},{"$f":"'3) Built-in voltage compensatio'!G695","v":""},0,"",{"$f":"'2) Check for series resistance'!D699-V_bi","v":0},{"$f":"'2) Check for series resistance'!C699","v":""},"","","","","","",0,"",null,null,null,null,0,""]
[661,{"$f":"'3) Built-in voltage compensatio'!F696","v":0},{"$f":"'3) Built-in voltage compensatio'!G696","v":""},0,"",{"$f":"'2) Check for series resistance'!D700-V_bi","v":0},{"$f":"'2) Check for series resistance'!C700","v":""},"","","","","","",0,"",null,null,null,null,0,""]
[662,{"$f":"'3) Built-in voltage compensatio'!F697","v":0},{"$f":"'3) Built-in voltage compensatio'!G697","v":""},0,"",{"$f":"'2) Check for series resistance'!D701-V_bi","v":0},{"$f":"'2) Check for series resistance'!C701","v":""},"","","","","","",0,"",null,null,null,null,0,""]
[663,{"$f":"'3) Built-in voltage compensatio'!F698","v":0},{"$f":"'3) Built-in voltage compensatio'!G698","v":""},0,"",{"$f":"'2) Check for series resistance'!D702-V_bi","v":0},{"$f":"'2) Check for series resistance'!C702","v":""},"","","","","","",0,"",null,null,null,null,0,""]
[664,{"$f":"'3) Built-in voltage compensatio'!F699","v":0},{"$f":"'3) Built-in voltage compensatio'!G699","v":""},0,"",{"$f":"'2) Check for series resistance'!D703-V_bi","v":0},{"$f":"'2) Check for series resistance'!C703","v":""},"","","","","","",0,"",null,null,null,null,0,""]
[665,{"$f":"'3) Built-in voltage compensatio'!F700","v":0},{"$f":"'3) Built-in voltage compensatio'!G700","v":""},0,"",{"$f":"'2) Check for series resistance'!D704-V_bi","v":0},{"$f":"'2) Check for series resistance'!C704","v":""},"","","","","","",0,"",null,null,null,null,0,""]
[666,{"$f":"'3) Built-in voltage compensatio'!F701","v":0},{"$f":"'3) Built-in voltage compensatio'!G701","v":""},0,"",{"$f":"'2) Check for series resistance'!D705-V_bi","v":0},{"$f":"'2) Check for series resistance'!C705","v":""},"","","","","","",0,"",null,null,null,null,0,""]
[667,{"$f":"'3) Built-in voltage compensatio'!F702","v":0},{"$f":"'3) Built-in voltage compensatio'!G702","v":""},0,"",{"$f":"'2) Check for series resistance'!D706-V_bi","v":0},{"$f":"'2) Check for series resistance'!C706","v":""},"","","","","","",0,"",null,null,null,null,0,""]
[668,{"$f":"'3) Built-in voltage compensatio'!F703","v":0},{"$f":"'3) Built-in voltage compensatio'!G703","v":""},0,"",{"$f":"'2) Check for series resistance'!D707-V_bi","v":0},{"$f":"'2) Check for series resistance'!C707","v":""},"","","","","","",0,"",null,null,null,null,0,""]
[669,{"$f":"'3) Built-in voltage compensatio'!F704","v":0},{"$f":"'3) Built-in voltage compensatio'!G704","v":""},0,"",{"$f":"'2) Check for series resistance'!D708-V_bi","v":0},{"$f":"'2) Check for series resistance'!C708","v":""},"","","","","","",0,"",null,null,null,null,0,""]
[670,{"$f":"'3) Built-in voltage compensatio'!F705","v":0},{"$f":"'3) Built-in voltage compensatio'!G705","v":""},0,"",{"$f":"'2) Check for series resistance'!D709-V_bi","v":0},{"$f":"'2) Check for series resistance'!C709","v":""},"","","","","","",0,"",null,null,null,null,0,""]
[671,{"$f":"'3) Built-in voltage compensatio'!F706","v":0},{"$f":"'3) Built-in voltage compensatio'!G706","v":""},0,"",{"$f":"'2) Check for series resistance'!D710-V_bi","v":0},{"$f":"'2) Check for series resistance'!C710","v":""},"","","","","","",0,"",null,null,null,null,0,""]
[672,{"$f":"'3) Built-in voltage compensatio'!F707","v":0},{"$f":"'3) Built-in voltage compensatio'!G707","v":""},0,"",{"$f":"'2) Check for series resistance'!D711-V_bi","v":0},{"$f":"'2) Check for series resistance'!C711","v":""},"","","","","","",0,"",null,null,null,null,0,""]
[673,{"$f":"'3) Built-in voltage compensatio'!F708","v":0},{"$f":"'3) Built-in voltage compensatio'!G708","v":""},0,"",{"$f":"'2) Check for series resistance'!D712-V_bi","v":0},{"$f":"'2) Check for series resistance'!C712","v":""},"","","","","","",0,"",null,null,null,null,0,""]
[674,{"$f":"'3) Built-in voltage compensatio'!F709","v":0},{"$f":"'3) Built-in voltage compensatio'!G709","v":""},0,"",{"$f":"'2) Check for series resistance'!D713-V_bi","v":0},{"$f":"'2) Check for series resistance'!C713","v":""},"","","","","","",0,"",null,null,null,null,0,""]
[675,{"$f":"'3) Built-in voltage compensatio'!F710","v":0},{"$f":"'3) Built-in voltage compensatio'!G710","v":""},0,"",{"$f":"'2) Check for series resistance'!D714-V_bi","v":0},{"$f":"'2) Check for series resistance'!C714","v":""},"","","","","","",0,"",null,null,null,null,0,""]
[676,{"$f":"'3) Built-in voltage compensatio'!F711","v":0},{"$f":"'3) Built-in voltage compensatio'!G711","v":""},0,"",{"$f":"'2) Check for series resistance'!D715-V_bi","v":0},{"$f":"'2) Check for series resistance'!C715","v":""},"","","","","","",0,"",null,null,null,null,0,""]
[677,{"$f":"'3) Built-in voltage compensatio'!F712","v":0},{"$f":"'3) Built-in voltage compensatio'!G712","v":""},0,"",{"$f":"'2) Check for series resistance'!D716-V_bi","v":0},{"$f":"'2) Check for series resistance'!C716","v":""},"","","","","","",0,"",null,null,null,null,0,""]
[678,{"$f":"'3) Built-in voltage compensatio'!F713","v":0},{"$f":"'3) Built-in voltage compensatio'!G713","v":""},0,"",{"$f":"'2) Check for series resistance'!D717-V_bi","v":0},{"$f":"'2) Check for series resistance'!C717","v":""},"","","","","","",0,"",null,null,null,null,0,""]
[679,{"$f":"'3) Built-in voltage compensatio'!F714","v":0},{"$f":"'3) Built-in voltage compensatio'!G714","v":""},0,"",{"$f":"'2) Check for series resistance'!D718-V_bi","v":0},{"$f":"'2) Check for series resistance'!C718","v":""},"","","","","","",0,"",null,null,null,null,0,""]
[680,{"$f":"'3) Built-in voltage compensatio'!F715","v":0},{"$f":"'3) Built-in voltage compensatio'!G715","v":""},0,"",{"$f":"'2) Check for series resistance'!D719-V_bi","v":0},{"$f":"'2) Check for series resistance'!C719","v":""},"","","","","","",0,"",null,null,null,null,0,""]
[681,{"$f":"'3) Built-in voltage compensatio'!F716","v":0},{"$f":"'3) Built-in voltage compensatio'!G716","v":""},0,"",{"$f":"'2) Check for series resistance'!D720-V_bi","v":0},{"$f":"'2) Check for series resistance'!C720","v":""},"","","","","","",0,"",null,null,null,null,0,""]
[682,{"$f":"'3) Built-in voltage compensatio'!F717","v":0},{"$f":"'3) Built-in voltage compensatio'!G717","v":""},0,"",{"$f":"'2) Check for series resistance'!D721-V_bi","v":0},{"$f":"'2) Check for series resistance'!C721","v":""},"","","","","","",0,"",null,null,null,null,0,""]
[683,{"$f":"'3) Built-in voltage compensatio'!F718","v":0},{"$f":"'3) Built-in voltage compensatio'!G718","v":""},0,"",{"$f":"'2) Check for series resistance'!D722-V_bi","v":0},{"$f":"'2) Check for series resistance'!C722","v":""},"","","","","","",0,"",null,null,null,null,0,""]
[684,{"$f":"'3) Built-in voltage compensatio'!F719","v":0},{"$f":"'3) Built-in voltage compensatio'!G719","v":""},0,"",{"$f":"'2) Check for series resistance'!D723-V_bi","v":0},{"$f":"'2) Check for series resistance'!C723","v":""},"","","","","","",0,"",null,null,null,null,0,""]
[685,{"$f":"'3) Built-in voltage compensatio'!F720","v":0},{"$f":"'3) Built-in voltage compensatio'!G720","v":""},0,"",{"$f":"'2) Check for series resistance'!D724-V_bi","v":0},{"$f":"'2) Check for series resistance'!C724","v":""},"","","","","","",0,"",null,null,null,null,0,""]
[686,{"$f":"'3) Built-in voltage compensatio'!F721","v":0},{"$f":"'3) Built-in voltage compensatio'!G721","v":""},0,"",{"$f":"'2) Check for series resistance'!D725-V_bi","v":0},{"$f":"'2) Check for series resistance'!C725","v":""},"","","","","","",0,"",null,null,null,null,0,""]
[687,{"$f":"'3) Built-in voltage compensatio'!F722","v":0},{"$f":"'3) Built-in voltage compensatio'!G722","v":""},0,"",{"$f":"'2) Check for series resistance'!D726-V_bi","v":0},{"$f":"'2) Check for series resistance'!C726","v":""},"","","","","","",0,"",null,null,null,null,0,""]
[688,{"$f":"'3) Built-in voltage compensatio'!F723","v":0},{"$f":"'3) Built-in voltage compensatio'!G723","v":""},0,"",{"$f":"'2) Check for series resistance'!D727-V_bi","v":0},{"$f":"'2) Check for series resistance'!C727","v":""},"","","","","","",0,"",null,null,null,null,0,""]
[689,{"$f":"'3) Built-in voltage compensatio'!F724","v":0},{"$f":"'3) Built-in voltage compensatio'!G724","v":""},0,"",{"$f":"'2) Check for series resistance'!D728-V_bi","v":0},{"$f":"'2) Check for series resistance'!C728","v":""},"","","","","","",0,"",null,null,null,null,0,""]
[690,{"$f":"'3) Built-in voltage compensatio'!F725","v":0},{"$f":"'3) Built-in voltage compensatio'!G725","v":""},0,"",{"$f":"'2) Check for series resistance'!D729-V_bi","v":0},{"$f":"'2) Check for series resistance'!C729","v":""},"","","","","","",0,"",null,null,null,null,0,""]
[691,{"$f":"'3) Built-in voltage compensatio'!F726","v":0},{"$f":"'3) Built-in voltage compensatio'!G726","v":""},0,"",{"$f":"'2) Check for series resistance'!D730-V_bi","v":0},{"$f":"'2) Check for series resistance'!C730","v":""},"","","","","","",0,"",null,null,null,null,0,""]
[692,{"$f":"'3) Built-in voltage compensatio'!F727","v":0},{"$f":"'3) Built-in voltage compensatio'!G727","v":""},0,"",{"$f":"'2) Check for series resistance'!D731-V_bi","v":0},{"$f":"'2) Check for series resistance'!C731","v":""},"","","","","","",0,"",null,null,null,null,0,""]
[693,{"$f":"'3) Built-in voltage compensatio'!F728","v":0},{"$f":"'3) Built-in voltage compensatio'!G728","v":""},0,"",{"$f":"'2) Check for series resistance'!D732-V_bi","v":0},{"$f":"'2) Check for series resistance'!C732","v":""},"","","","","","",0,"",null,null,null,null,0,""]
[694,{"$f":"'3) Built-in voltage compensatio'!F729","v":0},{"$f":"'3) Built-in voltage compensatio'!G729","v":""},0,"",{"$f":"'2) Check for series resistance'!D733-V_bi","v":0},{"$f":"'2) Check for series resistance'!C733","v":""},"","","","","","",0,"",null,null,null,null,0,""]
[695,{"$f":"'3) Built-in voltage compensatio'!F730","v":0},{"$f":"'3) Built-in voltage compensatio'!G730","v":""},0,"",{"$f":"'2) Check for series resistance'!D734-V_bi","v":0},{"$f":"'2) Check for series resistance'!C734","v":""},"","","","","","",0,"",null,null,null,null,0,""]
[696,{"$f":"'3) Built-in voltage compensatio'!F731","v":0},{"$f":"'3) Built-in voltage compensatio'!G731","v":""},0,"",{"$f":"'2) Check for series resistance'!D735-V_bi","v":0},{"$f":"'2) Check for series resistance'!C735","v":""},"","","","","","",0,"",null,null,null,null,0,""]
[697,{"$f":"'3) Built-in voltage compensatio'!F732","v":0},{"$f":"'3) Built-in voltage compensatio'!G732","v":""},0,"",{"$f":"'2) Check for series resistance'!D736-V_bi","v":0},{"$f":"'2) Check for series resistance'!C736","v":""},"","","","","","",0,"",null,null,null,null,0,""]
[698,{"$f":"'3) Built-in voltage compensatio'!F733","v":0},{"$f":"'3) Built-in voltage compensatio'!G733","v":""},0,"",{"$f":"'2) Check for series resistance'!D737-V_bi","v":0},{"$f":"'2) Check for series resistance'!C737","v":""},"","","","","","",0,"",null,null,null,null,0,""]
[699,{"$f":"'3) Built-in voltage compensatio'!F734","v":0},{"$f":"'3) Built-in voltage compensatio'!G734","v":""},0,"",{"$f":"'2) Check for series resistance'!D738-V_bi","v":0},{"$f":"'2) Check for series resistance'!C738","v":""},"","","","","","",0,"",null,null,null,null,0,""]
[700,{"$f":"'3) Built-in voltage compensatio'!F735","v":0},{"$f":"'3) Built-in voltage compensatio'!G735","v":""},0,"",{"$f":"'2) Check for series resistance'!D739-V_bi","v":0},{"$f":"'2) Check for series resistance'!C739","v":""},"","","","","","",0,"",null,null,null,null,0,""]
[701,{"$f":"'3) Built-in voltage compensatio'!F736","v":0},{"$f":"'3) Built-in voltage compensatio'!G736","v":""},0,"",{"$f":"'2) Check for series resistance'!D740-V_bi","v":0},{"$f":"'2) Check for series resistance'!C740","v":""},"","","","","","",0,"",null,null,null,null,0,""]
[702,{"$f":"'3) Built-in voltage compensatio'!F737","v":0},{"$f":"'3) Built-in voltage compensatio'!G737","v":""},0,"",{"$f":"'2) Check for series resistance'!D741-V_bi","v":0},{"$f":"'2) Check for series resistance'!C741","v":""},"","","","","","",0,"",null,null,null,null,0,""]
[703,{"$f":"'3) Built-in voltage compensatio'!F738","v":0},{"$f":"'3) Built-in voltage compensatio'!G738","v":""},0,"",{"$f":"'2) Check for series resistance'!D742-V_bi","v":0},{"$f":"'2) Check for series resistance'!C742","v":""},"","","","","","",0,"",null,null,null,null,0,""]
[704,{"$f":"'3) Built-in voltage compensatio'!F739","v":0},{"$f":"'3) Built-in voltage compensatio'!G739","v":""},0,"",{"$f":"'2) Check for series resistance'!D743-V_bi","v":0},{"$f":"'2) Check for series resistance'!C743","v":""},"","","","","","",0,"",null,null,null,null,0,""]
[705,{"$f":"'3) Built-in voltage compensatio'!F740","v":0},{"$f":"'3) Built-in voltage compensatio'!G740","v":""},0,{"$f":"IF(D743>=Vloewr,IF(D743<=Vupper,C743,\"\"),\"\")","v":""},{"$f":"'2) Check for series resistance'!D744-V_bi","v":0},{"$f":"'2) Check for series resistance'!C744","v":""},"","","","","","",0,{"$f":"IF(N743>0,A*(9/8)*mu0*eps*(B743*B743)/(d_cm*d_cm*d_cm)*EXP(0.891*gamma*SQRT(B743/d_cm)),\"\")","v":""},null,null,null,null,0,{"$f":"IF(T743>0,A*(9/8)*mu0*eps*(F743*F743)/(d_cm*d_cm*d_cm)*EXP(0.891*gamma*SQRT(F743/d_cm)),\"\")","v":""}]
[706,{"$f":"'3) Built-in voltage compensatio'!F741","v":0},{"$f":"'3) Built-in voltage compensatio'!G741","v":""},{"$f":"B744","v":0},"",{"$f":"'2) Check for series resistance'!D745-V_bi","v":0},{"$f":"'2) Check for series resistance'!C745","v":""},{"$f":"IF(D744>0,LOG10(D744),\"\")","v":""},{"$f":"IF(E744<>\"\",IF(E744>0,LOG10(E744),\"\"),\"\")","v":""},{"$f":"IF(AND(H744<>\"\",H744>0),LOG10(A*mu0*(9/8)*eps/(d_cm*d_cm*d_cm))+2*H744+0.387*POWER(10,H744/2)*gamma/SQRT(d_cm),\"\")","v":""},{"$f":"IF(AND(I744<>\"\",J744<>\"\"),I744-J744,\"\")","v":""},{"$f":"IF(K744<>\"\",K744*K744,\"\")","v":""},{"$f":"IF(AND(U744<>\"\",G744<>\"\"),IF(OR(G744/U744>1.258,G744/U744<0.794),\"\",F744),\"\")","v":""},{"$f":"B744","v":0},"",null,null,null,null,{"$f":"F744","v":0},""]
[707,{"$f":"'3) Built-in voltage compensatio'!F742","v":0},{"$f":"'3) Built-in voltage compensatio'!G742","v":""},0,"",{"$f":"'2) Check for series resistance'!D746-V_bi","v":0},{"$f":"'2) Check for series resistance'!C746","v":""},"","","","","","",0,"",null,null,null,null,0,""]
[708,{"$f":"'3) Built-in voltage compensatio'!F743","v":0},{"$f":"'3) Built-in voltage compensatio'!G743","v":""},0,"",{"$f":"'2) Check for series resistance'!D747-V_bi","v":0},{"$f":"'2) Check for series resistance'!C747","v":""},"","","","","","",0,"",null,null,null,null,0,""]
[709,{"$f":"'3) Built-in voltage compensatio'!F744","v":0},{"$f":"'3) Built-in voltage compensatio'!G744","v":""},0,"",{"$f":"'2) Check for series resistance'!D748-V_bi","v":0},{"$f":"'2) Check for series resistance'!C748","v":""},"","","","","","",0,"",null,null,null,null,0,""]
[710,{"$f":"'3) Built-in voltage compensatio'!F745","v":0},{"$f":"'3) Built-in voltage compensatio'!G745","v":""},0,"",{"$f":"'2) Check for series resistance'!D749-V_bi","v":0},{"$f":"'2) Check for series resistance'!C749","v":""},"","","","","","",0,"",null,null,null,null,0,""]
[711,{"$f":"'3) Built-in voltage compensatio'!F746","v":0},{"$f":"'3) Built-in voltage compensatio'!G746","v":""},0,"",{"$f":"'2) Check for series resistance'!D750-V_bi","v":0},{"$f":"'2) Check for series resistance'!C750","v":""},"","","","","","",0,"",null,null,null,null,0,""]
[712,{"$f":"'3) Built-in voltage compensatio'!F747","v":0},{"$f":"'3) Built-in voltage compensatio'!G747","v":""},0,"",{"$f":"'2) Check for series resistance'!D751-V_bi","v":0},{"$f":"'2) Check for series resistance'!C751","v":""},"","","","","","",0,"",null,null,null,null,0,""]
[713,{"$f":"'3) Built-in voltage compensatio'!F748","v":0},{"$f":"'3) Built-in voltage compensatio'!G748","v":""},0,"",{"$f":"'2) Check for series resistance'!D752-V_bi","v":0},{"$f":"'2) Check for series resistance'!C752","v":""},"","","","","","",0,"",null,null,null,null,0,""]
[714,{"$f":"'3) Built-in voltage compensatio'!F749","v":0},{"$f":"'3) Built-in voltage compensatio'!G749","v":""},0,"",{"$f":"'2) Check for series resistance'!D753-V_bi","v":0},{"$f":"'2) Check for series resistance'!C753","v":""},"","","","","","",0,"",null,null,null,null,0,""]
[715,{"$f":"'3) Built-in voltage compensatio'!F750","v":0},{"$f":"'3) Built-in voltage compensatio'!G750","v":""},0,"",{"$f":"'2) Check for series resistance'!D754-V_bi","v":0},{"$f":"'2) Check for series resistance'!C754","v":""},"","","","","","",0,"",null,null,null,null,0,""]
[716,{"$f":"'3) Built-in voltage compensatio'!F751","v":0},{"$f":"'3) Built-in voltage compensatio'!G751","v":""},0,"",{"$f":"'2) Check for series resistance'!D755-V_bi","v":0},{"$f":"'2) Check for series resistance'!C755","v":""},"","","","","","",0,"",null,null,null,null,0,""]
[717,{"$f":"'3) Built-in voltage compensatio'!F752","v":0},{"$f":"'3) Built-in voltage compensatio'!G752","v":""},0,"",{"$f":"'2) Check for series resistance'!D756-V_bi","v":0},{"$f":"'2) Check for series resistance'!C756","v":""},"","","","","","",0,"",null,null,null,null,0,""]
[718,{"$f":"'3) Built-in voltage compensatio'!F753","v":0},{"$f":"'3) Built-in voltage compensatio'!G753","v":""},0,"",{"$f":"'2) Check for series resistance'!D757-V_bi","v":0},{"$f":"'2) Check for series resistance'!C757","v":""},"","","","","","",0,"",null,null,null,null,0,""]

{"sheet":"Validation","index":6,"n_rows":16,"n_cols":9,"rows_kept":16,"cut":false,"hidden":true,"merged":[]}
[]
[]
[]
[null,null,null,null,null,null,"q1","q2","q3"]
[]
[null,null,"Sheet 1 complete?",null,{"$f":"n_select>0","v":false}]
[]
[null,null,"Sheet 2 complete?",null,{"$f":"AND(F8:L8)","v":false},null,{"$f":"'2) Check for series resistance'!B5>0","v":false},{"$f":"OR('2) Check for series resistance'!B5=2, AND('2) Check for series resistance'!B5=1,'2) Check for series resistance'!B14>0))","v":false},{"$f":"OR('2) Check for series resistance'!C31=FALSE,'2) Check for series resistance'!B19>0)","v":true}]
[]
[null,null,"Sheet 3 complete?",null,{"$f":"AND(F10:L10)","v":false},null,{"$f":"'3) Built-in voltage compensatio'!B10>0","v":false}]
[]
[null,null,"sheet 4",null,{"$f":"AND(F12:L12)","v":false},null,{"$f":"d_nm>0","v":false},{"$f":"area>0","v":false},{"$f":"IF('4) Select data for fitting'!R43=TRUE,TRUE,FALSE)","v":true}]
[]
[]
[null,null,"All",null,{"$f":"AND(E6:E12)","v":false}]
[null,null,null,null,{"$f":"IF(E15=TRUE,\"Complete\",IF(E6=FALSE,\"Step 1 incomplete\",IF(E8=FALSE,\"Step 2 incomplete\",IF(E10=FALSE,\"Step 3 incomplete\",IF(E12=FALSE,\"Step 4 incomplete\")))))","v":"Step 1 incomplete"}]

{"sheet":"Version control, testing","index":7,"n_rows":8,"n_cols":5,"rows_kept":8,"cut":false,"hidden":false,"merged":[]}
[null,"Author","James Blakesley",null,"NPL"]
[]
[null,"2013-01-12","Version 01",null,"First complete trial"]
[null,"2013-01-17","Version 02",null,"Cells locked to prevent users from 'breaking' code. Password is PCDTBT"]
[null,null,null,null,"Comments boxes added to each tab and report"]
[null,null,null,null,"Graph added to report page"]
[null,"2013-03-05","Version 03",null,"Data rows and validation sheet are now hidden."]
[null,"2013-04-18","Version 04",null,"Corrected error of using series resistance when none is selected"]